BEGIN:VCALENDAR
VERSION:2.0
PRODID:https://www.kufer.de/kuferweb / DE
METHOD:PUBLISH
CALSCALE:GREGORIAN
X-WR-TIMEZONE:Europe/Berlin
BEGIN:VTIMEZONE
TZID:Europe/Berlin
X-LIC-LOCATION:Europe/Berlin
BEGIN:DAYLIGHT
TZOFFSETFROM:+0100
TZOFFSETTO:+0200
TZNAME:CEST
DTSTART:19700329T020000
RRULE:FREQ=YEARLY;INTERVAL=1;BYDAY=-1SU;BYMONTH=3
END:DAYLIGHT
BEGIN:STANDARD
TZOFFSETFROM:+0200
TZOFFSETTO:+0100
TZNAME:CET
DTSTART:19701025T030000
RRULE:FREQ=YEARLY;INTERVAL=1;BYDAY=-1SU;BYMONTH=10
END:STANDARD
END:VTIMEZONE
BEGIN:VEVENT
DTSTAMP:20260422T175459
DTSTART;TZID=Europe/Berlin:20260817T180000
DTEND;TZID=Europe/Berlin:20260817T190000
UID:262900010P-20260817T180000@VHSPAPENBURG
DESCRIPTION:Yoga auf dem Stuhl
SUMMARY:Hyggewoche - 10 Kurse für 15 € - (262900010P) 
LOCATION:vhs, Raum S 1.04, Hauptkanal rechts 72, 26871 Papenburg
END:VEVENT
BEGIN:VEVENT
DTSTAMP:20260422T175459
DTSTART;TZID=Europe/Berlin:20260817T193000
DTEND;TZID=Europe/Berlin:20260817T203000
UID:262900010P-20260817T193000@VHSPAPENBURG
DESCRIPTION:Embodiment & Klopftechniken - wenn Reden nicht reicht
SUMMARY:Hyggewoche - 10 Kurse für 15 € - (262900010P) 
LOCATION:vhs, Raum S 2.06, Hauptkanal rechts 72, 26871 Papenburg
END:VEVENT
BEGIN:VEVENT
DTSTAMP:20260422T175459
DTSTART;TZID=Europe/Berlin:20260818T180000
DTEND;TZID=Europe/Berlin:20260818T190000
UID:262900010P-20260818T180000@VHSPAPENBURG
DESCRIPTION:Italienisch Schnupperkurs
SUMMARY:Hyggewoche - 10 Kurse für 15 € - (262900010P) 
LOCATION:vhs, Raum S 2.06, Hauptkanal rechts 72, 26871 Papenburg
END:VEVENT
BEGIN:VEVENT
DTSTAMP:20260422T175459
DTSTART;TZID=Europe/Berlin:20260818T193000
DTEND;TZID=Europe/Berlin:20260818T203000
UID:262900010P-20260818T193000@VHSPAPENBURG
DESCRIPTION:Emotionale Balance
SUMMARY:Hyggewoche - 10 Kurse für 15 € - (262900010P) 
LOCATION:VHS-Online-Schulung: vom Arbeitsplatz oder von zu Hause aus, , 
END:VEVENT
BEGIN:VEVENT
DTSTAMP:20260422T175459
DTSTART;TZID=Europe/Berlin:20260819T180000
DTEND;TZID=Europe/Berlin:20260819T190000
UID:262900010P-20260819T180000@VHSPAPENBURG
DESCRIPTION:Rückenfit
SUMMARY:Hyggewoche - 10 Kurse für 15 € - (262900010P) 
LOCATION:vhs, Raum S 1.05, Hauptkanal rechts 72, 26871 Papenburg
END:VEVENT
BEGIN:VEVENT
DTSTAMP:20260422T175459
DTSTART;TZID=Europe/Berlin:20260819T193000
DTEND;TZID=Europe/Berlin:20260819T203000
UID:262900010P-20260819T193000@VHSPAPENBURG
DESCRIPTION:Gefühlsausbrüche - Wenn der Sturm in deinem Kind tobt
SUMMARY:Hyggewoche - 10 Kurse für 15 € - (262900010P) 
LOCATION:vhs, Raum S 2.06, Hauptkanal rechts 72, 26871 Papenburg
END:VEVENT
BEGIN:VEVENT
DTSTAMP:20260422T175459
DTSTART;TZID=Europe/Berlin:20260820T180000
DTEND;TZID=Europe/Berlin:20260820T190000
UID:262900010P-20260820T180000@VHSPAPENBURG
DESCRIPTION:Tai Chi
SUMMARY:Hyggewoche - 10 Kurse für 15 € - (262900010P) 
LOCATION:vhs, Raum S 1.05, Hauptkanal rechts 72, 26871 Papenburg
END:VEVENT
BEGIN:VEVENT
DTSTAMP:20260422T175459
DTSTART;TZID=Europe/Berlin:20260820T193000
DTEND;TZID=Europe/Berlin:20260820T203000
UID:262900010P-20260820T193000@VHSPAPENBURG
DESCRIPTION:Gitarrenschnupperkurs
SUMMARY:Hyggewoche - 10 Kurse für 15 € - (262900010P) 
LOCATION:vhs, Raum S 2.06, Hauptkanal rechts 72, 26871 Papenburg
END:VEVENT
BEGIN:VEVENT
DTSTAMP:20260422T175459
DTSTART;TZID=Europe/Berlin:20260821T143000
DTEND;TZID=Europe/Berlin:20260821T153000
UID:262900010P-20260821T143000@VHSPAPENBURG
DESCRIPTION:English Afternoon Tea
SUMMARY:Hyggewoche - 10 Kurse für 15 € - (262900010P) 
LOCATION:vhs, Raum V 1.06, Saal, Hauptkanal rechts 72, 26871 Papenburg
END:VEVENT
BEGIN:VEVENT
DTSTAMP:20260422T175459
DTSTART;TZID=Europe/Berlin:20260821T160000
DTEND;TZID=Europe/Berlin:20260821T170000
UID:262900010P-20260821T160000@VHSPAPENBURG
DESCRIPTION:Darmgesundheit
SUMMARY:Hyggewoche - 10 Kurse für 15 € - (262900010P) 
LOCATION:vhs, Raum S 2.06, Hauptkanal rechts 72, 26871 Papenburg
END:VEVENT
END:VCALENDAR