BEGIN:VCALENDAR
VERSION:2.0
PRODID:https://www.kufer.de/kuferweb / DE
METHOD:PUBLISH
CALSCALE:GREGORIAN
X-WR-TIMEZONE:Europe/Berlin
BEGIN:VTIMEZONE
TZID:Europe/Berlin
X-LIC-LOCATION:Europe/Berlin
BEGIN:DAYLIGHT
TZOFFSETFROM:+0100
TZOFFSETTO:+0200
TZNAME:CEST
DTSTART:19700329T020000
RRULE:FREQ=YEARLY;INTERVAL=1;BYDAY=-1SU;BYMONTH=3
END:DAYLIGHT
BEGIN:STANDARD
TZOFFSETFROM:+0200
TZOFFSETTO:+0100
TZNAME:CET
DTSTART:19701025T030000
RRULE:FREQ=YEARLY;INTERVAL=1;BYDAY=-1SU;BYMONTH=10
END:STANDARD
END:VTIMEZONE
BEGIN:VEVENT
DTSTAMP:20260422T185813
DTSTART;TZID=Europe/Berlin:20260813T183000
DTEND;TZID=Europe/Berlin:20260813T213000
UID:262508150P-20260813T183000@VHSPAPENBURG
SUMMARY:Smalltalk trainieren - Beruflich  und  privat  neue  Kontakte  knüpfen ONLINE NEU - Ferienakademie - (262508150P) 
LOCATION:VHS-Online-Schulung: vom Arbeitsplatz oder von zu Hause aus, , 
END:VEVENT
END:VCALENDAR