BEGIN:VCALENDAR
VERSION:2.0
PRODID:https://www.kufer.de/kuferweb / DE
METHOD:PUBLISH
CALSCALE:GREGORIAN
X-WR-TIMEZONE:Europe/Berlin
BEGIN:VTIMEZONE
TZID:Europe/Berlin
X-LIC-LOCATION:Europe/Berlin
BEGIN:DAYLIGHT
TZOFFSETFROM:+0100
TZOFFSETTO:+0200
TZNAME:CEST
DTSTART:19700329T020000
RRULE:FREQ=YEARLY;INTERVAL=1;BYDAY=-1SU;BYMONTH=3
END:DAYLIGHT
BEGIN:STANDARD
TZOFFSETFROM:+0200
TZOFFSETTO:+0100
TZNAME:CET
DTSTART:19701025T030000
RRULE:FREQ=YEARLY;INTERVAL=1;BYDAY=-1SU;BYMONTH=10
END:STANDARD
END:VTIMEZONE
BEGIN:VEVENT
DTSTAMP:20260422T223458
DTSTART;TZID=Europe/Berlin:20261102T183000
DTEND;TZID=Europe/Berlin:20261102T203000
UID:262504215P-20261102T183000@VHSPAPENBURG
SUMMARY:Einnahmen-Überschussrechnung ONLINEKURS mit Xpert Business-Zertifikat (262504215P) 
LOCATION:VHS-Webinar: live im Internet von zu Hause aus teilnehmen, , 
END:VEVENT
BEGIN:VEVENT
DTSTAMP:20260422T223458
DTSTART;TZID=Europe/Berlin:20261104T183000
DTEND;TZID=Europe/Berlin:20261104T203000
UID:262504215P-20261104T183000@VHSPAPENBURG
SUMMARY:Einnahmen-Überschussrechnung ONLINEKURS mit Xpert Business-Zertifikat (262504215P) 
LOCATION:VHS-Webinar: live im Internet von zu Hause aus teilnehmen, , 
END:VEVENT
BEGIN:VEVENT
DTSTAMP:20260422T223458
DTSTART;TZID=Europe/Berlin:20261109T183000
DTEND;TZID=Europe/Berlin:20261109T203000
UID:262504215P-20261109T183000@VHSPAPENBURG
SUMMARY:Einnahmen-Überschussrechnung ONLINEKURS mit Xpert Business-Zertifikat (262504215P) 
LOCATION:VHS-Webinar: live im Internet von zu Hause aus teilnehmen, , 
END:VEVENT
BEGIN:VEVENT
DTSTAMP:20260422T223458
DTSTART;TZID=Europe/Berlin:20261111T183000
DTEND;TZID=Europe/Berlin:20261111T203000
UID:262504215P-20261111T183000@VHSPAPENBURG
SUMMARY:Einnahmen-Überschussrechnung ONLINEKURS mit Xpert Business-Zertifikat (262504215P) 
LOCATION:VHS-Webinar: live im Internet von zu Hause aus teilnehmen, , 
END:VEVENT
BEGIN:VEVENT
DTSTAMP:20260422T223458
DTSTART;TZID=Europe/Berlin:20261116T183000
DTEND;TZID=Europe/Berlin:20261116T203000
UID:262504215P-20261116T183000@VHSPAPENBURG
SUMMARY:Einnahmen-Überschussrechnung ONLINEKURS mit Xpert Business-Zertifikat (262504215P) 
LOCATION:VHS-Webinar: live im Internet von zu Hause aus teilnehmen, , 
END:VEVENT
BEGIN:VEVENT
DTSTAMP:20260422T223458
DTSTART;TZID=Europe/Berlin:20261123T183000
DTEND;TZID=Europe/Berlin:20261123T203000
UID:262504215P-20261123T183000@VHSPAPENBURG
SUMMARY:Einnahmen-Überschussrechnung ONLINEKURS mit Xpert Business-Zertifikat (262504215P) 
LOCATION:VHS-Webinar: live im Internet von zu Hause aus teilnehmen, , 
END:VEVENT
BEGIN:VEVENT
DTSTAMP:20260422T223458
DTSTART;TZID=Europe/Berlin:20261125T183000
DTEND;TZID=Europe/Berlin:20261125T203000
UID:262504215P-20261125T183000@VHSPAPENBURG
SUMMARY:Einnahmen-Überschussrechnung ONLINEKURS mit Xpert Business-Zertifikat (262504215P) 
LOCATION:VHS-Webinar: live im Internet von zu Hause aus teilnehmen, , 
END:VEVENT
BEGIN:VEVENT
DTSTAMP:20260422T223458
DTSTART;TZID=Europe/Berlin:20261130T183000
DTEND;TZID=Europe/Berlin:20261130T203000
UID:262504215P-20261130T183000@VHSPAPENBURG
SUMMARY:Einnahmen-Überschussrechnung ONLINEKURS mit Xpert Business-Zertifikat (262504215P) 
LOCATION:VHS-Webinar: live im Internet von zu Hause aus teilnehmen, , 
END:VEVENT
BEGIN:VEVENT
DTSTAMP:20260422T223458
DTSTART;TZID=Europe/Berlin:20261202T183000
DTEND;TZID=Europe/Berlin:20261202T203000
UID:262504215P-20261202T183000@VHSPAPENBURG
SUMMARY:Einnahmen-Überschussrechnung ONLINEKURS mit Xpert Business-Zertifikat (262504215P) 
LOCATION:VHS-Webinar: live im Internet von zu Hause aus teilnehmen, , 
END:VEVENT
BEGIN:VEVENT
DTSTAMP:20260422T223458
DTSTART;TZID=Europe/Berlin:20261207T183000
DTEND;TZID=Europe/Berlin:20261207T203000
UID:262504215P-20261207T183000@VHSPAPENBURG
SUMMARY:Einnahmen-Überschussrechnung ONLINEKURS mit Xpert Business-Zertifikat (262504215P) 
LOCATION:VHS-Webinar: live im Internet von zu Hause aus teilnehmen, , 
END:VEVENT
BEGIN:VEVENT
DTSTAMP:20260422T223458
DTSTART;TZID=Europe/Berlin:20261209T183000
DTEND;TZID=Europe/Berlin:20261209T203000
UID:262504215P-20261209T183000@VHSPAPENBURG
SUMMARY:Einnahmen-Überschussrechnung ONLINEKURS mit Xpert Business-Zertifikat (262504215P) 
LOCATION:VHS-Webinar: live im Internet von zu Hause aus teilnehmen, , 
END:VEVENT
END:VCALENDAR