BEGIN:VCALENDAR
VERSION:2.0
PRODID:https://www.kufer.de/kuferweb / DE
METHOD:PUBLISH
CALSCALE:GREGORIAN
X-WR-TIMEZONE:Europe/Berlin
BEGIN:VTIMEZONE
TZID:Europe/Berlin
X-LIC-LOCATION:Europe/Berlin
BEGIN:DAYLIGHT
TZOFFSETFROM:+0100
TZOFFSETTO:+0200
TZNAME:CEST
DTSTART:19700329T020000
RRULE:FREQ=YEARLY;INTERVAL=1;BYDAY=-1SU;BYMONTH=3
END:DAYLIGHT
BEGIN:STANDARD
TZOFFSETFROM:+0200
TZOFFSETTO:+0100
TZNAME:CET
DTSTART:19701025T030000
RRULE:FREQ=YEARLY;INTERVAL=1;BYDAY=-1SU;BYMONTH=10
END:STANDARD
END:VTIMEZONE
BEGIN:VEVENT
DTSTAMP:20260423T015829
DTSTART;TZID=Europe/Berlin:20260902T181500
DTEND;TZID=Europe/Berlin:20260902T191500
UID:262305090P-20260902T181500@VHSPAPENBURG
SUMMARY:Wirbelsäulengymnastik (262305090P) 
LOCATION:vhs, Raum S 1.04, Hauptkanal rechts 72, 26871 Papenburg
END:VEVENT
BEGIN:VEVENT
DTSTAMP:20260423T015829
DTSTART;TZID=Europe/Berlin:20260909T181500
DTEND;TZID=Europe/Berlin:20260909T191500
UID:262305090P-20260909T181500@VHSPAPENBURG
SUMMARY:Wirbelsäulengymnastik (262305090P) 
LOCATION:vhs, Raum S 1.04, Hauptkanal rechts 72, 26871 Papenburg
END:VEVENT
BEGIN:VEVENT
DTSTAMP:20260423T015829
DTSTART;TZID=Europe/Berlin:20260916T181500
DTEND;TZID=Europe/Berlin:20260916T191500
UID:262305090P-20260916T181500@VHSPAPENBURG
SUMMARY:Wirbelsäulengymnastik (262305090P) 
LOCATION:vhs, Raum S 1.04, Hauptkanal rechts 72, 26871 Papenburg
END:VEVENT
BEGIN:VEVENT
DTSTAMP:20260423T015829
DTSTART;TZID=Europe/Berlin:20260923T181500
DTEND;TZID=Europe/Berlin:20260923T191500
UID:262305090P-20260923T181500@VHSPAPENBURG
SUMMARY:Wirbelsäulengymnastik (262305090P) 
LOCATION:vhs, Raum S 1.04, Hauptkanal rechts 72, 26871 Papenburg
END:VEVENT
BEGIN:VEVENT
DTSTAMP:20260423T015829
DTSTART;TZID=Europe/Berlin:20260930T181500
DTEND;TZID=Europe/Berlin:20260930T191500
UID:262305090P-20260930T181500@VHSPAPENBURG
SUMMARY:Wirbelsäulengymnastik (262305090P) 
LOCATION:vhs, Raum S 1.04, Hauptkanal rechts 72, 26871 Papenburg
END:VEVENT
BEGIN:VEVENT
DTSTAMP:20260423T015829
DTSTART;TZID=Europe/Berlin:20261028T181500
DTEND;TZID=Europe/Berlin:20261028T191500
UID:262305090P-20261028T181500@VHSPAPENBURG
SUMMARY:Wirbelsäulengymnastik (262305090P) 
LOCATION:vhs, Raum S 1.04, Hauptkanal rechts 72, 26871 Papenburg
END:VEVENT
BEGIN:VEVENT
DTSTAMP:20260423T015829
DTSTART;TZID=Europe/Berlin:20261104T181500
DTEND;TZID=Europe/Berlin:20261104T191500
UID:262305090P-20261104T181500@VHSPAPENBURG
SUMMARY:Wirbelsäulengymnastik (262305090P) 
LOCATION:vhs, Raum S 1.04, Hauptkanal rechts 72, 26871 Papenburg
END:VEVENT
BEGIN:VEVENT
DTSTAMP:20260423T015829
DTSTART;TZID=Europe/Berlin:20261111T181500
DTEND;TZID=Europe/Berlin:20261111T191500
UID:262305090P-20261111T181500@VHSPAPENBURG
SUMMARY:Wirbelsäulengymnastik (262305090P) 
LOCATION:vhs, Raum S 1.04, Hauptkanal rechts 72, 26871 Papenburg
END:VEVENT
BEGIN:VEVENT
DTSTAMP:20260423T015829
DTSTART;TZID=Europe/Berlin:20261118T181500
DTEND;TZID=Europe/Berlin:20261118T191500
UID:262305090P-20261118T181500@VHSPAPENBURG
SUMMARY:Wirbelsäulengymnastik (262305090P) 
LOCATION:vhs, Raum S 1.04, Hauptkanal rechts 72, 26871 Papenburg
END:VEVENT
BEGIN:VEVENT
DTSTAMP:20260423T015829
DTSTART;TZID=Europe/Berlin:20261125T181500
DTEND;TZID=Europe/Berlin:20261125T191500
UID:262305090P-20261125T181500@VHSPAPENBURG
SUMMARY:Wirbelsäulengymnastik (262305090P) 
LOCATION:vhs, Raum S 1.04, Hauptkanal rechts 72, 26871 Papenburg
END:VEVENT
BEGIN:VEVENT
DTSTAMP:20260423T015829
DTSTART;TZID=Europe/Berlin:20261202T181500
DTEND;TZID=Europe/Berlin:20261202T191500
UID:262305090P-20261202T181500@VHSPAPENBURG
SUMMARY:Wirbelsäulengymnastik (262305090P) 
LOCATION:vhs, Raum S 1.04, Hauptkanal rechts 72, 26871 Papenburg
END:VEVENT
BEGIN:VEVENT
DTSTAMP:20260423T015829
DTSTART;TZID=Europe/Berlin:20261209T181500
DTEND;TZID=Europe/Berlin:20261209T191500
UID:262305090P-20261209T181500@VHSPAPENBURG
SUMMARY:Wirbelsäulengymnastik (262305090P) 
LOCATION:vhs, Raum S 1.04, Hauptkanal rechts 72, 26871 Papenburg
END:VEVENT
BEGIN:VEVENT
DTSTAMP:20260423T015829
DTSTART;TZID=Europe/Berlin:20261216T181500
DTEND;TZID=Europe/Berlin:20261216T191500
UID:262305090P-20261216T181500@VHSPAPENBURG
SUMMARY:Wirbelsäulengymnastik (262305090P) 
LOCATION:vhs, Raum S 1.04, Hauptkanal rechts 72, 26871 Papenburg
END:VEVENT
END:VCALENDAR