BEGIN:VCALENDAR
VERSION:2.0
PRODID:https://www.kufer.de/kuferweb / DE
METHOD:PUBLISH
CALSCALE:GREGORIAN
X-WR-TIMEZONE:Europe/Berlin
BEGIN:VTIMEZONE
TZID:Europe/Berlin
X-LIC-LOCATION:Europe/Berlin
BEGIN:DAYLIGHT
TZOFFSETFROM:+0100
TZOFFSETTO:+0200
TZNAME:CEST
DTSTART:19700329T020000
RRULE:FREQ=YEARLY;INTERVAL=1;BYDAY=-1SU;BYMONTH=3
END:DAYLIGHT
BEGIN:STANDARD
TZOFFSETFROM:+0200
TZOFFSETTO:+0100
TZNAME:CET
DTSTART:19701025T030000
RRULE:FREQ=YEARLY;INTERVAL=1;BYDAY=-1SU;BYMONTH=10
END:STANDARD
END:VTIMEZONE
BEGIN:VEVENT
DTSTAMP:20260423T001026
DTSTART;TZID=Europe/Berlin:20260901T093000
DTEND;TZID=Europe/Berlin:20260901T110000
UID:262303181P-20260901T093000@VHSPAPENBURG
SUMMARY:Heiteres Gedächtnistraining am Vormittag (262303181P) 
LOCATION:vhs, Raum S 2.07, Hauptkanal rechts 72, 26871 Papenburg
END:VEVENT
BEGIN:VEVENT
DTSTAMP:20260423T001026
DTSTART;TZID=Europe/Berlin:20261006T093000
DTEND;TZID=Europe/Berlin:20261006T110000
UID:262303181P-20261006T093000@VHSPAPENBURG
SUMMARY:Heiteres Gedächtnistraining am Vormittag (262303181P) 
LOCATION:vhs, Raum S 3.01, Hauptkanal rechts 72, 26871 Papenburg
END:VEVENT
BEGIN:VEVENT
DTSTAMP:20260423T001026
DTSTART;TZID=Europe/Berlin:20261103T093000
DTEND;TZID=Europe/Berlin:20261103T110000
UID:262303181P-20261103T093000@VHSPAPENBURG
SUMMARY:Heiteres Gedächtnistraining am Vormittag (262303181P) 
LOCATION:vhs, Raum S 2.07, Hauptkanal rechts 72, 26871 Papenburg
END:VEVENT
BEGIN:VEVENT
DTSTAMP:20260423T001026
DTSTART;TZID=Europe/Berlin:20261201T093000
DTEND;TZID=Europe/Berlin:20261201T110000
UID:262303181P-20261201T093000@VHSPAPENBURG
SUMMARY:Heiteres Gedächtnistraining am Vormittag (262303181P) 
LOCATION:vhs, Raum S 2.07, Hauptkanal rechts 72, 26871 Papenburg
END:VEVENT
BEGIN:VEVENT
DTSTAMP:20260423T001026
DTSTART;TZID=Europe/Berlin:20270105T093000
DTEND;TZID=Europe/Berlin:20270105T110000
UID:262303181P-20270105T093000@VHSPAPENBURG
SUMMARY:Heiteres Gedächtnistraining am Vormittag (262303181P) 
LOCATION:vhs, Raum S 2.07, Hauptkanal rechts 72, 26871 Papenburg
END:VEVENT
END:VCALENDAR