BEGIN:VCALENDAR
VERSION:2.0
PRODID:https://www.kufer.de/kuferweb / DE
METHOD:PUBLISH
CALSCALE:GREGORIAN
X-WR-TIMEZONE:Europe/Berlin
BEGIN:VTIMEZONE
TZID:Europe/Berlin
X-LIC-LOCATION:Europe/Berlin
BEGIN:DAYLIGHT
TZOFFSETFROM:+0100
TZOFFSETTO:+0200
TZNAME:CEST
DTSTART:19700329T020000
RRULE:FREQ=YEARLY;INTERVAL=1;BYDAY=-1SU;BYMONTH=3
END:DAYLIGHT
BEGIN:STANDARD
TZOFFSETFROM:+0200
TZOFFSETTO:+0100
TZNAME:CET
DTSTART:19701025T030000
RRULE:FREQ=YEARLY;INTERVAL=1;BYDAY=-1SU;BYMONTH=10
END:STANDARD
END:VTIMEZONE
BEGIN:VEVENT
DTSTAMP:20260423T001213
DTSTART;TZID=Europe/Berlin:20261106T180000
DTEND;TZID=Europe/Berlin:20261106T210000
UID:262303030P-20261106T180000@VHSPAPENBURG
SUMMARY:Feldenkrais-Methode im Kloster Thuine im November 2026 - Wochenendseminar - (262303030P) 
LOCATION:Franziskanerinnen Thuine, Klosterstr. 14, 49832 Thuine
END:VEVENT
BEGIN:VEVENT
DTSTAMP:20260423T001213
DTSTART;TZID=Europe/Berlin:20261107T100000
DTEND;TZID=Europe/Berlin:20261107T180000
UID:262303030P-20261107T100000@VHSPAPENBURG
SUMMARY:Feldenkrais-Methode im Kloster Thuine im November 2026 - Wochenendseminar - (262303030P) 
LOCATION:Franziskanerinnen Thuine, Klosterstr. 14, 49832 Thuine
END:VEVENT
BEGIN:VEVENT
DTSTAMP:20260423T001213
DTSTART;TZID=Europe/Berlin:20261108T090000
DTEND;TZID=Europe/Berlin:20261108T130000
UID:262303030P-20261108T090000@VHSPAPENBURG
SUMMARY:Feldenkrais-Methode im Kloster Thuine im November 2026 - Wochenendseminar - (262303030P) 
LOCATION:Franziskanerinnen Thuine, Klosterstr. 14, 49832 Thuine
END:VEVENT
END:VCALENDAR