BEGIN:VCALENDAR
VERSION:2.0
PRODID:https://www.kufer.de/kuferweb / DE
METHOD:PUBLISH
CALSCALE:GREGORIAN
X-WR-TIMEZONE:Europe/Berlin
BEGIN:VTIMEZONE
TZID:Europe/Berlin
X-LIC-LOCATION:Europe/Berlin
BEGIN:DAYLIGHT
TZOFFSETFROM:+0100
TZOFFSETTO:+0200
TZNAME:CEST
DTSTART:19700329T020000
RRULE:FREQ=YEARLY;INTERVAL=1;BYDAY=-1SU;BYMONTH=3
END:DAYLIGHT
BEGIN:STANDARD
TZOFFSETFROM:+0200
TZOFFSETTO:+0100
TZNAME:CET
DTSTART:19701025T030000
RRULE:FREQ=YEARLY;INTERVAL=1;BYDAY=-1SU;BYMONTH=10
END:STANDARD
END:VTIMEZONE
BEGIN:VEVENT
DTSTAMP:20260422T223343
DTSTART;TZID=Europe/Berlin:20261109T090000
DTEND;TZID=Europe/Berlin:20261109T171500
UID:262301600P-20261109T090000@VHSPAPENBURG
SUMMARY:Bildungsurlaub auf Borkum Stressbewältigung durch Achtsamkeit im beruflichen Alltag und privaten Lebenssituationen - In Kooperation mit der VHS Leer - (262301600P) 
LOCATION:Borkum Haus Alter Leuchtturm, Wilhelm-Bakker-Straße 4, 26757 Borkum
END:VEVENT
BEGIN:VEVENT
DTSTAMP:20260422T223343
DTSTART;TZID=Europe/Berlin:20261110T090000
DTEND;TZID=Europe/Berlin:20261110T171500
UID:262301600P-20261110T090000@VHSPAPENBURG
SUMMARY:Bildungsurlaub auf Borkum Stressbewältigung durch Achtsamkeit im beruflichen Alltag und privaten Lebenssituationen - In Kooperation mit der VHS Leer - (262301600P) 
LOCATION:Borkum Haus Alter Leuchtturm, Wilhelm-Bakker-Straße 4, 26757 Borkum
END:VEVENT
BEGIN:VEVENT
DTSTAMP:20260422T223343
DTSTART;TZID=Europe/Berlin:20261111T090000
DTEND;TZID=Europe/Berlin:20261111T171500
UID:262301600P-20261111T090000@VHSPAPENBURG
SUMMARY:Bildungsurlaub auf Borkum Stressbewältigung durch Achtsamkeit im beruflichen Alltag und privaten Lebenssituationen - In Kooperation mit der VHS Leer - (262301600P) 
LOCATION:Borkum Haus Alter Leuchtturm, Wilhelm-Bakker-Straße 4, 26757 Borkum
END:VEVENT
BEGIN:VEVENT
DTSTAMP:20260422T223343
DTSTART;TZID=Europe/Berlin:20261112T090000
DTEND;TZID=Europe/Berlin:20261112T171500
UID:262301600P-20261112T090000@VHSPAPENBURG
SUMMARY:Bildungsurlaub auf Borkum Stressbewältigung durch Achtsamkeit im beruflichen Alltag und privaten Lebenssituationen - In Kooperation mit der VHS Leer - (262301600P) 
LOCATION:Borkum Haus Alter Leuchtturm, Wilhelm-Bakker-Straße 4, 26757 Borkum
END:VEVENT
BEGIN:VEVENT
DTSTAMP:20260422T223343
DTSTART;TZID=Europe/Berlin:20261113T090000
DTEND;TZID=Europe/Berlin:20261113T171500
UID:262301600P-20261113T090000@VHSPAPENBURG
SUMMARY:Bildungsurlaub auf Borkum Stressbewältigung durch Achtsamkeit im beruflichen Alltag und privaten Lebenssituationen - In Kooperation mit der VHS Leer - (262301600P) 
LOCATION:Borkum Haus Alter Leuchtturm, Wilhelm-Bakker-Straße 4, 26757 Borkum
END:VEVENT
END:VCALENDAR