BEGIN:VCALENDAR
VERSION:2.0
PRODID:https://www.kufer.de/kuferweb / DE
METHOD:PUBLISH
CALSCALE:GREGORIAN
X-WR-TIMEZONE:Europe/Berlin
BEGIN:VTIMEZONE
TZID:Europe/Berlin
X-LIC-LOCATION:Europe/Berlin
BEGIN:DAYLIGHT
TZOFFSETFROM:+0100
TZOFFSETTO:+0200
TZNAME:CEST
DTSTART:19700329T020000
RRULE:FREQ=YEARLY;INTERVAL=1;BYDAY=-1SU;BYMONTH=3
END:DAYLIGHT
BEGIN:STANDARD
TZOFFSETFROM:+0200
TZOFFSETTO:+0100
TZNAME:CET
DTSTART:19701025T030000
RRULE:FREQ=YEARLY;INTERVAL=1;BYDAY=-1SU;BYMONTH=10
END:STANDARD
END:VTIMEZONE
BEGIN:VEVENT
DTSTAMP:20260422T173552
DTSTART;TZID=Europe/Berlin:20260429T170000
DTEND;TZID=Europe/Berlin:20260429T200000
UID:262105500P-20260429T170000@VHSPAPENBURG
SUMMARY:Integrative Erziehung und Bildung in Tageseinrichtungen für Kinder im Kontext inklusiver Bildungsprozesse (vhsConcept) (262105500P) 
LOCATION:vhs, Raum S 3.03, Hauptkanal rechts 72, 26871 Papenburg
END:VEVENT
BEGIN:VEVENT
DTSTAMP:20260422T173552
DTSTART;TZID=Europe/Berlin:20260508T140000
DTEND;TZID=Europe/Berlin:20260508T174500
UID:262105500P-20260508T140000@VHSPAPENBURG
SUMMARY:Integrative Erziehung und Bildung in Tageseinrichtungen für Kinder im Kontext inklusiver Bildungsprozesse (vhsConcept) (262105500P) 
LOCATION:vhs, Raum S 3.03, Hauptkanal rechts 72, 26871 Papenburg
END:VEVENT
BEGIN:VEVENT
DTSTAMP:20260422T173552
DTSTART;TZID=Europe/Berlin:20260509T090000
DTEND;TZID=Europe/Berlin:20260509T163000
UID:262105500P-20260509T090000@VHSPAPENBURG
SUMMARY:Integrative Erziehung und Bildung in Tageseinrichtungen für Kinder im Kontext inklusiver Bildungsprozesse (vhsConcept) (262105500P) 
LOCATION:vhs, Raum S 3.03, Hauptkanal rechts 72, 26871 Papenburg
END:VEVENT
BEGIN:VEVENT
DTSTAMP:20260422T173552
DTSTART;TZID=Europe/Berlin:20260529T140000
DTEND;TZID=Europe/Berlin:20260529T183000
UID:262105500P-20260529T140000@VHSPAPENBURG
SUMMARY:Integrative Erziehung und Bildung in Tageseinrichtungen für Kinder im Kontext inklusiver Bildungsprozesse (vhsConcept) (262105500P) 
LOCATION:vhs, Raum S 3.03, Hauptkanal rechts 72, 26871 Papenburg
END:VEVENT
BEGIN:VEVENT
DTSTAMP:20260422T173552
DTSTART;TZID=Europe/Berlin:20260603T170000
DTEND;TZID=Europe/Berlin:20260603T200000
UID:262105500P-20260603T170000@VHSPAPENBURG
SUMMARY:Integrative Erziehung und Bildung in Tageseinrichtungen für Kinder im Kontext inklusiver Bildungsprozesse (vhsConcept) (262105500P) 
LOCATION:vhs, Raum S 3.03, Hauptkanal rechts 72, 26871 Papenburg
END:VEVENT
BEGIN:VEVENT
DTSTAMP:20260422T173552
DTSTART;TZID=Europe/Berlin:20260605T140000
DTEND;TZID=Europe/Berlin:20260605T174500
UID:262105500P-20260605T140000@VHSPAPENBURG
SUMMARY:Integrative Erziehung und Bildung in Tageseinrichtungen für Kinder im Kontext inklusiver Bildungsprozesse (vhsConcept) (262105500P) 
LOCATION:vhs, Raum S 3.03, Hauptkanal rechts 72, 26871 Papenburg
END:VEVENT
BEGIN:VEVENT
DTSTAMP:20260422T173552
DTSTART;TZID=Europe/Berlin:20260606T090000
DTEND;TZID=Europe/Berlin:20260606T163000
UID:262105500P-20260606T090000@VHSPAPENBURG
SUMMARY:Integrative Erziehung und Bildung in Tageseinrichtungen für Kinder im Kontext inklusiver Bildungsprozesse (vhsConcept) (262105500P) 
LOCATION:vhs, Raum V 1.06, Saal, Hauptkanal rechts 72, 26871 Papenburg
END:VEVENT
BEGIN:VEVENT
DTSTAMP:20260422T173552
DTSTART;TZID=Europe/Berlin:20260617T170000
DTEND;TZID=Europe/Berlin:20260617T200000
UID:262105500P-20260617T170000@VHSPAPENBURG
SUMMARY:Integrative Erziehung und Bildung in Tageseinrichtungen für Kinder im Kontext inklusiver Bildungsprozesse (vhsConcept) (262105500P) 
LOCATION:vhs, Raum V 1.06, Saal, Hauptkanal rechts 72, 26871 Papenburg
END:VEVENT
BEGIN:VEVENT
DTSTAMP:20260422T173552
DTSTART;TZID=Europe/Berlin:20260619T140000
DTEND;TZID=Europe/Berlin:20260619T174500
UID:262105500P-20260619T140000@VHSPAPENBURG
SUMMARY:Integrative Erziehung und Bildung in Tageseinrichtungen für Kinder im Kontext inklusiver Bildungsprozesse (vhsConcept) (262105500P) 
LOCATION:vhs, Raum V 1.06, Saal, Hauptkanal rechts 72, 26871 Papenburg
END:VEVENT
BEGIN:VEVENT
DTSTAMP:20260422T173552
DTSTART;TZID=Europe/Berlin:20260624T170000
DTEND;TZID=Europe/Berlin:20260624T200000
UID:262105500P-20260624T170000@VHSPAPENBURG
SUMMARY:Integrative Erziehung und Bildung in Tageseinrichtungen für Kinder im Kontext inklusiver Bildungsprozesse (vhsConcept) (262105500P) 
LOCATION:vhs, Raum S 3.03, Hauptkanal rechts 72, 26871 Papenburg
END:VEVENT
BEGIN:VEVENT
DTSTAMP:20260422T173552
DTSTART;TZID=Europe/Berlin:20260627T090000
DTEND;TZID=Europe/Berlin:20260627T163000
UID:262105500P-20260627T090000@VHSPAPENBURG
SUMMARY:Integrative Erziehung und Bildung in Tageseinrichtungen für Kinder im Kontext inklusiver Bildungsprozesse (vhsConcept) (262105500P) 
LOCATION:vhs, Raum V 1.06, Saal, Hauptkanal rechts 72, 26871 Papenburg
END:VEVENT
BEGIN:VEVENT
DTSTAMP:20260422T173552
DTSTART;TZID=Europe/Berlin:20260814T140000
DTEND;TZID=Europe/Berlin:20260814T174500
UID:262105500P-20260814T140000@VHSPAPENBURG
SUMMARY:Integrative Erziehung und Bildung in Tageseinrichtungen für Kinder im Kontext inklusiver Bildungsprozesse (vhsConcept) (262105500P) 
LOCATION:vhs, Raum V 1.06, Saal, Hauptkanal rechts 72, 26871 Papenburg
END:VEVENT
BEGIN:VEVENT
DTSTAMP:20260422T173552
DTSTART;TZID=Europe/Berlin:20260828T140000
DTEND;TZID=Europe/Berlin:20260828T174500
UID:262105500P-20260828T140000@VHSPAPENBURG
SUMMARY:Integrative Erziehung und Bildung in Tageseinrichtungen für Kinder im Kontext inklusiver Bildungsprozesse (vhsConcept) (262105500P) 
LOCATION:vhs, Raum V 1.06, Saal, Hauptkanal rechts 72, 26871 Papenburg
END:VEVENT
BEGIN:VEVENT
DTSTAMP:20260422T173552
DTSTART;TZID=Europe/Berlin:20260829T090000
DTEND;TZID=Europe/Berlin:20260829T163000
UID:262105500P-20260829T090000@VHSPAPENBURG
SUMMARY:Integrative Erziehung und Bildung in Tageseinrichtungen für Kinder im Kontext inklusiver Bildungsprozesse (vhsConcept) (262105500P) 
LOCATION:vhs, Raum V 1.06, Saal, Hauptkanal rechts 72, 26871 Papenburg
END:VEVENT
BEGIN:VEVENT
DTSTAMP:20260422T173552
DTSTART;TZID=Europe/Berlin:20260904T140000
DTEND;TZID=Europe/Berlin:20260904T174500
UID:262105500P-20260904T140000@VHSPAPENBURG
SUMMARY:Integrative Erziehung und Bildung in Tageseinrichtungen für Kinder im Kontext inklusiver Bildungsprozesse (vhsConcept) (262105500P) 
LOCATION:vhs, Raum S 3.03, Hauptkanal rechts 72, 26871 Papenburg
END:VEVENT
BEGIN:VEVENT
DTSTAMP:20260422T173552
DTSTART;TZID=Europe/Berlin:20261028T170000
DTEND;TZID=Europe/Berlin:20261028T200000
UID:262105500P-20261028T170000@VHSPAPENBURG
SUMMARY:Integrative Erziehung und Bildung in Tageseinrichtungen für Kinder im Kontext inklusiver Bildungsprozesse (vhsConcept) (262105500P) 
LOCATION:vhs, Raum S 3.03, Hauptkanal rechts 72, 26871 Papenburg
END:VEVENT
BEGIN:VEVENT
DTSTAMP:20260422T173552
DTSTART;TZID=Europe/Berlin:20261107T090000
DTEND;TZID=Europe/Berlin:20261107T163000
UID:262105500P-20261107T090000@VHSPAPENBURG
SUMMARY:Integrative Erziehung und Bildung in Tageseinrichtungen für Kinder im Kontext inklusiver Bildungsprozesse (vhsConcept) (262105500P) 
LOCATION:vhs, Raum V 1.06, Saal, Hauptkanal rechts 72, 26871 Papenburg
END:VEVENT
BEGIN:VEVENT
DTSTAMP:20260422T173552
DTSTART;TZID=Europe/Berlin:20261127T140000
DTEND;TZID=Europe/Berlin:20261127T174500
UID:262105500P-20261127T140000@VHSPAPENBURG
SUMMARY:Integrative Erziehung und Bildung in Tageseinrichtungen für Kinder im Kontext inklusiver Bildungsprozesse (vhsConcept) (262105500P) 
LOCATION:vhs, Raum V 1.06, Saal, Hauptkanal rechts 72, 26871 Papenburg
END:VEVENT
BEGIN:VEVENT
DTSTAMP:20260422T173552
DTSTART;TZID=Europe/Berlin:20261211T140000
DTEND;TZID=Europe/Berlin:20261211T174500
UID:262105500P-20261211T140000@VHSPAPENBURG
SUMMARY:Integrative Erziehung und Bildung in Tageseinrichtungen für Kinder im Kontext inklusiver Bildungsprozesse (vhsConcept) (262105500P) 
LOCATION:vhs, Raum V 1.06, Saal, Hauptkanal rechts 72, 26871 Papenburg
END:VEVENT
BEGIN:VEVENT
DTSTAMP:20260422T173552
DTSTART;TZID=Europe/Berlin:20261216T170000
DTEND;TZID=Europe/Berlin:20261216T200000
UID:262105500P-20261216T170000@VHSPAPENBURG
SUMMARY:Integrative Erziehung und Bildung in Tageseinrichtungen für Kinder im Kontext inklusiver Bildungsprozesse (vhsConcept) (262105500P) 
LOCATION:vhs, Raum S 3.03, Hauptkanal rechts 72, 26871 Papenburg
END:VEVENT
BEGIN:VEVENT
DTSTAMP:20260422T173552
DTSTART;TZID=Europe/Berlin:20261218T140000
DTEND;TZID=Europe/Berlin:20261218T174500
UID:262105500P-20261218T140000@VHSPAPENBURG
SUMMARY:Integrative Erziehung und Bildung in Tageseinrichtungen für Kinder im Kontext inklusiver Bildungsprozesse (vhsConcept) (262105500P) 
LOCATION:vhs, Raum V 1.06, Saal, Hauptkanal rechts 72, 26871 Papenburg
END:VEVENT
BEGIN:VEVENT
DTSTAMP:20260422T173552
DTSTART;TZID=Europe/Berlin:20270115T140000
DTEND;TZID=Europe/Berlin:20270115T174500
UID:262105500P-20270115T140000@VHSPAPENBURG
SUMMARY:Integrative Erziehung und Bildung in Tageseinrichtungen für Kinder im Kontext inklusiver Bildungsprozesse (vhsConcept) (262105500P) 
LOCATION:vhs, Raum V 1.06, Saal, Hauptkanal rechts 72, 26871 Papenburg
END:VEVENT
BEGIN:VEVENT
DTSTAMP:20260422T173552
DTSTART;TZID=Europe/Berlin:20270116T090000
DTEND;TZID=Europe/Berlin:20270116T163000
UID:262105500P-20270116T090000@VHSPAPENBURG
SUMMARY:Integrative Erziehung und Bildung in Tageseinrichtungen für Kinder im Kontext inklusiver Bildungsprozesse (vhsConcept) (262105500P) 
LOCATION:vhs, Raum V 1.06, Saal, Hauptkanal rechts 72, 26871 Papenburg
END:VEVENT
BEGIN:VEVENT
DTSTAMP:20260422T173552
DTSTART;TZID=Europe/Berlin:20270127T170000
DTEND;TZID=Europe/Berlin:20270127T200000
UID:262105500P-20270127T170000@VHSPAPENBURG
SUMMARY:Integrative Erziehung und Bildung in Tageseinrichtungen für Kinder im Kontext inklusiver Bildungsprozesse (vhsConcept) (262105500P) 
LOCATION:vhs, Raum V 1.06, Saal, Hauptkanal rechts 72, 26871 Papenburg
END:VEVENT
BEGIN:VEVENT
DTSTAMP:20260422T173552
DTSTART;TZID=Europe/Berlin:20270210T170000
DTEND;TZID=Europe/Berlin:20270210T200000
UID:262105500P-20270210T170000@VHSPAPENBURG
SUMMARY:Integrative Erziehung und Bildung in Tageseinrichtungen für Kinder im Kontext inklusiver Bildungsprozesse (vhsConcept) (262105500P) 
LOCATION:vhs, Raum V 1.06, Saal, Hauptkanal rechts 72, 26871 Papenburg
END:VEVENT
BEGIN:VEVENT
DTSTAMP:20260422T173552
DTSTART;TZID=Europe/Berlin:20270212T140000
DTEND;TZID=Europe/Berlin:20270212T174500
UID:262105500P-20270212T140000@VHSPAPENBURG
SUMMARY:Integrative Erziehung und Bildung in Tageseinrichtungen für Kinder im Kontext inklusiver Bildungsprozesse (vhsConcept) (262105500P) 
LOCATION:vhs, Raum V 1.06, Saal, Hauptkanal rechts 72, 26871 Papenburg
END:VEVENT
BEGIN:VEVENT
DTSTAMP:20260422T173552
DTSTART;TZID=Europe/Berlin:20270217T170000
DTEND;TZID=Europe/Berlin:20270217T200000
UID:262105500P-20270217T170000@VHSPAPENBURG
SUMMARY:Integrative Erziehung und Bildung in Tageseinrichtungen für Kinder im Kontext inklusiver Bildungsprozesse (vhsConcept) (262105500P) 
LOCATION:vhs, Raum V 1.06, Saal, Hauptkanal rechts 72, 26871 Papenburg
END:VEVENT
BEGIN:VEVENT
DTSTAMP:20260422T173552
DTSTART;TZID=Europe/Berlin:20270220T090000
DTEND;TZID=Europe/Berlin:20270220T163000
UID:262105500P-20270220T090000@VHSPAPENBURG
SUMMARY:Integrative Erziehung und Bildung in Tageseinrichtungen für Kinder im Kontext inklusiver Bildungsprozesse (vhsConcept) (262105500P) 
LOCATION:vhs, Raum V 1.06, Saal, Hauptkanal rechts 72, 26871 Papenburg
END:VEVENT
BEGIN:VEVENT
DTSTAMP:20260422T173552
DTSTART;TZID=Europe/Berlin:20270303T170000
DTEND;TZID=Europe/Berlin:20270303T200000
UID:262105500P-20270303T170000@VHSPAPENBURG
SUMMARY:Integrative Erziehung und Bildung in Tageseinrichtungen für Kinder im Kontext inklusiver Bildungsprozesse (vhsConcept) (262105500P) 
LOCATION:vhs, Raum V 1.06, Saal, Hauptkanal rechts 72, 26871 Papenburg
END:VEVENT
BEGIN:VEVENT
DTSTAMP:20260422T173552
DTSTART;TZID=Europe/Berlin:20270317T170000
DTEND;TZID=Europe/Berlin:20270317T200000
UID:262105500P-20270317T170000@VHSPAPENBURG
SUMMARY:Integrative Erziehung und Bildung in Tageseinrichtungen für Kinder im Kontext inklusiver Bildungsprozesse (vhsConcept) (262105500P) 
LOCATION:vhs, Raum V 1.06, Saal, Hauptkanal rechts 72, 26871 Papenburg
END:VEVENT
BEGIN:VEVENT
DTSTAMP:20260422T173552
DTSTART;TZID=Europe/Berlin:20270414T170000
DTEND;TZID=Europe/Berlin:20270414T200000
UID:262105500P-20270414T170000@VHSPAPENBURG
SUMMARY:Integrative Erziehung und Bildung in Tageseinrichtungen für Kinder im Kontext inklusiver Bildungsprozesse (vhsConcept) (262105500P) 
LOCATION:vhs, Raum V 1.06, Saal, Hauptkanal rechts 72, 26871 Papenburg
END:VEVENT
BEGIN:VEVENT
DTSTAMP:20260422T173552
DTSTART;TZID=Europe/Berlin:20270424T090000
DTEND;TZID=Europe/Berlin:20270424T163000
UID:262105500P-20270424T090000@VHSPAPENBURG
SUMMARY:Integrative Erziehung und Bildung in Tageseinrichtungen für Kinder im Kontext inklusiver Bildungsprozesse (vhsConcept) (262105500P) 
LOCATION:vhs, Raum V 1.06, Saal, Hauptkanal rechts 72, 26871 Papenburg
END:VEVENT
BEGIN:VEVENT
DTSTAMP:20260422T173552
DTSTART;TZID=Europe/Berlin:20270519T170000
DTEND;TZID=Europe/Berlin:20270519T200000
UID:262105500P-20270519T170000@VHSPAPENBURG
SUMMARY:Integrative Erziehung und Bildung in Tageseinrichtungen für Kinder im Kontext inklusiver Bildungsprozesse (vhsConcept) (262105500P) 
LOCATION:vhs, Raum V 1.06, Saal, Hauptkanal rechts 72, 26871 Papenburg
END:VEVENT
BEGIN:VEVENT
DTSTAMP:20260422T173552
DTSTART;TZID=Europe/Berlin:20270522T090000
DTEND;TZID=Europe/Berlin:20270522T163000
UID:262105500P-20270522T090000@VHSPAPENBURG
SUMMARY:Integrative Erziehung und Bildung in Tageseinrichtungen für Kinder im Kontext inklusiver Bildungsprozesse (vhsConcept) (262105500P) 
LOCATION:vhs, Raum V 1.06, Saal, Hauptkanal rechts 72, 26871 Papenburg
END:VEVENT
BEGIN:VEVENT
DTSTAMP:20260422T173552
DTSTART;TZID=Europe/Berlin:20270602T170000
DTEND;TZID=Europe/Berlin:20270602T200000
UID:262105500P-20270602T170000@VHSPAPENBURG
SUMMARY:Integrative Erziehung und Bildung in Tageseinrichtungen für Kinder im Kontext inklusiver Bildungsprozesse (vhsConcept) (262105500P) 
LOCATION:vhs, Raum V 1.06, Saal, Hauptkanal rechts 72, 26871 Papenburg
END:VEVENT
BEGIN:VEVENT
DTSTAMP:20260422T173552
DTSTART;TZID=Europe/Berlin:20270616T170000
DTEND;TZID=Europe/Berlin:20270616T200000
UID:262105500P-20270616T170000@VHSPAPENBURG
SUMMARY:Integrative Erziehung und Bildung in Tageseinrichtungen für Kinder im Kontext inklusiver Bildungsprozesse (vhsConcept) (262105500P) 
LOCATION:vhs, Raum V 1.06, Saal, Hauptkanal rechts 72, 26871 Papenburg
END:VEVENT
BEGIN:VEVENT
DTSTAMP:20260422T173552
DTSTART;TZID=Europe/Berlin:20270618T140000
DTEND;TZID=Europe/Berlin:20270618T174500
UID:262105500P-20270618T140000@VHSPAPENBURG
SUMMARY:Integrative Erziehung und Bildung in Tageseinrichtungen für Kinder im Kontext inklusiver Bildungsprozesse (vhsConcept) (262105500P) 
LOCATION:vhs, Raum V 1.06, Saal, Hauptkanal rechts 72, 26871 Papenburg
END:VEVENT
BEGIN:VEVENT
DTSTAMP:20260422T173552
DTSTART;TZID=Europe/Berlin:20270626T090000
DTEND;TZID=Europe/Berlin:20270626T163000
UID:262105500P-20270626T090000@VHSPAPENBURG
SUMMARY:Integrative Erziehung und Bildung in Tageseinrichtungen für Kinder im Kontext inklusiver Bildungsprozesse (vhsConcept) (262105500P) 
LOCATION:vhs, Raum V 1.06, Saal, Hauptkanal rechts 72, 26871 Papenburg
END:VEVENT
BEGIN:VEVENT
DTSTAMP:20260422T173552
DTSTART;TZID=Europe/Berlin:20270827T140000
DTEND;TZID=Europe/Berlin:20270827T174500
UID:262105500P-20270827T140000@VHSPAPENBURG
SUMMARY:Integrative Erziehung und Bildung in Tageseinrichtungen für Kinder im Kontext inklusiver Bildungsprozesse (vhsConcept) (262105500P) 
LOCATION:vhs, Raum V 1.06, Saal, Hauptkanal rechts 72, 26871 Papenburg
END:VEVENT
BEGIN:VEVENT
DTSTAMP:20260422T173552
DTSTART;TZID=Europe/Berlin:20270828T090000
DTEND;TZID=Europe/Berlin:20270828T163000
UID:262105500P-20270828T090000@VHSPAPENBURG
SUMMARY:Integrative Erziehung und Bildung in Tageseinrichtungen für Kinder im Kontext inklusiver Bildungsprozesse (vhsConcept) (262105500P) 
LOCATION:vhs, Raum V 1.06, Saal, Hauptkanal rechts 72, 26871 Papenburg
END:VEVENT
BEGIN:VEVENT
DTSTAMP:20260422T173552
DTSTART;TZID=Europe/Berlin:20270901T170000
DTEND;TZID=Europe/Berlin:20270901T191500
UID:262105500P-20270901T170000@VHSPAPENBURG
SUMMARY:Integrative Erziehung und Bildung in Tageseinrichtungen für Kinder im Kontext inklusiver Bildungsprozesse (vhsConcept) (262105500P) 
LOCATION:vhs, Raum V 1.06, Saal, Hauptkanal rechts 72, 26871 Papenburg
END:VEVENT
BEGIN:VEVENT
DTSTAMP:20260422T173552
DTSTART;TZID=Europe/Berlin:20270911T090000
DTEND;TZID=Europe/Berlin:20270911T163000
UID:262105500P-20270911T090000@VHSPAPENBURG
SUMMARY:Integrative Erziehung und Bildung in Tageseinrichtungen für Kinder im Kontext inklusiver Bildungsprozesse (vhsConcept) (262105500P) 
LOCATION:vhs, Raum V 1.06, Saal, Hauptkanal rechts 72, 26871 Papenburg
END:VEVENT
BEGIN:VEVENT
DTSTAMP:20260422T173552
DTSTART;TZID=Europe/Berlin:20271009T090000
DTEND;TZID=Europe/Berlin:20271009T163000
UID:262105500P-20271009T090000@VHSPAPENBURG
SUMMARY:Integrative Erziehung und Bildung in Tageseinrichtungen für Kinder im Kontext inklusiver Bildungsprozesse (vhsConcept) (262105500P) 
LOCATION:vhs, Raum V 1.06, Saal, Hauptkanal rechts 72, 26871 Papenburg
END:VEVENT
BEGIN:VEVENT
DTSTAMP:20260422T173552
DTSTART;TZID=Europe/Berlin:20271106T090000
DTEND;TZID=Europe/Berlin:20271106T163000
UID:262105500P-20271106T090000@VHSPAPENBURG
SUMMARY:Integrative Erziehung und Bildung in Tageseinrichtungen für Kinder im Kontext inklusiver Bildungsprozesse (vhsConcept) (262105500P) 
LOCATION:vhs, Raum V 1.06, Saal, Hauptkanal rechts 72, 26871 Papenburg
END:VEVENT
BEGIN:VEVENT
DTSTAMP:20260422T173552
DTSTART;TZID=Europe/Berlin:20271127T090000
DTEND;TZID=Europe/Berlin:20271127T153000
UID:262105500P-20271127T090000@VHSPAPENBURG
SUMMARY:Integrative Erziehung und Bildung in Tageseinrichtungen für Kinder im Kontext inklusiver Bildungsprozesse (vhsConcept) (262105500P) 
LOCATION:vhs, Raum V 1.06, Saal, Hauptkanal rechts 72, 26871 Papenburg
END:VEVENT
BEGIN:VEVENT
DTSTAMP:20260422T173552
DTSTART;TZID=Europe/Berlin:20271127T090000
DTEND;TZID=Europe/Berlin:20271127T153000
UID:262105500P-20271127T090000@VHSPAPENBURG
SUMMARY:Integrative Erziehung und Bildung in Tageseinrichtungen für Kinder im Kontext inklusiver Bildungsprozesse (vhsConcept) (262105500P) 
LOCATION:vhs, Raum V 1.06, Saal, Hauptkanal rechts 72, 26871 Papenburg
END:VEVENT
END:VCALENDAR