BEGIN:VCALENDAR
VERSION:2.0
PRODID:https://www.kufer.de/kuferweb / DE
METHOD:PUBLISH
CALSCALE:GREGORIAN
X-WR-TIMEZONE:Europe/Berlin
BEGIN:VTIMEZONE
TZID:Europe/Berlin
X-LIC-LOCATION:Europe/Berlin
BEGIN:DAYLIGHT
TZOFFSETFROM:+0100
TZOFFSETTO:+0200
TZNAME:CEST
DTSTART:19700329T020000
RRULE:FREQ=YEARLY;INTERVAL=1;BYDAY=-1SU;BYMONTH=3
END:DAYLIGHT
BEGIN:STANDARD
TZOFFSETFROM:+0200
TZOFFSETTO:+0100
TZNAME:CET
DTSTART:19701025T030000
RRULE:FREQ=YEARLY;INTERVAL=1;BYDAY=-1SU;BYMONTH=10
END:STANDARD
END:VTIMEZONE
BEGIN:VEVENT
DTSTAMP:20260422T174705
DTSTART;TZID=Europe/Berlin:20260209T193000
DTEND;TZID=Europe/Berlin:20260209T210000
UID:261700010P-20260209T193000@VHSPAPENBURG
SUMMARY:Lernwohnzimmer  - Lesen und Schreiben - (261700010P) 
LOCATION:vhs, Raum S 2.03, Hauptkanal rechts 72, 26871 Papenburg
END:VEVENT
BEGIN:VEVENT
DTSTAMP:20260422T174705
DTSTART;TZID=Europe/Berlin:20260216T193000
DTEND;TZID=Europe/Berlin:20260216T210000
UID:261700010P-20260216T193000@VHSPAPENBURG
SUMMARY:Lernwohnzimmer  - Lesen und Schreiben - (261700010P) 
LOCATION:vhs, Raum S 2.03, Hauptkanal rechts 72, 26871 Papenburg
END:VEVENT
BEGIN:VEVENT
DTSTAMP:20260422T174705
DTSTART;TZID=Europe/Berlin:20260223T193000
DTEND;TZID=Europe/Berlin:20260223T210000
UID:261700010P-20260223T193000@VHSPAPENBURG
SUMMARY:Lernwohnzimmer  - Lesen und Schreiben - (261700010P) 
LOCATION:vhs, Raum S 2.03, Hauptkanal rechts 72, 26871 Papenburg
END:VEVENT
BEGIN:VEVENT
DTSTAMP:20260422T174705
DTSTART;TZID=Europe/Berlin:20260302T193000
DTEND;TZID=Europe/Berlin:20260302T210000
UID:261700010P-20260302T193000@VHSPAPENBURG
SUMMARY:Lernwohnzimmer  - Lesen und Schreiben - (261700010P) 
LOCATION:vhs, Raum S 2.03, Hauptkanal rechts 72, 26871 Papenburg
END:VEVENT
BEGIN:VEVENT
DTSTAMP:20260422T174705
DTSTART;TZID=Europe/Berlin:20260309T193000
DTEND;TZID=Europe/Berlin:20260309T210000
UID:261700010P-20260309T193000@VHSPAPENBURG
SUMMARY:Lernwohnzimmer  - Lesen und Schreiben - (261700010P) 
LOCATION:vhs, Raum S 2.03, Hauptkanal rechts 72, 26871 Papenburg
END:VEVENT
BEGIN:VEVENT
DTSTAMP:20260422T174705
DTSTART;TZID=Europe/Berlin:20260316T193000
DTEND;TZID=Europe/Berlin:20260316T210000
UID:261700010P-20260316T193000@VHSPAPENBURG
SUMMARY:Lernwohnzimmer  - Lesen und Schreiben - (261700010P) 
LOCATION:vhs, Raum S 2.03, Hauptkanal rechts 72, 26871 Papenburg
END:VEVENT
BEGIN:VEVENT
DTSTAMP:20260422T174705
DTSTART;TZID=Europe/Berlin:20260413T193000
DTEND;TZID=Europe/Berlin:20260413T210000
UID:261700010P-20260413T193000@VHSPAPENBURG
SUMMARY:Lernwohnzimmer  - Lesen und Schreiben - (261700010P) 
LOCATION:vhs, Raum S 2.03, Hauptkanal rechts 72, 26871 Papenburg
END:VEVENT
BEGIN:VEVENT
DTSTAMP:20260422T174705
DTSTART;TZID=Europe/Berlin:20260420T193000
DTEND;TZID=Europe/Berlin:20260420T210000
UID:261700010P-20260420T193000@VHSPAPENBURG
SUMMARY:Lernwohnzimmer  - Lesen und Schreiben - (261700010P) 
LOCATION:vhs, Raum S 2.03, Hauptkanal rechts 72, 26871 Papenburg
END:VEVENT
BEGIN:VEVENT
DTSTAMP:20260422T174705
DTSTART;TZID=Europe/Berlin:20260427T193000
DTEND;TZID=Europe/Berlin:20260427T210000
UID:261700010P-20260427T193000@VHSPAPENBURG
SUMMARY:Lernwohnzimmer  - Lesen und Schreiben - (261700010P) 
LOCATION:vhs, Raum S 2.03, Hauptkanal rechts 72, 26871 Papenburg
END:VEVENT
BEGIN:VEVENT
DTSTAMP:20260422T174705
DTSTART;TZID=Europe/Berlin:20260504T193000
DTEND;TZID=Europe/Berlin:20260504T210000
UID:261700010P-20260504T193000@VHSPAPENBURG
SUMMARY:Lernwohnzimmer  - Lesen und Schreiben - (261700010P) 
LOCATION:vhs, Raum S 2.03, Hauptkanal rechts 72, 26871 Papenburg
END:VEVENT
BEGIN:VEVENT
DTSTAMP:20260422T174705
DTSTART;TZID=Europe/Berlin:20260511T193000
DTEND;TZID=Europe/Berlin:20260511T210000
UID:261700010P-20260511T193000@VHSPAPENBURG
SUMMARY:Lernwohnzimmer  - Lesen und Schreiben - (261700010P) 
LOCATION:vhs, Raum S 2.03, Hauptkanal rechts 72, 26871 Papenburg
END:VEVENT
BEGIN:VEVENT
DTSTAMP:20260422T174705
DTSTART;TZID=Europe/Berlin:20260518T193000
DTEND;TZID=Europe/Berlin:20260518T210000
UID:261700010P-20260518T193000@VHSPAPENBURG
SUMMARY:Lernwohnzimmer  - Lesen und Schreiben - (261700010P) 
LOCATION:vhs, Raum S 2.03, Hauptkanal rechts 72, 26871 Papenburg
END:VEVENT
BEGIN:VEVENT
DTSTAMP:20260422T174705
DTSTART;TZID=Europe/Berlin:20260601T193000
DTEND;TZID=Europe/Berlin:20260601T210000
UID:261700010P-20260601T193000@VHSPAPENBURG
SUMMARY:Lernwohnzimmer  - Lesen und Schreiben - (261700010P) 
LOCATION:vhs, Raum S 2.03, Hauptkanal rechts 72, 26871 Papenburg
END:VEVENT
BEGIN:VEVENT
DTSTAMP:20260422T174705
DTSTART;TZID=Europe/Berlin:20260608T193000
DTEND;TZID=Europe/Berlin:20260608T210000
UID:261700010P-20260608T193000@VHSPAPENBURG
SUMMARY:Lernwohnzimmer  - Lesen und Schreiben - (261700010P) 
LOCATION:vhs, Raum S 2.03, Hauptkanal rechts 72, 26871 Papenburg
END:VEVENT
BEGIN:VEVENT
DTSTAMP:20260422T174705
DTSTART;TZID=Europe/Berlin:20260615T193000
DTEND;TZID=Europe/Berlin:20260615T210000
UID:261700010P-20260615T193000@VHSPAPENBURG
SUMMARY:Lernwohnzimmer  - Lesen und Schreiben - (261700010P) 
LOCATION:vhs, Raum S 2.03, Hauptkanal rechts 72, 26871 Papenburg
END:VEVENT
BEGIN:VEVENT
DTSTAMP:20260422T174705
DTSTART;TZID=Europe/Berlin:20260622T193000
DTEND;TZID=Europe/Berlin:20260622T210000
UID:261700010P-20260622T193000@VHSPAPENBURG
SUMMARY:Lernwohnzimmer  - Lesen und Schreiben - (261700010P) 
LOCATION:vhs, Raum S 2.03, Hauptkanal rechts 72, 26871 Papenburg
END:VEVENT
BEGIN:VEVENT
DTSTAMP:20260422T174705
DTSTART;TZID=Europe/Berlin:20260629T193000
DTEND;TZID=Europe/Berlin:20260629T210000
UID:261700010P-20260629T193000@VHSPAPENBURG
SUMMARY:Lernwohnzimmer  - Lesen und Schreiben - (261700010P) 
LOCATION:vhs, Raum S 2.03, Hauptkanal rechts 72, 26871 Papenburg
END:VEVENT
END:VCALENDAR