BEGIN:VCALENDAR
VERSION:2.0
PRODID:https://www.kufer.de/kuferweb / DE
METHOD:PUBLISH
CALSCALE:GREGORIAN
X-WR-TIMEZONE:Europe/Berlin
BEGIN:VTIMEZONE
TZID:Europe/Berlin
X-LIC-LOCATION:Europe/Berlin
BEGIN:DAYLIGHT
TZOFFSETFROM:+0100
TZOFFSETTO:+0200
TZNAME:CEST
DTSTART:19700329T020000
RRULE:FREQ=YEARLY;INTERVAL=1;BYDAY=-1SU;BYMONTH=3
END:DAYLIGHT
BEGIN:STANDARD
TZOFFSETFROM:+0200
TZOFFSETTO:+0100
TZNAME:CET
DTSTART:19701025T030000
RRULE:FREQ=YEARLY;INTERVAL=1;BYDAY=-1SU;BYMONTH=10
END:STANDARD
END:VTIMEZONE
BEGIN:VEVENT
DTSTAMP:20260422T175340
DTSTART;TZID=Europe/Berlin:20260506T183000
DTEND;TZID=Europe/Berlin:20260506T204500
UID:261501060P-20260506T183000@VHSPAPENBURG
SUMMARY:Erste Schritte am PC/Laptop (Windows 11) (261501060P) 
LOCATION:vhs, Raum S 2.04, Hauptkanal rechts 72, 26871 Papenburg
END:VEVENT
BEGIN:VEVENT
DTSTAMP:20260422T175340
DTSTART;TZID=Europe/Berlin:20260513T183000
DTEND;TZID=Europe/Berlin:20260513T204500
UID:261501060P-20260513T183000@VHSPAPENBURG
SUMMARY:Erste Schritte am PC/Laptop (Windows 11) (261501060P) 
LOCATION:vhs, Raum S 2.04, Hauptkanal rechts 72, 26871 Papenburg
END:VEVENT
BEGIN:VEVENT
DTSTAMP:20260422T175340
DTSTART;TZID=Europe/Berlin:20260520T183000
DTEND;TZID=Europe/Berlin:20260520T204500
UID:261501060P-20260520T183000@VHSPAPENBURG
SUMMARY:Erste Schritte am PC/Laptop (Windows 11) (261501060P) 
LOCATION:vhs, Raum S 2.04, Hauptkanal rechts 72, 26871 Papenburg
END:VEVENT
BEGIN:VEVENT
DTSTAMP:20260422T175340
DTSTART;TZID=Europe/Berlin:20260527T183000
DTEND;TZID=Europe/Berlin:20260527T204500
UID:261501060P-20260527T183000@VHSPAPENBURG
SUMMARY:Erste Schritte am PC/Laptop (Windows 11) (261501060P) 
LOCATION:vhs, Raum S 2.04, Hauptkanal rechts 72, 26871 Papenburg
END:VEVENT
END:VCALENDAR