BEGIN:VCALENDAR
VERSION:2.0
PRODID:https://www.kufer.de/kuferweb / DE
METHOD:PUBLISH
CALSCALE:GREGORIAN
X-WR-TIMEZONE:Europe/Berlin
BEGIN:VTIMEZONE
TZID:Europe/Berlin
X-LIC-LOCATION:Europe/Berlin
BEGIN:DAYLIGHT
TZOFFSETFROM:+0100
TZOFFSETTO:+0200
TZNAME:CEST
DTSTART:19700329T020000
RRULE:FREQ=YEARLY;INTERVAL=1;BYDAY=-1SU;BYMONTH=3
END:DAYLIGHT
BEGIN:STANDARD
TZOFFSETFROM:+0200
TZOFFSETTO:+0100
TZNAME:CET
DTSTART:19701025T030000
RRULE:FREQ=YEARLY;INTERVAL=1;BYDAY=-1SU;BYMONTH=10
END:STANDARD
END:VTIMEZONE
BEGIN:VEVENT
DTSTAMP:20260423T014051
DTSTART;TZID=Europe/Berlin:20260530T090000
DTEND;TZID=Europe/Berlin:20260530T103000
UID:261422030P-20260530T090000@VHSPAPENBURG
SUMMARY:Spanisch A2.1 (261422030P) 
LOCATION:vhs, Raum S 2.07, Hauptkanal rechts 72, 26871 Papenburg
END:VEVENT
BEGIN:VEVENT
DTSTAMP:20260423T014051
DTSTART;TZID=Europe/Berlin:20260606T090000
DTEND;TZID=Europe/Berlin:20260606T103000
UID:261422030P-20260606T090000@VHSPAPENBURG
SUMMARY:Spanisch A2.1 (261422030P) 
LOCATION:vhs, Raum S 2.07, Hauptkanal rechts 72, 26871 Papenburg
END:VEVENT
BEGIN:VEVENT
DTSTAMP:20260423T014051
DTSTART;TZID=Europe/Berlin:20260613T090000
DTEND;TZID=Europe/Berlin:20260613T103000
UID:261422030P-20260613T090000@VHSPAPENBURG
SUMMARY:Spanisch A2.1 (261422030P) 
LOCATION:vhs, Raum S 2.07, Hauptkanal rechts 72, 26871 Papenburg
END:VEVENT
BEGIN:VEVENT
DTSTAMP:20260423T014051
DTSTART;TZID=Europe/Berlin:20260620T090000
DTEND;TZID=Europe/Berlin:20260620T103000
UID:261422030P-20260620T090000@VHSPAPENBURG
SUMMARY:Spanisch A2.1 (261422030P) 
LOCATION:vhs, Raum S 2.07, Hauptkanal rechts 72, 26871 Papenburg
END:VEVENT
BEGIN:VEVENT
DTSTAMP:20260423T014051
DTSTART;TZID=Europe/Berlin:20260627T090000
DTEND;TZID=Europe/Berlin:20260627T103000
UID:261422030P-20260627T090000@VHSPAPENBURG
SUMMARY:Spanisch A2.1 (261422030P) 
LOCATION:vhs, Raum S 2.08, Hauptkanal rechts 72, 26871 Papenburg
END:VEVENT
BEGIN:VEVENT
DTSTAMP:20260423T014051
DTSTART;TZID=Europe/Berlin:20260704T090000
DTEND;TZID=Europe/Berlin:20260704T103000
UID:261422030P-20260704T090000@VHSPAPENBURG
SUMMARY:Spanisch A2.1 (261422030P) 
LOCATION:vhs, Raum S 2.07, Hauptkanal rechts 72, 26871 Papenburg
END:VEVENT
BEGIN:VEVENT
DTSTAMP:20260423T014051
DTSTART;TZID=Europe/Berlin:20260711T090000
DTEND;TZID=Europe/Berlin:20260711T103000
UID:261422030P-20260711T090000@VHSPAPENBURG
SUMMARY:Spanisch A2.1 (261422030P) 
LOCATION:vhs, Raum S 2.07, Hauptkanal rechts 72, 26871 Papenburg
END:VEVENT
END:VCALENDAR