BEGIN:VCALENDAR
VERSION:2.0
PRODID:https://www.kufer.de/kuferweb / DE
METHOD:PUBLISH
CALSCALE:GREGORIAN
X-WR-TIMEZONE:Europe/Berlin
BEGIN:VTIMEZONE
TZID:Europe/Berlin
X-LIC-LOCATION:Europe/Berlin
BEGIN:DAYLIGHT
TZOFFSETFROM:+0100
TZOFFSETTO:+0200
TZNAME:CEST
DTSTART:19700329T020000
RRULE:FREQ=YEARLY;INTERVAL=1;BYDAY=-1SU;BYMONTH=3
END:DAYLIGHT
BEGIN:STANDARD
TZOFFSETFROM:+0200
TZOFFSETTO:+0100
TZNAME:CET
DTSTART:19701025T030000
RRULE:FREQ=YEARLY;INTERVAL=1;BYDAY=-1SU;BYMONTH=10
END:STANDARD
END:VTIMEZONE
BEGIN:VEVENT
DTSTAMP:20260423T010059
DTSTART;TZID=Europe/Berlin:20260601T180000
DTEND;TZID=Europe/Berlin:20260601T201500
UID:261422010S-20260601T180000@VHSPAPENBURG
SUMMARY:Spanisch für den Urlaub  - Intensivkurs - (261422010S) 
LOCATION:Schule am Schloss, Außenstelle, Raum A, Schlossallee 18, 49751 Sögel
END:VEVENT
BEGIN:VEVENT
DTSTAMP:20260423T010059
DTSTART;TZID=Europe/Berlin:20260602T180000
DTEND;TZID=Europe/Berlin:20260602T201500
UID:261422010S-20260602T180000@VHSPAPENBURG
SUMMARY:Spanisch für den Urlaub  - Intensivkurs - (261422010S) 
LOCATION:Schule am Schloss, Außenstelle, Raum A, Schlossallee 18, 49751 Sögel
END:VEVENT
BEGIN:VEVENT
DTSTAMP:20260423T010059
DTSTART;TZID=Europe/Berlin:20260603T180000
DTEND;TZID=Europe/Berlin:20260603T201500
UID:261422010S-20260603T180000@VHSPAPENBURG
SUMMARY:Spanisch für den Urlaub  - Intensivkurs - (261422010S) 
LOCATION:Schule am Schloss, Außenstelle, Raum A, Schlossallee 18, 49751 Sögel
END:VEVENT
BEGIN:VEVENT
DTSTAMP:20260423T010059
DTSTART;TZID=Europe/Berlin:20260604T180000
DTEND;TZID=Europe/Berlin:20260604T201500
UID:261422010S-20260604T180000@VHSPAPENBURG
SUMMARY:Spanisch für den Urlaub  - Intensivkurs - (261422010S) 
LOCATION:Schule am Schloss, Außenstelle, Raum A, Schlossallee 18, 49751 Sögel
END:VEVENT
BEGIN:VEVENT
DTSTAMP:20260423T010059
DTSTART;TZID=Europe/Berlin:20260608T180000
DTEND;TZID=Europe/Berlin:20260608T201500
UID:261422010S-20260608T180000@VHSPAPENBURG
SUMMARY:Spanisch für den Urlaub  - Intensivkurs - (261422010S) 
LOCATION:Schule am Schloss, Außenstelle, Raum A, Schlossallee 18, 49751 Sögel
END:VEVENT
BEGIN:VEVENT
DTSTAMP:20260423T010059
DTSTART;TZID=Europe/Berlin:20260609T180000
DTEND;TZID=Europe/Berlin:20260609T201500
UID:261422010S-20260609T180000@VHSPAPENBURG
SUMMARY:Spanisch für den Urlaub  - Intensivkurs - (261422010S) 
LOCATION:Schule am Schloss, Außenstelle, Raum A, Schlossallee 18, 49751 Sögel
END:VEVENT
BEGIN:VEVENT
DTSTAMP:20260423T010059
DTSTART;TZID=Europe/Berlin:20260610T180000
DTEND;TZID=Europe/Berlin:20260610T201500
UID:261422010S-20260610T180000@VHSPAPENBURG
SUMMARY:Spanisch für den Urlaub  - Intensivkurs - (261422010S) 
LOCATION:Schule am Schloss, Außenstelle, Raum A, Schlossallee 18, 49751 Sögel
END:VEVENT
BEGIN:VEVENT
DTSTAMP:20260423T010059
DTSTART;TZID=Europe/Berlin:20260611T180000
DTEND;TZID=Europe/Berlin:20260611T201500
UID:261422010S-20260611T180000@VHSPAPENBURG
SUMMARY:Spanisch für den Urlaub  - Intensivkurs - (261422010S) 
LOCATION:Schule am Schloss, Außenstelle, Raum A, Schlossallee 18, 49751 Sögel
END:VEVENT
END:VCALENDAR