BEGIN:VCALENDAR
VERSION:2.0
PRODID:https://www.kufer.de/kuferweb / DE
METHOD:PUBLISH
CALSCALE:GREGORIAN
X-WR-TIMEZONE:Europe/Berlin
BEGIN:VTIMEZONE
TZID:Europe/Berlin
X-LIC-LOCATION:Europe/Berlin
BEGIN:DAYLIGHT
TZOFFSETFROM:+0100
TZOFFSETTO:+0200
TZNAME:CEST
DTSTART:19700329T020000
RRULE:FREQ=YEARLY;INTERVAL=1;BYDAY=-1SU;BYMONTH=3
END:DAYLIGHT
BEGIN:STANDARD
TZOFFSETFROM:+0200
TZOFFSETTO:+0100
TZNAME:CET
DTSTART:19701025T030000
RRULE:FREQ=YEARLY;INTERVAL=1;BYDAY=-1SU;BYMONTH=10
END:STANDARD
END:VTIMEZONE
BEGIN:VEVENT
DTSTAMP:20260422T204805
DTSTART;TZID=Europe/Berlin:20260615T180000
DTEND;TZID=Europe/Berlin:20260615T201500
UID:261422010D-20260615T180000@VHSPAPENBURG
SUMMARY:Spanisch für den Urlaub  - Intensivkurs - (261422010D) 
LOCATION:Oberschule Dörpen, Raum A, Schulstraße 14, 26892 Dörpen
END:VEVENT
BEGIN:VEVENT
DTSTAMP:20260422T204805
DTSTART;TZID=Europe/Berlin:20260616T180000
DTEND;TZID=Europe/Berlin:20260616T201500
UID:261422010D-20260616T180000@VHSPAPENBURG
SUMMARY:Spanisch für den Urlaub  - Intensivkurs - (261422010D) 
LOCATION:Oberschule Dörpen, Raum A, Schulstraße 14, 26892 Dörpen
END:VEVENT
BEGIN:VEVENT
DTSTAMP:20260422T204805
DTSTART;TZID=Europe/Berlin:20260617T180000
DTEND;TZID=Europe/Berlin:20260617T201500
UID:261422010D-20260617T180000@VHSPAPENBURG
SUMMARY:Spanisch für den Urlaub  - Intensivkurs - (261422010D) 
LOCATION:Oberschule Dörpen, Raum A, Schulstraße 14, 26892 Dörpen
END:VEVENT
BEGIN:VEVENT
DTSTAMP:20260422T204805
DTSTART;TZID=Europe/Berlin:20260618T180000
DTEND;TZID=Europe/Berlin:20260618T201500
UID:261422010D-20260618T180000@VHSPAPENBURG
SUMMARY:Spanisch für den Urlaub  - Intensivkurs - (261422010D) 
LOCATION:Oberschule Dörpen, Raum A, Schulstraße 14, 26892 Dörpen
END:VEVENT
BEGIN:VEVENT
DTSTAMP:20260422T204805
DTSTART;TZID=Europe/Berlin:20260622T180000
DTEND;TZID=Europe/Berlin:20260622T201500
UID:261422010D-20260622T180000@VHSPAPENBURG
SUMMARY:Spanisch für den Urlaub  - Intensivkurs - (261422010D) 
LOCATION:Oberschule Dörpen, Raum A, Schulstraße 14, 26892 Dörpen
END:VEVENT
BEGIN:VEVENT
DTSTAMP:20260422T204805
DTSTART;TZID=Europe/Berlin:20260623T180000
DTEND;TZID=Europe/Berlin:20260623T201500
UID:261422010D-20260623T180000@VHSPAPENBURG
SUMMARY:Spanisch für den Urlaub  - Intensivkurs - (261422010D) 
LOCATION:Oberschule Dörpen, Raum A, Schulstraße 14, 26892 Dörpen
END:VEVENT
BEGIN:VEVENT
DTSTAMP:20260422T204805
DTSTART;TZID=Europe/Berlin:20260624T180000
DTEND;TZID=Europe/Berlin:20260624T201500
UID:261422010D-20260624T180000@VHSPAPENBURG
SUMMARY:Spanisch für den Urlaub  - Intensivkurs - (261422010D) 
LOCATION:Oberschule Dörpen, Raum A, Schulstraße 14, 26892 Dörpen
END:VEVENT
BEGIN:VEVENT
DTSTAMP:20260422T204805
DTSTART;TZID=Europe/Berlin:20260625T180000
DTEND;TZID=Europe/Berlin:20260625T201500
UID:261422010D-20260625T180000@VHSPAPENBURG
SUMMARY:Spanisch für den Urlaub  - Intensivkurs - (261422010D) 
LOCATION:Oberschule Dörpen, Raum A, Schulstraße 14, 26892 Dörpen
END:VEVENT
END:VCALENDAR