BEGIN:VCALENDAR
VERSION:2.0
PRODID:https://www.kufer.de/kuferweb / DE
METHOD:PUBLISH
CALSCALE:GREGORIAN
X-WR-TIMEZONE:Europe/Berlin
BEGIN:VTIMEZONE
TZID:Europe/Berlin
X-LIC-LOCATION:Europe/Berlin
BEGIN:DAYLIGHT
TZOFFSETFROM:+0100
TZOFFSETTO:+0200
TZNAME:CEST
DTSTART:19700329T020000
RRULE:FREQ=YEARLY;INTERVAL=1;BYDAY=-1SU;BYMONTH=3
END:DAYLIGHT
BEGIN:STANDARD
TZOFFSETFROM:+0200
TZOFFSETTO:+0100
TZNAME:CET
DTSTART:19701025T030000
RRULE:FREQ=YEARLY;INTERVAL=1;BYDAY=-1SU;BYMONTH=10
END:STANDARD
END:VTIMEZONE
BEGIN:VEVENT
DTSTAMP:20260422T193340
DTSTART;TZID=Europe/Berlin:20260307T130000
DTEND;TZID=Europe/Berlin:20260307T143000
UID:261417010P-20260307T130000@VHSPAPENBURG
SUMMARY:Deutsch für Polinnen und Polen A1 (261417010P) 
LOCATION:vhs, Raum V 3.04, Hauptkanal rechts 72, 26871 Papenburg
END:VEVENT
BEGIN:VEVENT
DTSTAMP:20260422T193340
DTSTART;TZID=Europe/Berlin:20260314T130000
DTEND;TZID=Europe/Berlin:20260314T143000
UID:261417010P-20260314T130000@VHSPAPENBURG
SUMMARY:Deutsch für Polinnen und Polen A1 (261417010P) 
LOCATION:vhs, Raum V 3.04, Hauptkanal rechts 72, 26871 Papenburg
END:VEVENT
BEGIN:VEVENT
DTSTAMP:20260422T193340
DTSTART;TZID=Europe/Berlin:20260321T130000
DTEND;TZID=Europe/Berlin:20260321T143000
UID:261417010P-20260321T130000@VHSPAPENBURG
SUMMARY:Deutsch für Polinnen und Polen A1 (261417010P) 
LOCATION:vhs, Raum V 3.04, Hauptkanal rechts 72, 26871 Papenburg
END:VEVENT
BEGIN:VEVENT
DTSTAMP:20260422T193340
DTSTART;TZID=Europe/Berlin:20260411T130000
DTEND;TZID=Europe/Berlin:20260411T143000
UID:261417010P-20260411T130000@VHSPAPENBURG
SUMMARY:Deutsch für Polinnen und Polen A1 (261417010P) 
LOCATION:vhs, Raum V 3.04, Hauptkanal rechts 72, 26871 Papenburg
END:VEVENT
BEGIN:VEVENT
DTSTAMP:20260422T193340
DTSTART;TZID=Europe/Berlin:20260418T130000
DTEND;TZID=Europe/Berlin:20260418T143000
UID:261417010P-20260418T130000@VHSPAPENBURG
SUMMARY:Deutsch für Polinnen und Polen A1 (261417010P) 
LOCATION:vhs, Raum V 3.04, Hauptkanal rechts 72, 26871 Papenburg
END:VEVENT
BEGIN:VEVENT
DTSTAMP:20260422T193340
DTSTART;TZID=Europe/Berlin:20260425T130000
DTEND;TZID=Europe/Berlin:20260425T143000
UID:261417010P-20260425T130000@VHSPAPENBURG
SUMMARY:Deutsch für Polinnen und Polen A1 (261417010P) 
LOCATION:vhs, Raum V 3.04, Hauptkanal rechts 72, 26871 Papenburg
END:VEVENT
BEGIN:VEVENT
DTSTAMP:20260422T193340
DTSTART;TZID=Europe/Berlin:20260502T130000
DTEND;TZID=Europe/Berlin:20260502T143000
UID:261417010P-20260502T130000@VHSPAPENBURG
SUMMARY:Deutsch für Polinnen und Polen A1 (261417010P) 
LOCATION:vhs, Raum V 3.04, Hauptkanal rechts 72, 26871 Papenburg
END:VEVENT
BEGIN:VEVENT
DTSTAMP:20260422T193340
DTSTART;TZID=Europe/Berlin:20260509T130000
DTEND;TZID=Europe/Berlin:20260509T143000
UID:261417010P-20260509T130000@VHSPAPENBURG
SUMMARY:Deutsch für Polinnen und Polen A1 (261417010P) 
LOCATION:vhs, Raum V 3.04, Hauptkanal rechts 72, 26871 Papenburg
END:VEVENT
BEGIN:VEVENT
DTSTAMP:20260422T193340
DTSTART;TZID=Europe/Berlin:20260516T130000
DTEND;TZID=Europe/Berlin:20260516T143000
UID:261417010P-20260516T130000@VHSPAPENBURG
SUMMARY:Deutsch für Polinnen und Polen A1 (261417010P) 
LOCATION:vhs, Raum V 3.04, Hauptkanal rechts 72, 26871 Papenburg
END:VEVENT
BEGIN:VEVENT
DTSTAMP:20260422T193340
DTSTART;TZID=Europe/Berlin:20260523T130000
DTEND;TZID=Europe/Berlin:20260523T143000
UID:261417010P-20260523T130000@VHSPAPENBURG
SUMMARY:Deutsch für Polinnen und Polen A1 (261417010P) 
LOCATION:vhs, Raum V 3.04, Hauptkanal rechts 72, 26871 Papenburg
END:VEVENT
END:VCALENDAR