BEGIN:VCALENDAR
VERSION:2.0
PRODID:https://www.kufer.de/kuferweb / DE
METHOD:PUBLISH
CALSCALE:GREGORIAN
X-WR-TIMEZONE:Europe/Berlin
BEGIN:VTIMEZONE
TZID:Europe/Berlin
X-LIC-LOCATION:Europe/Berlin
BEGIN:DAYLIGHT
TZOFFSETFROM:+0100
TZOFFSETTO:+0200
TZNAME:CEST
DTSTART:19700329T020000
RRULE:FREQ=YEARLY;INTERVAL=1;BYDAY=-1SU;BYMONTH=3
END:DAYLIGHT
BEGIN:STANDARD
TZOFFSETFROM:+0200
TZOFFSETTO:+0100
TZNAME:CET
DTSTART:19701025T030000
RRULE:FREQ=YEARLY;INTERVAL=1;BYDAY=-1SU;BYMONTH=10
END:STANDARD
END:VTIMEZONE
BEGIN:VEVENT
DTSTAMP:20260422T224239
DTSTART;TZID=Europe/Berlin:20260212T180000
DTEND;TZID=Europe/Berlin:20260212T193000
UID:261414010P-20260212T180000@VHSPAPENBURG
SUMMARY:Niederländisch für Anfänger:innen ohne Vorkenntnisse (261414010P) 
LOCATION:vhs, Raum S 2.09, Hauptkanal rechts 72, 26871 Papenburg
END:VEVENT
BEGIN:VEVENT
DTSTAMP:20260422T224239
DTSTART;TZID=Europe/Berlin:20260219T180000
DTEND;TZID=Europe/Berlin:20260219T193000
UID:261414010P-20260219T180000@VHSPAPENBURG
SUMMARY:Niederländisch für Anfänger:innen ohne Vorkenntnisse (261414010P) 
LOCATION:vhs, Raum S 2.09, Hauptkanal rechts 72, 26871 Papenburg
END:VEVENT
BEGIN:VEVENT
DTSTAMP:20260422T224239
DTSTART;TZID=Europe/Berlin:20260226T180000
DTEND;TZID=Europe/Berlin:20260226T193000
UID:261414010P-20260226T180000@VHSPAPENBURG
SUMMARY:Niederländisch für Anfänger:innen ohne Vorkenntnisse (261414010P) 
LOCATION:vhs, Raum S 2.09, Hauptkanal rechts 72, 26871 Papenburg
END:VEVENT
BEGIN:VEVENT
DTSTAMP:20260422T224239
DTSTART;TZID=Europe/Berlin:20260305T180000
DTEND;TZID=Europe/Berlin:20260305T193000
UID:261414010P-20260305T180000@VHSPAPENBURG
SUMMARY:Niederländisch für Anfänger:innen ohne Vorkenntnisse (261414010P) 
LOCATION:vhs, Raum S 2.09, Hauptkanal rechts 72, 26871 Papenburg
END:VEVENT
BEGIN:VEVENT
DTSTAMP:20260422T224239
DTSTART;TZID=Europe/Berlin:20260312T180000
DTEND;TZID=Europe/Berlin:20260312T193000
UID:261414010P-20260312T180000@VHSPAPENBURG
SUMMARY:Niederländisch für Anfänger:innen ohne Vorkenntnisse (261414010P) 
LOCATION:vhs, Raum S 2.09, Hauptkanal rechts 72, 26871 Papenburg
END:VEVENT
BEGIN:VEVENT
DTSTAMP:20260422T224239
DTSTART;TZID=Europe/Berlin:20260319T180000
DTEND;TZID=Europe/Berlin:20260319T193000
UID:261414010P-20260319T180000@VHSPAPENBURG
SUMMARY:Niederländisch für Anfänger:innen ohne Vorkenntnisse (261414010P) 
LOCATION:vhs, Raum S 2.09, Hauptkanal rechts 72, 26871 Papenburg
END:VEVENT
BEGIN:VEVENT
DTSTAMP:20260422T224239
DTSTART;TZID=Europe/Berlin:20260409T180000
DTEND;TZID=Europe/Berlin:20260409T193000
UID:261414010P-20260409T180000@VHSPAPENBURG
SUMMARY:Niederländisch für Anfänger:innen ohne Vorkenntnisse (261414010P) 
LOCATION:vhs, Raum S 2.09, Hauptkanal rechts 72, 26871 Papenburg
END:VEVENT
BEGIN:VEVENT
DTSTAMP:20260422T224239
DTSTART;TZID=Europe/Berlin:20260416T180000
DTEND;TZID=Europe/Berlin:20260416T193000
UID:261414010P-20260416T180000@VHSPAPENBURG
SUMMARY:Niederländisch für Anfänger:innen ohne Vorkenntnisse (261414010P) 
LOCATION:vhs, Raum S 2.09, Hauptkanal rechts 72, 26871 Papenburg
END:VEVENT
BEGIN:VEVENT
DTSTAMP:20260422T224239
DTSTART;TZID=Europe/Berlin:20260423T180000
DTEND;TZID=Europe/Berlin:20260423T193000
UID:261414010P-20260423T180000@VHSPAPENBURG
SUMMARY:Niederländisch für Anfänger:innen ohne Vorkenntnisse (261414010P) 
LOCATION:vhs, Raum S 2.09, Hauptkanal rechts 72, 26871 Papenburg
END:VEVENT
BEGIN:VEVENT
DTSTAMP:20260422T224239
DTSTART;TZID=Europe/Berlin:20260430T180000
DTEND;TZID=Europe/Berlin:20260430T193000
UID:261414010P-20260430T180000@VHSPAPENBURG
SUMMARY:Niederländisch für Anfänger:innen ohne Vorkenntnisse (261414010P) 
LOCATION:vhs, Raum S 2.09, Hauptkanal rechts 72, 26871 Papenburg
END:VEVENT
BEGIN:VEVENT
DTSTAMP:20260422T224239
DTSTART;TZID=Europe/Berlin:20260507T180000
DTEND;TZID=Europe/Berlin:20260507T193000
UID:261414010P-20260507T180000@VHSPAPENBURG
SUMMARY:Niederländisch für Anfänger:innen ohne Vorkenntnisse (261414010P) 
LOCATION:vhs, Raum S 2.09, Hauptkanal rechts 72, 26871 Papenburg
END:VEVENT
BEGIN:VEVENT
DTSTAMP:20260422T224239
DTSTART;TZID=Europe/Berlin:20260521T180000
DTEND;TZID=Europe/Berlin:20260521T193000
UID:261414010P-20260521T180000@VHSPAPENBURG
SUMMARY:Niederländisch für Anfänger:innen ohne Vorkenntnisse (261414010P) 
LOCATION:vhs, Raum S 2.09, Hauptkanal rechts 72, 26871 Papenburg
END:VEVENT
BEGIN:VEVENT
DTSTAMP:20260422T224239
DTSTART;TZID=Europe/Berlin:20260528T180000
DTEND;TZID=Europe/Berlin:20260528T193000
UID:261414010P-20260528T180000@VHSPAPENBURG
SUMMARY:Niederländisch für Anfänger:innen ohne Vorkenntnisse (261414010P) 
LOCATION:vhs, Raum S 2.09, Hauptkanal rechts 72, 26871 Papenburg
END:VEVENT
BEGIN:VEVENT
DTSTAMP:20260422T224239
DTSTART;TZID=Europe/Berlin:20260604T180000
DTEND;TZID=Europe/Berlin:20260604T193000
UID:261414010P-20260604T180000@VHSPAPENBURG
SUMMARY:Niederländisch für Anfänger:innen ohne Vorkenntnisse (261414010P) 
LOCATION:vhs, Raum S 2.09, Hauptkanal rechts 72, 26871 Papenburg
END:VEVENT
BEGIN:VEVENT
DTSTAMP:20260422T224239
DTSTART;TZID=Europe/Berlin:20260611T180000
DTEND;TZID=Europe/Berlin:20260611T193000
UID:261414010P-20260611T180000@VHSPAPENBURG
SUMMARY:Niederländisch für Anfänger:innen ohne Vorkenntnisse (261414010P) 
LOCATION:vhs, Raum S 2.09, Hauptkanal rechts 72, 26871 Papenburg
END:VEVENT
END:VCALENDAR