BEGIN:VCALENDAR
VERSION:2.0
PRODID:https://www.kufer.de/kuferweb / DE
METHOD:PUBLISH
CALSCALE:GREGORIAN
X-WR-TIMEZONE:Europe/Berlin
BEGIN:VTIMEZONE
TZID:Europe/Berlin
X-LIC-LOCATION:Europe/Berlin
BEGIN:DAYLIGHT
TZOFFSETFROM:+0100
TZOFFSETTO:+0200
TZNAME:CEST
DTSTART:19700329T020000
RRULE:FREQ=YEARLY;INTERVAL=1;BYDAY=-1SU;BYMONTH=3
END:DAYLIGHT
BEGIN:STANDARD
TZOFFSETFROM:+0200
TZOFFSETTO:+0100
TZNAME:CET
DTSTART:19701025T030000
RRULE:FREQ=YEARLY;INTERVAL=1;BYDAY=-1SU;BYMONTH=10
END:STANDARD
END:VTIMEZONE
BEGIN:VEVENT
DTSTAMP:20260422T192532
DTSTART;TZID=Europe/Berlin:20260212T103000
DTEND;TZID=Europe/Berlin:20260212T120000
UID:261408030P-20260212T103000@VHSPAPENBURG
SUMMARY:Nous parlons francais (A2/B1) (261408030P) 
LOCATION:vhs, Raum S 2.07, Hauptkanal rechts 72, 26871 Papenburg
END:VEVENT
BEGIN:VEVENT
DTSTAMP:20260422T192532
DTSTART;TZID=Europe/Berlin:20260219T103000
DTEND;TZID=Europe/Berlin:20260219T120000
UID:261408030P-20260219T103000@VHSPAPENBURG
SUMMARY:Nous parlons francais (A2/B1) (261408030P) 
LOCATION:vhs, Raum S 2.06, Hauptkanal rechts 72, 26871 Papenburg
END:VEVENT
BEGIN:VEVENT
DTSTAMP:20260422T192532
DTSTART;TZID=Europe/Berlin:20260226T103000
DTEND;TZID=Europe/Berlin:20260226T120000
UID:261408030P-20260226T103000@VHSPAPENBURG
SUMMARY:Nous parlons francais (A2/B1) (261408030P) 
LOCATION:vhs, Raum S 2.06, Hauptkanal rechts 72, 26871 Papenburg
END:VEVENT
BEGIN:VEVENT
DTSTAMP:20260422T192532
DTSTART;TZID=Europe/Berlin:20260305T103000
DTEND;TZID=Europe/Berlin:20260305T120000
UID:261408030P-20260305T103000@VHSPAPENBURG
SUMMARY:Nous parlons francais (A2/B1) (261408030P) 
LOCATION:vhs, Raum S 2.06, Hauptkanal rechts 72, 26871 Papenburg
END:VEVENT
BEGIN:VEVENT
DTSTAMP:20260422T192532
DTSTART;TZID=Europe/Berlin:20260312T103000
DTEND;TZID=Europe/Berlin:20260312T120000
UID:261408030P-20260312T103000@VHSPAPENBURG
SUMMARY:Nous parlons francais (A2/B1) (261408030P) 
LOCATION:vhs, Raum S 2.06, Hauptkanal rechts 72, 26871 Papenburg
END:VEVENT
BEGIN:VEVENT
DTSTAMP:20260422T192532
DTSTART;TZID=Europe/Berlin:20260319T103000
DTEND;TZID=Europe/Berlin:20260319T120000
UID:261408030P-20260319T103000@VHSPAPENBURG
SUMMARY:Nous parlons francais (A2/B1) (261408030P) 
LOCATION:vhs, Raum S 3.01, Hauptkanal rechts 72, 26871 Papenburg
END:VEVENT
BEGIN:VEVENT
DTSTAMP:20260422T192532
DTSTART;TZID=Europe/Berlin:20260409T103000
DTEND;TZID=Europe/Berlin:20260409T120000
UID:261408030P-20260409T103000@VHSPAPENBURG
SUMMARY:Nous parlons francais (A2/B1) (261408030P) 
LOCATION:vhs, Raum S 2.06, Hauptkanal rechts 72, 26871 Papenburg
END:VEVENT
BEGIN:VEVENT
DTSTAMP:20260422T192532
DTSTART;TZID=Europe/Berlin:20260416T103000
DTEND;TZID=Europe/Berlin:20260416T120000
UID:261408030P-20260416T103000@VHSPAPENBURG
SUMMARY:Nous parlons francais (A2/B1) (261408030P) 
LOCATION:vhs, Raum S 2.07, Hauptkanal rechts 72, 26871 Papenburg
END:VEVENT
BEGIN:VEVENT
DTSTAMP:20260422T192532
DTSTART;TZID=Europe/Berlin:20260423T103000
DTEND;TZID=Europe/Berlin:20260423T120000
UID:261408030P-20260423T103000@VHSPAPENBURG
SUMMARY:Nous parlons francais (A2/B1) (261408030P) 
LOCATION:vhs, Raum S 2.06, Hauptkanal rechts 72, 26871 Papenburg
END:VEVENT
BEGIN:VEVENT
DTSTAMP:20260422T192532
DTSTART;TZID=Europe/Berlin:20260430T103000
DTEND;TZID=Europe/Berlin:20260430T120000
UID:261408030P-20260430T103000@VHSPAPENBURG
SUMMARY:Nous parlons francais (A2/B1) (261408030P) 
LOCATION:vhs, Raum S 2.06, Hauptkanal rechts 72, 26871 Papenburg
END:VEVENT
BEGIN:VEVENT
DTSTAMP:20260422T192532
DTSTART;TZID=Europe/Berlin:20260521T103000
DTEND;TZID=Europe/Berlin:20260521T120000
UID:261408030P-20260521T103000@VHSPAPENBURG
SUMMARY:Nous parlons francais (A2/B1) (261408030P) 
LOCATION:vhs, Raum S 2.06, Hauptkanal rechts 72, 26871 Papenburg
END:VEVENT
END:VCALENDAR