BEGIN:VCALENDAR
VERSION:2.0
PRODID:https://www.kufer.de/kuferweb / DE
METHOD:PUBLISH
CALSCALE:GREGORIAN
X-WR-TIMEZONE:Europe/Berlin
BEGIN:VTIMEZONE
TZID:Europe/Berlin
X-LIC-LOCATION:Europe/Berlin
BEGIN:DAYLIGHT
TZOFFSETFROM:+0100
TZOFFSETTO:+0200
TZNAME:CEST
DTSTART:19700329T020000
RRULE:FREQ=YEARLY;INTERVAL=1;BYDAY=-1SU;BYMONTH=3
END:DAYLIGHT
BEGIN:STANDARD
TZOFFSETFROM:+0200
TZOFFSETTO:+0100
TZNAME:CET
DTSTART:19701025T030000
RRULE:FREQ=YEARLY;INTERVAL=1;BYDAY=-1SU;BYMONTH=10
END:STANDARD
END:VTIMEZONE
BEGIN:VEVENT
DTSTAMP:20260422T223347
DTSTART;TZID=Europe/Berlin:20260209T180000
DTEND;TZID=Europe/Berlin:20260209T203000
UID:261404060P-20260209T180000@VHSPAPENBURG
DESCRIPTION:abgerechnet
SUMMARY:Deutsch A1 (261404060P) 
LOCATION:vhs, Raum S 2.08, Hauptkanal rechts 72, 26871 Papenburg
END:VEVENT
BEGIN:VEVENT
DTSTAMP:20260422T223347
DTSTART;TZID=Europe/Berlin:20260216T180000
DTEND;TZID=Europe/Berlin:20260216T203000
UID:261404060P-20260216T180000@VHSPAPENBURG
DESCRIPTION:abgerechnet
SUMMARY:Deutsch A1 (261404060P) 
LOCATION:vhs, Raum S 2.09, Hauptkanal rechts 72, 26871 Papenburg
END:VEVENT
BEGIN:VEVENT
DTSTAMP:20260422T223347
DTSTART;TZID=Europe/Berlin:20260223T180000
DTEND;TZID=Europe/Berlin:20260223T203000
UID:261404060P-20260223T180000@VHSPAPENBURG
DESCRIPTION:abgerechnet
SUMMARY:Deutsch A1 (261404060P) 
LOCATION:vhs, Raum S 2.09, Hauptkanal rechts 72, 26871 Papenburg
END:VEVENT
BEGIN:VEVENT
DTSTAMP:20260422T223347
DTSTART;TZID=Europe/Berlin:20260302T180000
DTEND;TZID=Europe/Berlin:20260302T203000
UID:261404060P-20260302T180000@VHSPAPENBURG
SUMMARY:Deutsch A1 (261404060P) 
LOCATION:vhs, Raum S 2.09, Hauptkanal rechts 72, 26871 Papenburg
END:VEVENT
BEGIN:VEVENT
DTSTAMP:20260422T223347
DTSTART;TZID=Europe/Berlin:20260309T180000
DTEND;TZID=Europe/Berlin:20260309T203000
UID:261404060P-20260309T180000@VHSPAPENBURG
SUMMARY:Deutsch A1 (261404060P) 
LOCATION:vhs, Raum S 2.09, Hauptkanal rechts 72, 26871 Papenburg
END:VEVENT
BEGIN:VEVENT
DTSTAMP:20260422T223347
DTSTART;TZID=Europe/Berlin:20260316T180000
DTEND;TZID=Europe/Berlin:20260316T203000
UID:261404060P-20260316T180000@VHSPAPENBURG
SUMMARY:Deutsch A1 (261404060P) 
LOCATION:vhs, Raum S 2.09, Hauptkanal rechts 72, 26871 Papenburg
END:VEVENT
BEGIN:VEVENT
DTSTAMP:20260422T223347
DTSTART;TZID=Europe/Berlin:20260413T180000
DTEND;TZID=Europe/Berlin:20260413T203000
UID:261404060P-20260413T180000@VHSPAPENBURG
SUMMARY:Deutsch A1 (261404060P) 
LOCATION:vhs, Raum S 2.09, Hauptkanal rechts 72, 26871 Papenburg
END:VEVENT
BEGIN:VEVENT
DTSTAMP:20260422T223347
DTSTART;TZID=Europe/Berlin:20260420T180000
DTEND;TZID=Europe/Berlin:20260420T203000
UID:261404060P-20260420T180000@VHSPAPENBURG
SUMMARY:Deutsch A1 (261404060P) 
LOCATION:vhs, Raum S 2.09, Hauptkanal rechts 72, 26871 Papenburg
END:VEVENT
BEGIN:VEVENT
DTSTAMP:20260422T223347
DTSTART;TZID=Europe/Berlin:20260427T180000
DTEND;TZID=Europe/Berlin:20260427T203000
UID:261404060P-20260427T180000@VHSPAPENBURG
SUMMARY:Deutsch A1 (261404060P) 
LOCATION:vhs, Raum S 2.09, Hauptkanal rechts 72, 26871 Papenburg
END:VEVENT
END:VCALENDAR