BEGIN:VCALENDAR
VERSION:2.0
PRODID:https://www.kufer.de/kuferweb / DE
METHOD:PUBLISH
CALSCALE:GREGORIAN
X-WR-TIMEZONE:Europe/Berlin
BEGIN:VTIMEZONE
TZID:Europe/Berlin
X-LIC-LOCATION:Europe/Berlin
BEGIN:DAYLIGHT
TZOFFSETFROM:+0100
TZOFFSETTO:+0200
TZNAME:CEST
DTSTART:19700329T020000
RRULE:FREQ=YEARLY;INTERVAL=1;BYDAY=-1SU;BYMONTH=3
END:DAYLIGHT
BEGIN:STANDARD
TZOFFSETFROM:+0200
TZOFFSETTO:+0100
TZNAME:CET
DTSTART:19701025T030000
RRULE:FREQ=YEARLY;INTERVAL=1;BYDAY=-1SU;BYMONTH=10
END:STANDARD
END:VTIMEZONE
BEGIN:VEVENT
DTSTAMP:20260422T205833
DTSTART;TZID=Europe/Berlin:20260305T174500
DTEND;TZID=Europe/Berlin:20260305T201500
UID:261404040P-20260305T174500@VHSPAPENBURG
SUMMARY:Deutsch B2 (261404040P) 
LOCATION:vhs, Raum S 2.05, Hauptkanal rechts 72, 26871 Papenburg
END:VEVENT
BEGIN:VEVENT
DTSTAMP:20260422T205833
DTSTART;TZID=Europe/Berlin:20260312T174500
DTEND;TZID=Europe/Berlin:20260312T201500
UID:261404040P-20260312T174500@VHSPAPENBURG
SUMMARY:Deutsch B2 (261404040P) 
LOCATION:vhs, Raum S 2.05, Hauptkanal rechts 72, 26871 Papenburg
END:VEVENT
BEGIN:VEVENT
DTSTAMP:20260422T205833
DTSTART;TZID=Europe/Berlin:20260319T174500
DTEND;TZID=Europe/Berlin:20260319T201500
UID:261404040P-20260319T174500@VHSPAPENBURG
SUMMARY:Deutsch B2 (261404040P) 
LOCATION:vhs, Raum S 2.05, Hauptkanal rechts 72, 26871 Papenburg
END:VEVENT
BEGIN:VEVENT
DTSTAMP:20260422T205833
DTSTART;TZID=Europe/Berlin:20260409T174500
DTEND;TZID=Europe/Berlin:20260409T201500
UID:261404040P-20260409T174500@VHSPAPENBURG
SUMMARY:Deutsch B2 (261404040P) 
LOCATION:vhs, Raum S 2.05, Hauptkanal rechts 72, 26871 Papenburg
END:VEVENT
BEGIN:VEVENT
DTSTAMP:20260422T205833
DTSTART;TZID=Europe/Berlin:20260416T174500
DTEND;TZID=Europe/Berlin:20260416T201500
UID:261404040P-20260416T174500@VHSPAPENBURG
SUMMARY:Deutsch B2 (261404040P) 
LOCATION:vhs, Raum S 2.05, Hauptkanal rechts 72, 26871 Papenburg
END:VEVENT
BEGIN:VEVENT
DTSTAMP:20260422T205833
DTSTART;TZID=Europe/Berlin:20260423T174500
DTEND;TZID=Europe/Berlin:20260423T201500
UID:261404040P-20260423T174500@VHSPAPENBURG
SUMMARY:Deutsch B2 (261404040P) 
LOCATION:vhs, Raum S 2.05, Hauptkanal rechts 72, 26871 Papenburg
END:VEVENT
BEGIN:VEVENT
DTSTAMP:20260422T205833
DTSTART;TZID=Europe/Berlin:20260430T174500
DTEND;TZID=Europe/Berlin:20260430T201500
UID:261404040P-20260430T174500@VHSPAPENBURG
SUMMARY:Deutsch B2 (261404040P) 
LOCATION:vhs, Raum S 2.05, Hauptkanal rechts 72, 26871 Papenburg
END:VEVENT
BEGIN:VEVENT
DTSTAMP:20260422T205833
DTSTART;TZID=Europe/Berlin:20260521T174500
DTEND;TZID=Europe/Berlin:20260521T201500
UID:261404040P-20260521T174500@VHSPAPENBURG
SUMMARY:Deutsch B2 (261404040P) 
LOCATION:vhs, Raum S 2.05, Hauptkanal rechts 72, 26871 Papenburg
END:VEVENT
BEGIN:VEVENT
DTSTAMP:20260422T205833
DTSTART;TZID=Europe/Berlin:20260528T174500
DTEND;TZID=Europe/Berlin:20260528T201500
UID:261404040P-20260528T174500@VHSPAPENBURG
SUMMARY:Deutsch B2 (261404040P) 
LOCATION:vhs, Raum S 2.05, Hauptkanal rechts 72, 26871 Papenburg
END:VEVENT
BEGIN:VEVENT
DTSTAMP:20260422T205833
DTSTART;TZID=Europe/Berlin:20260604T174500
DTEND;TZID=Europe/Berlin:20260604T201500
UID:261404040P-20260604T174500@VHSPAPENBURG
SUMMARY:Deutsch B2 (261404040P) 
LOCATION:vhs, Raum S 2.05, Hauptkanal rechts 72, 26871 Papenburg
END:VEVENT
BEGIN:VEVENT
DTSTAMP:20260422T205833
DTSTART;TZID=Europe/Berlin:20260611T174500
DTEND;TZID=Europe/Berlin:20260611T201500
UID:261404040P-20260611T174500@VHSPAPENBURG
SUMMARY:Deutsch B2 (261404040P) 
LOCATION:vhs, Raum S 2.05, Hauptkanal rechts 72, 26871 Papenburg
END:VEVENT
BEGIN:VEVENT
DTSTAMP:20260422T205833
DTSTART;TZID=Europe/Berlin:20260618T174500
DTEND;TZID=Europe/Berlin:20260618T201500
UID:261404040P-20260618T174500@VHSPAPENBURG
SUMMARY:Deutsch B2 (261404040P) 
LOCATION:vhs, Raum S 2.05, Hauptkanal rechts 72, 26871 Papenburg
END:VEVENT
BEGIN:VEVENT
DTSTAMP:20260422T205833
DTSTART;TZID=Europe/Berlin:20260625T174500
DTEND;TZID=Europe/Berlin:20260625T201500
UID:261404040P-20260625T174500@VHSPAPENBURG
SUMMARY:Deutsch B2 (261404040P) 
LOCATION:vhs, Raum S 2.05, Hauptkanal rechts 72, 26871 Papenburg
END:VEVENT
BEGIN:VEVENT
DTSTAMP:20260422T205833
DTSTART;TZID=Europe/Berlin:20260702T174500
DTEND;TZID=Europe/Berlin:20260702T201500
UID:261404040P-20260702T174500@VHSPAPENBURG
SUMMARY:Deutsch B2 (261404040P) 
LOCATION:vhs, Raum S 2.05, Hauptkanal rechts 72, 26871 Papenburg
END:VEVENT
END:VCALENDAR