BEGIN:VCALENDAR
VERSION:2.0
PRODID:https://www.kufer.de/kuferweb / DE
METHOD:PUBLISH
CALSCALE:GREGORIAN
X-WR-TIMEZONE:Europe/Berlin
BEGIN:VTIMEZONE
TZID:Europe/Berlin
X-LIC-LOCATION:Europe/Berlin
BEGIN:DAYLIGHT
TZOFFSETFROM:+0100
TZOFFSETTO:+0200
TZNAME:CEST
DTSTART:19700329T020000
RRULE:FREQ=YEARLY;INTERVAL=1;BYDAY=-1SU;BYMONTH=3
END:DAYLIGHT
BEGIN:STANDARD
TZOFFSETFROM:+0200
TZOFFSETTO:+0100
TZNAME:CET
DTSTART:19701025T030000
RRULE:FREQ=YEARLY;INTERVAL=1;BYDAY=-1SU;BYMONTH=10
END:STANDARD
END:VTIMEZONE
BEGIN:VEVENT
DTSTAMP:20260422T192553
DTSTART;TZID=Europe/Berlin:20260225T174500
DTEND;TZID=Europe/Berlin:20260225T201500
UID:261404030P-20260225T174500@VHSPAPENBURG
SUMMARY:Deutsch B1 (261404030P) 
LOCATION:vhs, Raum S 3.01, Hauptkanal rechts 72, 26871 Papenburg
END:VEVENT
BEGIN:VEVENT
DTSTAMP:20260422T192553
DTSTART;TZID=Europe/Berlin:20260304T174500
DTEND;TZID=Europe/Berlin:20260304T201500
UID:261404030P-20260304T174500@VHSPAPENBURG
SUMMARY:Deutsch B1 (261404030P) 
LOCATION:vhs, Raum S 2.05, Hauptkanal rechts 72, 26871 Papenburg
END:VEVENT
BEGIN:VEVENT
DTSTAMP:20260422T192553
DTSTART;TZID=Europe/Berlin:20260311T174500
DTEND;TZID=Europe/Berlin:20260311T201500
UID:261404030P-20260311T174500@VHSPAPENBURG
SUMMARY:Deutsch B1 (261404030P) 
LOCATION:vhs, Raum S 3.01, Hauptkanal rechts 72, 26871 Papenburg
END:VEVENT
BEGIN:VEVENT
DTSTAMP:20260422T192553
DTSTART;TZID=Europe/Berlin:20260318T174500
DTEND;TZID=Europe/Berlin:20260318T201500
UID:261404030P-20260318T174500@VHSPAPENBURG
SUMMARY:Deutsch B1 (261404030P) 
LOCATION:vhs, Raum S 3.01, Hauptkanal rechts 72, 26871 Papenburg
END:VEVENT
BEGIN:VEVENT
DTSTAMP:20260422T192553
DTSTART;TZID=Europe/Berlin:20260408T174500
DTEND;TZID=Europe/Berlin:20260408T201500
UID:261404030P-20260408T174500@VHSPAPENBURG
SUMMARY:Deutsch B1 (261404030P) 
LOCATION:vhs, Raum S 3.01, Hauptkanal rechts 72, 26871 Papenburg
END:VEVENT
BEGIN:VEVENT
DTSTAMP:20260422T192553
DTSTART;TZID=Europe/Berlin:20260415T174500
DTEND;TZID=Europe/Berlin:20260415T201500
UID:261404030P-20260415T174500@VHSPAPENBURG
SUMMARY:Deutsch B1 (261404030P) 
LOCATION:vhs, Raum S 3.01, Hauptkanal rechts 72, 26871 Papenburg
END:VEVENT
BEGIN:VEVENT
DTSTAMP:20260422T192553
DTSTART;TZID=Europe/Berlin:20260422T174500
DTEND;TZID=Europe/Berlin:20260422T201500
UID:261404030P-20260422T174500@VHSPAPENBURG
SUMMARY:Deutsch B1 (261404030P) 
LOCATION:vhs, Raum S 3.01, Hauptkanal rechts 72, 26871 Papenburg
END:VEVENT
BEGIN:VEVENT
DTSTAMP:20260422T192553
DTSTART;TZID=Europe/Berlin:20260506T174500
DTEND;TZID=Europe/Berlin:20260506T201500
UID:261404030P-20260506T174500@VHSPAPENBURG
SUMMARY:Deutsch B1 (261404030P) 
LOCATION:vhs, Raum S 3.01, Hauptkanal rechts 72, 26871 Papenburg
END:VEVENT
BEGIN:VEVENT
DTSTAMP:20260422T192553
DTSTART;TZID=Europe/Berlin:20260513T174500
DTEND;TZID=Europe/Berlin:20260513T201500
UID:261404030P-20260513T174500@VHSPAPENBURG
SUMMARY:Deutsch B1 (261404030P) 
LOCATION:vhs, Raum S 3.01, Hauptkanal rechts 72, 26871 Papenburg
END:VEVENT
BEGIN:VEVENT
DTSTAMP:20260422T192553
DTSTART;TZID=Europe/Berlin:20260520T174500
DTEND;TZID=Europe/Berlin:20260520T201500
UID:261404030P-20260520T174500@VHSPAPENBURG
SUMMARY:Deutsch B1 (261404030P) 
LOCATION:vhs, Raum S 3.01, Hauptkanal rechts 72, 26871 Papenburg
END:VEVENT
BEGIN:VEVENT
DTSTAMP:20260422T192553
DTSTART;TZID=Europe/Berlin:20260527T174500
DTEND;TZID=Europe/Berlin:20260527T201500
UID:261404030P-20260527T174500@VHSPAPENBURG
SUMMARY:Deutsch B1 (261404030P) 
LOCATION:vhs, Raum S 3.01, Hauptkanal rechts 72, 26871 Papenburg
END:VEVENT
BEGIN:VEVENT
DTSTAMP:20260422T192553
DTSTART;TZID=Europe/Berlin:20260603T174500
DTEND;TZID=Europe/Berlin:20260603T201500
UID:261404030P-20260603T174500@VHSPAPENBURG
SUMMARY:Deutsch B1 (261404030P) 
LOCATION:vhs, Raum S 3.01, Hauptkanal rechts 72, 26871 Papenburg
END:VEVENT
BEGIN:VEVENT
DTSTAMP:20260422T192553
DTSTART;TZID=Europe/Berlin:20260610T174500
DTEND;TZID=Europe/Berlin:20260610T201500
UID:261404030P-20260610T174500@VHSPAPENBURG
SUMMARY:Deutsch B1 (261404030P) 
LOCATION:vhs, Raum S 3.01, Hauptkanal rechts 72, 26871 Papenburg
END:VEVENT
BEGIN:VEVENT
DTSTAMP:20260422T192553
DTSTART;TZID=Europe/Berlin:20260617T174500
DTEND;TZID=Europe/Berlin:20260617T201500
UID:261404030P-20260617T174500@VHSPAPENBURG
SUMMARY:Deutsch B1 (261404030P) 
LOCATION:vhs, Raum S 3.01, Hauptkanal rechts 72, 26871 Papenburg
END:VEVENT
BEGIN:VEVENT
DTSTAMP:20260422T192553
DTSTART;TZID=Europe/Berlin:20260624T174500
DTEND;TZID=Europe/Berlin:20260624T201500
UID:261404030P-20260624T174500@VHSPAPENBURG
SUMMARY:Deutsch B1 (261404030P) 
LOCATION:vhs, Raum S 3.01, Hauptkanal rechts 72, 26871 Papenburg
END:VEVENT
END:VCALENDAR