BEGIN:VCALENDAR
VERSION:2.0
PRODID:https://www.kufer.de/kuferweb / DE
METHOD:PUBLISH
CALSCALE:GREGORIAN
X-WR-TIMEZONE:Europe/Berlin
BEGIN:VTIMEZONE
TZID:Europe/Berlin
X-LIC-LOCATION:Europe/Berlin
BEGIN:DAYLIGHT
TZOFFSETFROM:+0100
TZOFFSETTO:+0200
TZNAME:CEST
DTSTART:19700329T020000
RRULE:FREQ=YEARLY;INTERVAL=1;BYDAY=-1SU;BYMONTH=3
END:DAYLIGHT
BEGIN:STANDARD
TZOFFSETFROM:+0200
TZOFFSETTO:+0100
TZNAME:CET
DTSTART:19701025T030000
RRULE:FREQ=YEARLY;INTERVAL=1;BYDAY=-1SU;BYMONTH=10
END:STANDARD
END:VTIMEZONE
BEGIN:VEVENT
DTSTAMP:20260422T205941
DTSTART;TZID=Europe/Berlin:20260218T190000
DTEND;TZID=Europe/Berlin:20260218T211500
UID:261404010W-20260218T190000@VHSPAPENBURG
SUMMARY:Deutsch für den Alltag (261404010W) 
LOCATION:Etage Schlangen, R. 1, Hauptstr. 12 a, 49757 Werlte
END:VEVENT
BEGIN:VEVENT
DTSTAMP:20260422T205941
DTSTART;TZID=Europe/Berlin:20260225T190000
DTEND;TZID=Europe/Berlin:20260225T211500
UID:261404010W-20260225T190000@VHSPAPENBURG
SUMMARY:Deutsch für den Alltag (261404010W) 
LOCATION:Etage Schlangen, R. 1, Hauptstr. 12 a, 49757 Werlte
END:VEVENT
BEGIN:VEVENT
DTSTAMP:20260422T205941
DTSTART;TZID=Europe/Berlin:20260304T190000
DTEND;TZID=Europe/Berlin:20260304T211500
UID:261404010W-20260304T190000@VHSPAPENBURG
SUMMARY:Deutsch für den Alltag (261404010W) 
LOCATION:Etage Schlangen, R. 1, Hauptstr. 12 a, 49757 Werlte
END:VEVENT
BEGIN:VEVENT
DTSTAMP:20260422T205941
DTSTART;TZID=Europe/Berlin:20260311T190000
DTEND;TZID=Europe/Berlin:20260311T211500
UID:261404010W-20260311T190000@VHSPAPENBURG
SUMMARY:Deutsch für den Alltag (261404010W) 
LOCATION:Etage Schlangen, R. 1, Hauptstr. 12 a, 49757 Werlte
END:VEVENT
BEGIN:VEVENT
DTSTAMP:20260422T205941
DTSTART;TZID=Europe/Berlin:20260318T190000
DTEND;TZID=Europe/Berlin:20260318T211500
UID:261404010W-20260318T190000@VHSPAPENBURG
SUMMARY:Deutsch für den Alltag (261404010W) 
LOCATION:Etage Schlangen, R. 1, Hauptstr. 12 a, 49757 Werlte
END:VEVENT
BEGIN:VEVENT
DTSTAMP:20260422T205941
DTSTART;TZID=Europe/Berlin:20260325T190000
DTEND;TZID=Europe/Berlin:20260325T211500
UID:261404010W-20260325T190000@VHSPAPENBURG
SUMMARY:Deutsch für den Alltag (261404010W) 
LOCATION:Etage Schlangen, R. 1, Hauptstr. 12 a, 49757 Werlte
END:VEVENT
BEGIN:VEVENT
DTSTAMP:20260422T205941
DTSTART;TZID=Europe/Berlin:20260408T190000
DTEND;TZID=Europe/Berlin:20260408T211500
UID:261404010W-20260408T190000@VHSPAPENBURG
SUMMARY:Deutsch für den Alltag (261404010W) 
LOCATION:Etage Schlangen, R. 1, Hauptstr. 12 a, 49757 Werlte
END:VEVENT
BEGIN:VEVENT
DTSTAMP:20260422T205941
DTSTART;TZID=Europe/Berlin:20260415T190000
DTEND;TZID=Europe/Berlin:20260415T211500
UID:261404010W-20260415T190000@VHSPAPENBURG
SUMMARY:Deutsch für den Alltag (261404010W) 
LOCATION:Etage Schlangen, R. 1, Hauptstr. 12 a, 49757 Werlte
END:VEVENT
BEGIN:VEVENT
DTSTAMP:20260422T205941
DTSTART;TZID=Europe/Berlin:20260422T190000
DTEND;TZID=Europe/Berlin:20260422T211500
UID:261404010W-20260422T190000@VHSPAPENBURG
SUMMARY:Deutsch für den Alltag (261404010W) 
LOCATION:Etage Schlangen, R. 1, Hauptstr. 12 a, 49757 Werlte
END:VEVENT
BEGIN:VEVENT
DTSTAMP:20260422T205941
DTSTART;TZID=Europe/Berlin:20260429T190000
DTEND;TZID=Europe/Berlin:20260429T211500
UID:261404010W-20260429T190000@VHSPAPENBURG
SUMMARY:Deutsch für den Alltag (261404010W) 
LOCATION:Etage Schlangen, R. 1, Hauptstr. 12 a, 49757 Werlte
END:VEVENT
END:VCALENDAR