BEGIN:VCALENDAR
VERSION:2.0
PRODID:https://www.kufer.de/kuferweb / DE
METHOD:PUBLISH
CALSCALE:GREGORIAN
X-WR-TIMEZONE:Europe/Berlin
BEGIN:VTIMEZONE
TZID:Europe/Berlin
X-LIC-LOCATION:Europe/Berlin
BEGIN:DAYLIGHT
TZOFFSETFROM:+0100
TZOFFSETTO:+0200
TZNAME:CEST
DTSTART:19700329T020000
RRULE:FREQ=YEARLY;INTERVAL=1;BYDAY=-1SU;BYMONTH=3
END:DAYLIGHT
BEGIN:STANDARD
TZOFFSETFROM:+0200
TZOFFSETTO:+0100
TZNAME:CET
DTSTART:19701025T030000
RRULE:FREQ=YEARLY;INTERVAL=1;BYDAY=-1SU;BYMONTH=10
END:STANDARD
END:VTIMEZONE
BEGIN:VEVENT
DTSTAMP:20260422T174715
DTSTART;TZID=Europe/Berlin:20260206T175000
DTEND;TZID=Europe/Berlin:20260206T183500
UID:261305470P-20260206T175000@VHSPAPENBURG
SUMMARY:Wassergymnastik im Parc (261305470P) 
LOCATION:Marien Hospital Papenburger Reha-Centrum, Hauptkanal rechts 74, 26871 Papenburg
END:VEVENT
BEGIN:VEVENT
DTSTAMP:20260422T174715
DTSTART;TZID=Europe/Berlin:20260213T175000
DTEND;TZID=Europe/Berlin:20260213T183500
UID:261305470P-20260213T175000@VHSPAPENBURG
SUMMARY:Wassergymnastik im Parc (261305470P) 
LOCATION:Marien Hospital Papenburger Reha-Centrum, Hauptkanal rechts 74, 26871 Papenburg
END:VEVENT
BEGIN:VEVENT
DTSTAMP:20260422T174715
DTSTART;TZID=Europe/Berlin:20260220T175000
DTEND;TZID=Europe/Berlin:20260220T183500
UID:261305470P-20260220T175000@VHSPAPENBURG
SUMMARY:Wassergymnastik im Parc (261305470P) 
LOCATION:Marien Hospital Papenburger Reha-Centrum, Hauptkanal rechts 74, 26871 Papenburg
END:VEVENT
BEGIN:VEVENT
DTSTAMP:20260422T174715
DTSTART;TZID=Europe/Berlin:20260227T175000
DTEND;TZID=Europe/Berlin:20260227T183500
UID:261305470P-20260227T175000@VHSPAPENBURG
SUMMARY:Wassergymnastik im Parc (261305470P) 
LOCATION:Marien Hospital Papenburger Reha-Centrum, Hauptkanal rechts 74, 26871 Papenburg
END:VEVENT
BEGIN:VEVENT
DTSTAMP:20260422T174715
DTSTART;TZID=Europe/Berlin:20260306T175000
DTEND;TZID=Europe/Berlin:20260306T183500
UID:261305470P-20260306T175000@VHSPAPENBURG
SUMMARY:Wassergymnastik im Parc (261305470P) 
LOCATION:Marien Hospital Papenburger Reha-Centrum, Hauptkanal rechts 74, 26871 Papenburg
END:VEVENT
BEGIN:VEVENT
DTSTAMP:20260422T174715
DTSTART;TZID=Europe/Berlin:20260313T175000
DTEND;TZID=Europe/Berlin:20260313T183500
UID:261305470P-20260313T175000@VHSPAPENBURG
SUMMARY:Wassergymnastik im Parc (261305470P) 
LOCATION:Marien Hospital Papenburger Reha-Centrum, Hauptkanal rechts 74, 26871 Papenburg
END:VEVENT
BEGIN:VEVENT
DTSTAMP:20260422T174715
DTSTART;TZID=Europe/Berlin:20260320T175000
DTEND;TZID=Europe/Berlin:20260320T183500
UID:261305470P-20260320T175000@VHSPAPENBURG
SUMMARY:Wassergymnastik im Parc (261305470P) 
LOCATION:Marien Hospital Papenburger Reha-Centrum, Hauptkanal rechts 74, 26871 Papenburg
END:VEVENT
BEGIN:VEVENT
DTSTAMP:20260422T174715
DTSTART;TZID=Europe/Berlin:20260327T175000
DTEND;TZID=Europe/Berlin:20260327T183500
UID:261305470P-20260327T175000@VHSPAPENBURG
DESCRIPTION:Ersatz für Ausfall am 08.05.2026
SUMMARY:Wassergymnastik im Parc (261305470P) 
LOCATION:Marien Hospital Papenburger Reha-Centrum, Hauptkanal rechts 74, 26871 Papenburg
END:VEVENT
BEGIN:VEVENT
DTSTAMP:20260422T174715
DTSTART;TZID=Europe/Berlin:20260410T175000
DTEND;TZID=Europe/Berlin:20260410T183500
UID:261305470P-20260410T175000@VHSPAPENBURG
SUMMARY:Wassergymnastik im Parc (261305470P) 
LOCATION:Marien Hospital Papenburger Reha-Centrum, Hauptkanal rechts 74, 26871 Papenburg
END:VEVENT
BEGIN:VEVENT
DTSTAMP:20260422T174715
DTSTART;TZID=Europe/Berlin:20260417T175000
DTEND;TZID=Europe/Berlin:20260417T183500
UID:261305470P-20260417T175000@VHSPAPENBURG
SUMMARY:Wassergymnastik im Parc (261305470P) 
LOCATION:Marien Hospital Papenburger Reha-Centrum, Hauptkanal rechts 74, 26871 Papenburg
END:VEVENT
BEGIN:VEVENT
DTSTAMP:20260422T174715
DTSTART;TZID=Europe/Berlin:20260424T175000
DTEND;TZID=Europe/Berlin:20260424T183500
UID:261305470P-20260424T175000@VHSPAPENBURG
SUMMARY:Wassergymnastik im Parc (261305470P) 
LOCATION:Marien Hospital Papenburger Reha-Centrum, Hauptkanal rechts 74, 26871 Papenburg
END:VEVENT
END:VCALENDAR