BEGIN:VCALENDAR
VERSION:2.0
PRODID:https://www.kufer.de/kuferweb / DE
METHOD:PUBLISH
CALSCALE:GREGORIAN
X-WR-TIMEZONE:Europe/Berlin
BEGIN:VTIMEZONE
TZID:Europe/Berlin
X-LIC-LOCATION:Europe/Berlin
BEGIN:DAYLIGHT
TZOFFSETFROM:+0100
TZOFFSETTO:+0200
TZNAME:CEST
DTSTART:19700329T020000
RRULE:FREQ=YEARLY;INTERVAL=1;BYDAY=-1SU;BYMONTH=3
END:DAYLIGHT
BEGIN:STANDARD
TZOFFSETFROM:+0200
TZOFFSETTO:+0100
TZNAME:CET
DTSTART:19701025T030000
RRULE:FREQ=YEARLY;INTERVAL=1;BYDAY=-1SU;BYMONTH=10
END:STANDARD
END:VTIMEZONE
BEGIN:VEVENT
DTSTAMP:20260422T192705
DTSTART;TZID=Europe/Berlin:20260206T170000
DTEND;TZID=Europe/Berlin:20260206T174500
UID:261305460P-20260206T170000@VHSPAPENBURG
SUMMARY:Wassergymnastik im Parc (261305460P) 
LOCATION:Marien Hospital Papenburger Reha-Centrum, Hauptkanal rechts 74, 26871 Papenburg
END:VEVENT
BEGIN:VEVENT
DTSTAMP:20260422T192705
DTSTART;TZID=Europe/Berlin:20260213T170000
DTEND;TZID=Europe/Berlin:20260213T174500
UID:261305460P-20260213T170000@VHSPAPENBURG
SUMMARY:Wassergymnastik im Parc (261305460P) 
LOCATION:Marien Hospital Papenburger Reha-Centrum, Hauptkanal rechts 74, 26871 Papenburg
END:VEVENT
BEGIN:VEVENT
DTSTAMP:20260422T192705
DTSTART;TZID=Europe/Berlin:20260220T170000
DTEND;TZID=Europe/Berlin:20260220T174500
UID:261305460P-20260220T170000@VHSPAPENBURG
SUMMARY:Wassergymnastik im Parc (261305460P) 
LOCATION:Marien Hospital Papenburger Reha-Centrum, Hauptkanal rechts 74, 26871 Papenburg
END:VEVENT
BEGIN:VEVENT
DTSTAMP:20260422T192705
DTSTART;TZID=Europe/Berlin:20260227T170000
DTEND;TZID=Europe/Berlin:20260227T174500
UID:261305460P-20260227T170000@VHSPAPENBURG
SUMMARY:Wassergymnastik im Parc (261305460P) 
LOCATION:Marien Hospital Papenburger Reha-Centrum, Hauptkanal rechts 74, 26871 Papenburg
END:VEVENT
BEGIN:VEVENT
DTSTAMP:20260422T192705
DTSTART;TZID=Europe/Berlin:20260306T170000
DTEND;TZID=Europe/Berlin:20260306T174500
UID:261305460P-20260306T170000@VHSPAPENBURG
SUMMARY:Wassergymnastik im Parc (261305460P) 
LOCATION:Marien Hospital Papenburger Reha-Centrum, Hauptkanal rechts 74, 26871 Papenburg
END:VEVENT
BEGIN:VEVENT
DTSTAMP:20260422T192705
DTSTART;TZID=Europe/Berlin:20260313T170000
DTEND;TZID=Europe/Berlin:20260313T174500
UID:261305460P-20260313T170000@VHSPAPENBURG
SUMMARY:Wassergymnastik im Parc (261305460P) 
LOCATION:Marien Hospital Papenburger Reha-Centrum, Hauptkanal rechts 74, 26871 Papenburg
END:VEVENT
BEGIN:VEVENT
DTSTAMP:20260422T192705
DTSTART;TZID=Europe/Berlin:20260320T170000
DTEND;TZID=Europe/Berlin:20260320T174500
UID:261305460P-20260320T170000@VHSPAPENBURG
SUMMARY:Wassergymnastik im Parc (261305460P) 
LOCATION:Marien Hospital Papenburger Reha-Centrum, Hauptkanal rechts 74, 26871 Papenburg
END:VEVENT
BEGIN:VEVENT
DTSTAMP:20260422T192705
DTSTART;TZID=Europe/Berlin:20260327T170000
DTEND;TZID=Europe/Berlin:20260327T174500
UID:261305460P-20260327T170000@VHSPAPENBURG
DESCRIPTION:Ersatz für Ausfall am 08.05.2026
SUMMARY:Wassergymnastik im Parc (261305460P) 
LOCATION:Marien Hospital Papenburger Reha-Centrum, Hauptkanal rechts 74, 26871 Papenburg
END:VEVENT
BEGIN:VEVENT
DTSTAMP:20260422T192705
DTSTART;TZID=Europe/Berlin:20260410T170000
DTEND;TZID=Europe/Berlin:20260410T174500
UID:261305460P-20260410T170000@VHSPAPENBURG
SUMMARY:Wassergymnastik im Parc (261305460P) 
LOCATION:Marien Hospital Papenburger Reha-Centrum, Hauptkanal rechts 74, 26871 Papenburg
END:VEVENT
BEGIN:VEVENT
DTSTAMP:20260422T192705
DTSTART;TZID=Europe/Berlin:20260417T170000
DTEND;TZID=Europe/Berlin:20260417T174500
UID:261305460P-20260417T170000@VHSPAPENBURG
SUMMARY:Wassergymnastik im Parc (261305460P) 
LOCATION:Marien Hospital Papenburger Reha-Centrum, Hauptkanal rechts 74, 26871 Papenburg
END:VEVENT
BEGIN:VEVENT
DTSTAMP:20260422T192705
DTSTART;TZID=Europe/Berlin:20260424T170000
DTEND;TZID=Europe/Berlin:20260424T174500
UID:261305460P-20260424T170000@VHSPAPENBURG
SUMMARY:Wassergymnastik im Parc (261305460P) 
LOCATION:Marien Hospital Papenburger Reha-Centrum, Hauptkanal rechts 74, 26871 Papenburg
END:VEVENT
END:VCALENDAR