BEGIN:VCALENDAR
VERSION:2.0
PRODID:https://www.kufer.de/kuferweb / DE
METHOD:PUBLISH
CALSCALE:GREGORIAN
X-WR-TIMEZONE:Europe/Berlin
BEGIN:VTIMEZONE
TZID:Europe/Berlin
X-LIC-LOCATION:Europe/Berlin
BEGIN:DAYLIGHT
TZOFFSETFROM:+0100
TZOFFSETTO:+0200
TZNAME:CEST
DTSTART:19700329T020000
RRULE:FREQ=YEARLY;INTERVAL=1;BYDAY=-1SU;BYMONTH=3
END:DAYLIGHT
BEGIN:STANDARD
TZOFFSETFROM:+0200
TZOFFSETTO:+0100
TZNAME:CET
DTSTART:19701025T030000
RRULE:FREQ=YEARLY;INTERVAL=1;BYDAY=-1SU;BYMONTH=10
END:STANDARD
END:VTIMEZONE
BEGIN:VEVENT
DTSTAMP:20260423T002016
DTSTART;TZID=Europe/Berlin:20260707T190000
DTEND;TZID=Europe/Berlin:20260707T200000
UID:261305412P-20260707T190000@VHSPAPENBURG
SUMMARY:Wassergymnastik in Flachsmeer (261305412P) 
LOCATION:Lehrschwimmbecken Flachsmeer, Am Denkmal 14, 26810 Westoverledingen
END:VEVENT
BEGIN:VEVENT
DTSTAMP:20260423T002016
DTSTART;TZID=Europe/Berlin:20260714T190000
DTEND;TZID=Europe/Berlin:20260714T200000
UID:261305412P-20260714T190000@VHSPAPENBURG
SUMMARY:Wassergymnastik in Flachsmeer (261305412P) 
LOCATION:Lehrschwimmbecken Flachsmeer, Am Denkmal 14, 26810 Westoverledingen
END:VEVENT
BEGIN:VEVENT
DTSTAMP:20260423T002016
DTSTART;TZID=Europe/Berlin:20260721T190000
DTEND;TZID=Europe/Berlin:20260721T200000
UID:261305412P-20260721T190000@VHSPAPENBURG
SUMMARY:Wassergymnastik in Flachsmeer (261305412P) 
LOCATION:Lehrschwimmbecken Flachsmeer, Am Denkmal 14, 26810 Westoverledingen
END:VEVENT
BEGIN:VEVENT
DTSTAMP:20260423T002016
DTSTART;TZID=Europe/Berlin:20260728T190000
DTEND;TZID=Europe/Berlin:20260728T200000
UID:261305412P-20260728T190000@VHSPAPENBURG
SUMMARY:Wassergymnastik in Flachsmeer (261305412P) 
LOCATION:Lehrschwimmbecken Flachsmeer, Am Denkmal 14, 26810 Westoverledingen
END:VEVENT
BEGIN:VEVENT
DTSTAMP:20260423T002016
DTSTART;TZID=Europe/Berlin:20260804T190000
DTEND;TZID=Europe/Berlin:20260804T200000
UID:261305412P-20260804T190000@VHSPAPENBURG
SUMMARY:Wassergymnastik in Flachsmeer (261305412P) 
LOCATION:Lehrschwimmbecken Flachsmeer, Am Denkmal 14, 26810 Westoverledingen
END:VEVENT
BEGIN:VEVENT
DTSTAMP:20260423T002016
DTSTART;TZID=Europe/Berlin:20260811T190000
DTEND;TZID=Europe/Berlin:20260811T200000
UID:261305412P-20260811T190000@VHSPAPENBURG
SUMMARY:Wassergymnastik in Flachsmeer (261305412P) 
LOCATION:Lehrschwimmbecken Flachsmeer, Am Denkmal 14, 26810 Westoverledingen
END:VEVENT
BEGIN:VEVENT
DTSTAMP:20260423T002016
DTSTART;TZID=Europe/Berlin:20260818T190000
DTEND;TZID=Europe/Berlin:20260818T200000
UID:261305412P-20260818T190000@VHSPAPENBURG
SUMMARY:Wassergymnastik in Flachsmeer (261305412P) 
LOCATION:Lehrschwimmbecken Flachsmeer, Am Denkmal 14, 26810 Westoverledingen
END:VEVENT
BEGIN:VEVENT
DTSTAMP:20260423T002016
DTSTART;TZID=Europe/Berlin:20260825T190000
DTEND;TZID=Europe/Berlin:20260825T200000
UID:261305412P-20260825T190000@VHSPAPENBURG
SUMMARY:Wassergymnastik in Flachsmeer (261305412P) 
LOCATION:Lehrschwimmbecken Flachsmeer, Am Denkmal 14, 26810 Westoverledingen
END:VEVENT
END:VCALENDAR