BEGIN:VCALENDAR
VERSION:2.0
PRODID:https://www.kufer.de/kuferweb / DE
METHOD:PUBLISH
CALSCALE:GREGORIAN
X-WR-TIMEZONE:Europe/Berlin
BEGIN:VTIMEZONE
TZID:Europe/Berlin
X-LIC-LOCATION:Europe/Berlin
BEGIN:DAYLIGHT
TZOFFSETFROM:+0100
TZOFFSETTO:+0200
TZNAME:CEST
DTSTART:19700329T020000
RRULE:FREQ=YEARLY;INTERVAL=1;BYDAY=-1SU;BYMONTH=3
END:DAYLIGHT
BEGIN:STANDARD
TZOFFSETFROM:+0200
TZOFFSETTO:+0100
TZNAME:CET
DTSTART:19701025T030000
RRULE:FREQ=YEARLY;INTERVAL=1;BYDAY=-1SU;BYMONTH=10
END:STANDARD
END:VTIMEZONE
BEGIN:VEVENT
DTSTAMP:20260423T032052
DTSTART;TZID=Europe/Berlin:20260606T163000
DTEND;TZID=Europe/Berlin:20260606T173600
UID:261305350P-20260606T163000@VHSPAPENBURG
SUMMARY:Golf - Schnupperangebot (261305350P) 
LOCATION:Golf-Club Gutshof eV., Gutshofstr., 26871 Papenburg
END:VEVENT
BEGIN:VEVENT
DTSTAMP:20260423T032052
DTSTART;TZID=Europe/Berlin:20260613T163000
DTEND;TZID=Europe/Berlin:20260613T173600
UID:261305350P-20260613T163000@VHSPAPENBURG
SUMMARY:Golf - Schnupperangebot (261305350P) 
LOCATION:Golf-Club Gutshof eV., Gutshofstr., 26871 Papenburg
END:VEVENT
BEGIN:VEVENT
DTSTAMP:20260423T032052
DTSTART;TZID=Europe/Berlin:20260617T190000
DTEND;TZID=Europe/Berlin:20260617T203000
UID:261305350P-20260617T190000@VHSPAPENBURG
SUMMARY:Golf - Schnupperangebot (261305350P) 
LOCATION:Golf-Club Gutshof eV., Gutshofstr., 26871 Papenburg
END:VEVENT
BEGIN:VEVENT
DTSTAMP:20260423T032052
DTSTART;TZID=Europe/Berlin:20260620T163000
DTEND;TZID=Europe/Berlin:20260620T173600
UID:261305350P-20260620T163000@VHSPAPENBURG
SUMMARY:Golf - Schnupperangebot (261305350P) 
LOCATION:Golf-Club Gutshof eV., Gutshofstr., 26871 Papenburg
END:VEVENT
BEGIN:VEVENT
DTSTAMP:20260423T032052
DTSTART;TZID=Europe/Berlin:20260627T163000
DTEND;TZID=Europe/Berlin:20260627T173600
UID:261305350P-20260627T163000@VHSPAPENBURG
SUMMARY:Golf - Schnupperangebot (261305350P) 
LOCATION:Golf-Club Gutshof eV., Gutshofstr., 26871 Papenburg
END:VEVENT
END:VCALENDAR