BEGIN:VCALENDAR
VERSION:2.0
PRODID:https://www.kufer.de/kuferweb / DE
METHOD:PUBLISH
CALSCALE:GREGORIAN
X-WR-TIMEZONE:Europe/Berlin
BEGIN:VTIMEZONE
TZID:Europe/Berlin
X-LIC-LOCATION:Europe/Berlin
BEGIN:DAYLIGHT
TZOFFSETFROM:+0100
TZOFFSETTO:+0200
TZNAME:CEST
DTSTART:19700329T020000
RRULE:FREQ=YEARLY;INTERVAL=1;BYDAY=-1SU;BYMONTH=3
END:DAYLIGHT
BEGIN:STANDARD
TZOFFSETFROM:+0200
TZOFFSETTO:+0100
TZNAME:CET
DTSTART:19701025T030000
RRULE:FREQ=YEARLY;INTERVAL=1;BYDAY=-1SU;BYMONTH=10
END:STANDARD
END:VTIMEZONE
BEGIN:VEVENT
DTSTAMP:20260423T080228
DTSTART;TZID=Europe/Berlin:20260410T084500
DTEND;TZID=Europe/Berlin:20260410T094500
UID:261305270P-20260410T084500@VHSPAPENBURG
SUMMARY:Tabata (261305270P) 
LOCATION:vhs, Raum S 1.04, Hauptkanal rechts 72, 26871 Papenburg
END:VEVENT
BEGIN:VEVENT
DTSTAMP:20260423T080228
DTSTART;TZID=Europe/Berlin:20260417T084500
DTEND;TZID=Europe/Berlin:20260417T094500
UID:261305270P-20260417T084500@VHSPAPENBURG
SUMMARY:Tabata (261305270P) 
LOCATION:vhs, Raum S 1.04, Hauptkanal rechts 72, 26871 Papenburg
END:VEVENT
BEGIN:VEVENT
DTSTAMP:20260423T080228
DTSTART;TZID=Europe/Berlin:20260424T084500
DTEND;TZID=Europe/Berlin:20260424T094500
UID:261305270P-20260424T084500@VHSPAPENBURG
SUMMARY:Tabata (261305270P) 
LOCATION:vhs, Raum S 1.04, Hauptkanal rechts 72, 26871 Papenburg
END:VEVENT
BEGIN:VEVENT
DTSTAMP:20260423T080228
DTSTART;TZID=Europe/Berlin:20260508T084500
DTEND;TZID=Europe/Berlin:20260508T094500
UID:261305270P-20260508T084500@VHSPAPENBURG
SUMMARY:Tabata (261305270P) 
LOCATION:vhs, Raum S 1.04, Hauptkanal rechts 72, 26871 Papenburg
END:VEVENT
BEGIN:VEVENT
DTSTAMP:20260423T080228
DTSTART;TZID=Europe/Berlin:20260522T084500
DTEND;TZID=Europe/Berlin:20260522T094500
UID:261305270P-20260522T084500@VHSPAPENBURG
SUMMARY:Tabata (261305270P) 
LOCATION:vhs, Raum S 1.04, Hauptkanal rechts 72, 26871 Papenburg
END:VEVENT
BEGIN:VEVENT
DTSTAMP:20260423T080228
DTSTART;TZID=Europe/Berlin:20260529T084500
DTEND;TZID=Europe/Berlin:20260529T094500
UID:261305270P-20260529T084500@VHSPAPENBURG
SUMMARY:Tabata (261305270P) 
LOCATION:vhs, Raum S 1.04, Hauptkanal rechts 72, 26871 Papenburg
END:VEVENT
BEGIN:VEVENT
DTSTAMP:20260423T080228
DTSTART;TZID=Europe/Berlin:20260605T084500
DTEND;TZID=Europe/Berlin:20260605T094500
UID:261305270P-20260605T084500@VHSPAPENBURG
SUMMARY:Tabata (261305270P) 
LOCATION:vhs, Raum S 1.04, Hauptkanal rechts 72, 26871 Papenburg
END:VEVENT
BEGIN:VEVENT
DTSTAMP:20260423T080228
DTSTART;TZID=Europe/Berlin:20260612T084500
DTEND;TZID=Europe/Berlin:20260612T094500
UID:261305270P-20260612T084500@VHSPAPENBURG
SUMMARY:Tabata (261305270P) 
LOCATION:vhs, Raum S 1.04, Hauptkanal rechts 72, 26871 Papenburg
END:VEVENT
BEGIN:VEVENT
DTSTAMP:20260423T080228
DTSTART;TZID=Europe/Berlin:20260619T084500
DTEND;TZID=Europe/Berlin:20260619T094500
UID:261305270P-20260619T084500@VHSPAPENBURG
SUMMARY:Tabata (261305270P) 
LOCATION:vhs, Raum S 1.04, Hauptkanal rechts 72, 26871 Papenburg
END:VEVENT
BEGIN:VEVENT
DTSTAMP:20260423T080228
DTSTART;TZID=Europe/Berlin:20260626T084500
DTEND;TZID=Europe/Berlin:20260626T094500
UID:261305270P-20260626T084500@VHSPAPENBURG
SUMMARY:Tabata (261305270P) 
LOCATION:vhs, Raum S 1.04, Hauptkanal rechts 72, 26871 Papenburg
END:VEVENT
END:VCALENDAR