BEGIN:VCALENDAR
VERSION:2.0
PRODID:https://www.kufer.de/kuferweb / DE
METHOD:PUBLISH
CALSCALE:GREGORIAN
X-WR-TIMEZONE:Europe/Berlin
BEGIN:VTIMEZONE
TZID:Europe/Berlin
X-LIC-LOCATION:Europe/Berlin
BEGIN:DAYLIGHT
TZOFFSETFROM:+0100
TZOFFSETTO:+0200
TZNAME:CEST
DTSTART:19700329T020000
RRULE:FREQ=YEARLY;INTERVAL=1;BYDAY=-1SU;BYMONTH=3
END:DAYLIGHT
BEGIN:STANDARD
TZOFFSETFROM:+0200
TZOFFSETTO:+0100
TZNAME:CET
DTSTART:19701025T030000
RRULE:FREQ=YEARLY;INTERVAL=1;BYDAY=-1SU;BYMONTH=10
END:STANDARD
END:VTIMEZONE
BEGIN:VEVENT
DTSTAMP:20260422T223326
DTSTART;TZID=Europe/Berlin:20260427T144500
DTEND;TZID=Europe/Berlin:20260427T161500
UID:261305060P-20260427T144500@VHSPAPENBURG
SUMMARY:Fit mit Baby - Für Mütter mit ihren Babys - (261305060P) 
LOCATION:vhs, Raum S 1.04, Hauptkanal rechts 72, 26871 Papenburg
END:VEVENT
BEGIN:VEVENT
DTSTAMP:20260422T223326
DTSTART;TZID=Europe/Berlin:20260504T144500
DTEND;TZID=Europe/Berlin:20260504T161500
UID:261305060P-20260504T144500@VHSPAPENBURG
SUMMARY:Fit mit Baby - Für Mütter mit ihren Babys - (261305060P) 
LOCATION:vhs, Raum S 1.04, Hauptkanal rechts 72, 26871 Papenburg
END:VEVENT
BEGIN:VEVENT
DTSTAMP:20260422T223326
DTSTART;TZID=Europe/Berlin:20260511T144500
DTEND;TZID=Europe/Berlin:20260511T161500
UID:261305060P-20260511T144500@VHSPAPENBURG
SUMMARY:Fit mit Baby - Für Mütter mit ihren Babys - (261305060P) 
LOCATION:vhs, Raum S 1.04, Hauptkanal rechts 72, 26871 Papenburg
END:VEVENT
BEGIN:VEVENT
DTSTAMP:20260422T223326
DTSTART;TZID=Europe/Berlin:20260518T144500
DTEND;TZID=Europe/Berlin:20260518T161500
UID:261305060P-20260518T144500@VHSPAPENBURG
SUMMARY:Fit mit Baby - Für Mütter mit ihren Babys - (261305060P) 
LOCATION:vhs, Raum S 1.04, Hauptkanal rechts 72, 26871 Papenburg
END:VEVENT
BEGIN:VEVENT
DTSTAMP:20260422T223326
DTSTART;TZID=Europe/Berlin:20260601T144500
DTEND;TZID=Europe/Berlin:20260601T161500
UID:261305060P-20260601T144500@VHSPAPENBURG
SUMMARY:Fit mit Baby - Für Mütter mit ihren Babys - (261305060P) 
LOCATION:vhs, Raum S 1.04, Hauptkanal rechts 72, 26871 Papenburg
END:VEVENT
BEGIN:VEVENT
DTSTAMP:20260422T223326
DTSTART;TZID=Europe/Berlin:20260608T144500
DTEND;TZID=Europe/Berlin:20260608T161500
UID:261305060P-20260608T144500@VHSPAPENBURG
SUMMARY:Fit mit Baby - Für Mütter mit ihren Babys - (261305060P) 
LOCATION:vhs, Raum S 1.04, Hauptkanal rechts 72, 26871 Papenburg
END:VEVENT
BEGIN:VEVENT
DTSTAMP:20260422T223326
DTSTART;TZID=Europe/Berlin:20260615T144500
DTEND;TZID=Europe/Berlin:20260615T161500
UID:261305060P-20260615T144500@VHSPAPENBURG
SUMMARY:Fit mit Baby - Für Mütter mit ihren Babys - (261305060P) 
LOCATION:vhs, Raum S 1.04, Hauptkanal rechts 72, 26871 Papenburg
END:VEVENT
BEGIN:VEVENT
DTSTAMP:20260422T223326
DTSTART;TZID=Europe/Berlin:20260622T144500
DTEND;TZID=Europe/Berlin:20260622T161500
UID:261305060P-20260622T144500@VHSPAPENBURG
SUMMARY:Fit mit Baby - Für Mütter mit ihren Babys - (261305060P) 
LOCATION:vhs, Raum S 1.04, Hauptkanal rechts 72, 26871 Papenburg
END:VEVENT
END:VCALENDAR