BEGIN:VCALENDAR
VERSION:2.0
PRODID:https://www.kufer.de/kuferweb / DE
METHOD:PUBLISH
CALSCALE:GREGORIAN
X-WR-TIMEZONE:Europe/Berlin
BEGIN:VTIMEZONE
TZID:Europe/Berlin
X-LIC-LOCATION:Europe/Berlin
BEGIN:DAYLIGHT
TZOFFSETFROM:+0100
TZOFFSETTO:+0200
TZNAME:CEST
DTSTART:19700329T020000
RRULE:FREQ=YEARLY;INTERVAL=1;BYDAY=-1SU;BYMONTH=3
END:DAYLIGHT
BEGIN:STANDARD
TZOFFSETFROM:+0200
TZOFFSETTO:+0100
TZNAME:CET
DTSTART:19701025T030000
RRULE:FREQ=YEARLY;INTERVAL=1;BYDAY=-1SU;BYMONTH=10
END:STANDARD
END:VTIMEZONE
BEGIN:VEVENT
DTSTAMP:20260422T173807
DTSTART;TZID=Europe/Berlin:20260509T131500
DTEND;TZID=Europe/Berlin:20260509T144500
UID:261304510P-20260509T131500@VHSPAPENBURG
SUMMARY:Achtsamkeit & Entspannung: NEU - Dein Nervensystem verstehen, erfahren und regulieren lernen - (261304510P) 
LOCATION:Mindful Space, Hauptkanal re. 31, 26871 Papenburg
END:VEVENT
BEGIN:VEVENT
DTSTAMP:20260422T173807
DTSTART;TZID=Europe/Berlin:20260516T131500
DTEND;TZID=Europe/Berlin:20260516T144500
UID:261304510P-20260516T131500@VHSPAPENBURG
SUMMARY:Achtsamkeit & Entspannung: NEU - Dein Nervensystem verstehen, erfahren und regulieren lernen - (261304510P) 
LOCATION:Mindful Space, Hauptkanal re. 31, 26871 Papenburg
END:VEVENT
BEGIN:VEVENT
DTSTAMP:20260422T173807
DTSTART;TZID=Europe/Berlin:20260523T131500
DTEND;TZID=Europe/Berlin:20260523T144500
UID:261304510P-20260523T131500@VHSPAPENBURG
SUMMARY:Achtsamkeit & Entspannung: NEU - Dein Nervensystem verstehen, erfahren und regulieren lernen - (261304510P) 
LOCATION:Mindful Space, Hauptkanal re. 31, 26871 Papenburg
END:VEVENT
BEGIN:VEVENT
DTSTAMP:20260422T173807
DTSTART;TZID=Europe/Berlin:20260530T131500
DTEND;TZID=Europe/Berlin:20260530T144500
UID:261304510P-20260530T131500@VHSPAPENBURG
SUMMARY:Achtsamkeit & Entspannung: NEU - Dein Nervensystem verstehen, erfahren und regulieren lernen - (261304510P) 
LOCATION:Mindful Space, Hauptkanal re. 31, 26871 Papenburg
END:VEVENT
END:VCALENDAR