BEGIN:VCALENDAR
VERSION:2.0
PRODID:https://www.kufer.de/kuferweb / DE
METHOD:PUBLISH
CALSCALE:GREGORIAN
X-WR-TIMEZONE:Europe/Berlin
BEGIN:VTIMEZONE
TZID:Europe/Berlin
X-LIC-LOCATION:Europe/Berlin
BEGIN:DAYLIGHT
TZOFFSETFROM:+0100
TZOFFSETTO:+0200
TZNAME:CEST
DTSTART:19700329T020000
RRULE:FREQ=YEARLY;INTERVAL=1;BYDAY=-1SU;BYMONTH=3
END:DAYLIGHT
BEGIN:STANDARD
TZOFFSETFROM:+0200
TZOFFSETTO:+0100
TZNAME:CET
DTSTART:19701025T030000
RRULE:FREQ=YEARLY;INTERVAL=1;BYDAY=-1SU;BYMONTH=10
END:STANDARD
END:VTIMEZONE
BEGIN:VEVENT
DTSTAMP:20260422T190614
DTSTART;TZID=Europe/Berlin:20260611T163000
DTEND;TZID=Europe/Berlin:20260611T174500
UID:261304180P-20260611T163000@VHSPAPENBURG
SUMMARY:Yoga 50+ - Am Nachmittag (261304180P) 
LOCATION:vhs, Raum S 1.04, Hauptkanal rechts 72, 26871 Papenburg
END:VEVENT
BEGIN:VEVENT
DTSTAMP:20260422T190614
DTSTART;TZID=Europe/Berlin:20260618T163000
DTEND;TZID=Europe/Berlin:20260618T174500
UID:261304180P-20260618T163000@VHSPAPENBURG
SUMMARY:Yoga 50+ - Am Nachmittag (261304180P) 
LOCATION:vhs, Raum S 1.04, Hauptkanal rechts 72, 26871 Papenburg
END:VEVENT
BEGIN:VEVENT
DTSTAMP:20260422T190614
DTSTART;TZID=Europe/Berlin:20260625T163000
DTEND;TZID=Europe/Berlin:20260625T174500
UID:261304180P-20260625T163000@VHSPAPENBURG
SUMMARY:Yoga 50+ - Am Nachmittag (261304180P) 
LOCATION:vhs, Raum S 1.04, Hauptkanal rechts 72, 26871 Papenburg
END:VEVENT
BEGIN:VEVENT
DTSTAMP:20260422T190614
DTSTART;TZID=Europe/Berlin:20260702T163000
DTEND;TZID=Europe/Berlin:20260702T174500
UID:261304180P-20260702T163000@VHSPAPENBURG
SUMMARY:Yoga 50+ - Am Nachmittag (261304180P) 
LOCATION:vhs, Raum S 1.04, Hauptkanal rechts 72, 26871 Papenburg
END:VEVENT
BEGIN:VEVENT
DTSTAMP:20260422T190614
DTSTART;TZID=Europe/Berlin:20260709T163000
DTEND;TZID=Europe/Berlin:20260709T174500
UID:261304180P-20260709T163000@VHSPAPENBURG
SUMMARY:Yoga 50+ - Am Nachmittag (261304180P) 
LOCATION:vhs, Raum S 1.04, Hauptkanal rechts 72, 26871 Papenburg
END:VEVENT
END:VCALENDAR