BEGIN:VCALENDAR
VERSION:2.0
PRODID:https://www.kufer.de/kuferweb / DE
METHOD:PUBLISH
CALSCALE:GREGORIAN
X-WR-TIMEZONE:Europe/Berlin
BEGIN:VTIMEZONE
TZID:Europe/Berlin
X-LIC-LOCATION:Europe/Berlin
BEGIN:DAYLIGHT
TZOFFSETFROM:+0100
TZOFFSETTO:+0200
TZNAME:CEST
DTSTART:19700329T020000
RRULE:FREQ=YEARLY;INTERVAL=1;BYDAY=-1SU;BYMONTH=3
END:DAYLIGHT
BEGIN:STANDARD
TZOFFSETFROM:+0200
TZOFFSETTO:+0100
TZNAME:CET
DTSTART:19701025T030000
RRULE:FREQ=YEARLY;INTERVAL=1;BYDAY=-1SU;BYMONTH=10
END:STANDARD
END:VTIMEZONE
BEGIN:VEVENT
DTSTAMP:20260420T041533
DTSTART;TZID=Europe/Berlin:20260422T100000
DTEND;TZID=Europe/Berlin:20260422T111500
UID:261304120P-20260422T100000@VHSPAPENBURG
SUMMARY:Yoga für Frauen mit Grundkenntnissen - Am Vormittag - (261304120P) 
LOCATION:vhs, Raum S 1.04, Hauptkanal rechts 72, 26871 Papenburg
END:VEVENT
BEGIN:VEVENT
DTSTAMP:20260420T041533
DTSTART;TZID=Europe/Berlin:20260429T100000
DTEND;TZID=Europe/Berlin:20260429T111500
UID:261304120P-20260429T100000@VHSPAPENBURG
SUMMARY:Yoga für Frauen mit Grundkenntnissen - Am Vormittag - (261304120P) 
LOCATION:vhs, Raum S 1.04, Hauptkanal rechts 72, 26871 Papenburg
END:VEVENT
BEGIN:VEVENT
DTSTAMP:20260420T041533
DTSTART;TZID=Europe/Berlin:20260506T100000
DTEND;TZID=Europe/Berlin:20260506T111500
UID:261304120P-20260506T100000@VHSPAPENBURG
SUMMARY:Yoga für Frauen mit Grundkenntnissen - Am Vormittag - (261304120P) 
LOCATION:vhs, Raum S 1.04, Hauptkanal rechts 72, 26871 Papenburg
END:VEVENT
BEGIN:VEVENT
DTSTAMP:20260420T041533
DTSTART;TZID=Europe/Berlin:20260513T100000
DTEND;TZID=Europe/Berlin:20260513T111500
UID:261304120P-20260513T100000@VHSPAPENBURG
SUMMARY:Yoga für Frauen mit Grundkenntnissen - Am Vormittag - (261304120P) 
LOCATION:vhs, Raum S 1.04, Hauptkanal rechts 72, 26871 Papenburg
END:VEVENT
BEGIN:VEVENT
DTSTAMP:20260420T041533
DTSTART;TZID=Europe/Berlin:20260520T100000
DTEND;TZID=Europe/Berlin:20260520T111500
UID:261304120P-20260520T100000@VHSPAPENBURG
SUMMARY:Yoga für Frauen mit Grundkenntnissen - Am Vormittag - (261304120P) 
LOCATION:vhs, Raum S 1.04, Hauptkanal rechts 72, 26871 Papenburg
END:VEVENT
BEGIN:VEVENT
DTSTAMP:20260420T041533
DTSTART;TZID=Europe/Berlin:20260527T100000
DTEND;TZID=Europe/Berlin:20260527T111500
UID:261304120P-20260527T100000@VHSPAPENBURG
SUMMARY:Yoga für Frauen mit Grundkenntnissen - Am Vormittag - (261304120P) 
LOCATION:vhs, Raum S 1.04, Hauptkanal rechts 72, 26871 Papenburg
END:VEVENT
BEGIN:VEVENT
DTSTAMP:20260420T041533
DTSTART;TZID=Europe/Berlin:20260603T100000
DTEND;TZID=Europe/Berlin:20260603T111500
UID:261304120P-20260603T100000@VHSPAPENBURG
SUMMARY:Yoga für Frauen mit Grundkenntnissen - Am Vormittag - (261304120P) 
LOCATION:vhs, Raum S 1.04, Hauptkanal rechts 72, 26871 Papenburg
END:VEVENT
BEGIN:VEVENT
DTSTAMP:20260420T041533
DTSTART;TZID=Europe/Berlin:20260610T100000
DTEND;TZID=Europe/Berlin:20260610T111500
UID:261304120P-20260610T100000@VHSPAPENBURG
SUMMARY:Yoga für Frauen mit Grundkenntnissen - Am Vormittag - (261304120P) 
LOCATION:vhs, Raum S 1.04, Hauptkanal rechts 72, 26871 Papenburg
END:VEVENT
BEGIN:VEVENT
DTSTAMP:20260420T041533
DTSTART;TZID=Europe/Berlin:20260617T100000
DTEND;TZID=Europe/Berlin:20260617T111500
UID:261304120P-20260617T100000@VHSPAPENBURG
SUMMARY:Yoga für Frauen mit Grundkenntnissen - Am Vormittag - (261304120P) 
LOCATION:vhs, Raum S 1.04, Hauptkanal rechts 72, 26871 Papenburg
END:VEVENT
BEGIN:VEVENT
DTSTAMP:20260420T041533
DTSTART;TZID=Europe/Berlin:20260624T100000
DTEND;TZID=Europe/Berlin:20260624T111500
UID:261304120P-20260624T100000@VHSPAPENBURG
SUMMARY:Yoga für Frauen mit Grundkenntnissen - Am Vormittag - (261304120P) 
LOCATION:vhs, Raum S 1.04, Hauptkanal rechts 72, 26871 Papenburg
END:VEVENT
END:VCALENDAR