BEGIN:VCALENDAR
VERSION:2.0
PRODID:https://www.kufer.de/kuferweb / DE
METHOD:PUBLISH
CALSCALE:GREGORIAN
X-WR-TIMEZONE:Europe/Berlin
BEGIN:VTIMEZONE
TZID:Europe/Berlin
X-LIC-LOCATION:Europe/Berlin
BEGIN:DAYLIGHT
TZOFFSETFROM:+0100
TZOFFSETTO:+0200
TZNAME:CEST
DTSTART:19700329T020000
RRULE:FREQ=YEARLY;INTERVAL=1;BYDAY=-1SU;BYMONTH=3
END:DAYLIGHT
BEGIN:STANDARD
TZOFFSETFROM:+0200
TZOFFSETTO:+0100
TZNAME:CET
DTSTART:19701025T030000
RRULE:FREQ=YEARLY;INTERVAL=1;BYDAY=-1SU;BYMONTH=10
END:STANDARD
END:VTIMEZONE
BEGIN:VEVENT
DTSTAMP:20260422T185818
DTSTART;TZID=Europe/Berlin:20260413T093000
DTEND;TZID=Europe/Berlin:20260413T104500
UID:261304050P-20260413T093000@VHSPAPENBURG
SUMMARY:Yoga 50+ - Am Vormittag - (261304050P) 
LOCATION:vhs, Raum S 1.05, Hauptkanal rechts 72, 26871 Papenburg
END:VEVENT
BEGIN:VEVENT
DTSTAMP:20260422T185818
DTSTART;TZID=Europe/Berlin:20260420T093000
DTEND;TZID=Europe/Berlin:20260420T104500
UID:261304050P-20260420T093000@VHSPAPENBURG
SUMMARY:Yoga 50+ - Am Vormittag - (261304050P) 
LOCATION:vhs, Raum S 1.05, Hauptkanal rechts 72, 26871 Papenburg
END:VEVENT
BEGIN:VEVENT
DTSTAMP:20260422T185818
DTSTART;TZID=Europe/Berlin:20260427T093000
DTEND;TZID=Europe/Berlin:20260427T104500
UID:261304050P-20260427T093000@VHSPAPENBURG
SUMMARY:Yoga 50+ - Am Vormittag - (261304050P) 
LOCATION:vhs, Raum S 1.05, Hauptkanal rechts 72, 26871 Papenburg
END:VEVENT
BEGIN:VEVENT
DTSTAMP:20260422T185818
DTSTART;TZID=Europe/Berlin:20260504T093000
DTEND;TZID=Europe/Berlin:20260504T104500
UID:261304050P-20260504T093000@VHSPAPENBURG
SUMMARY:Yoga 50+ - Am Vormittag - (261304050P) 
LOCATION:vhs, Raum S 1.05, Hauptkanal rechts 72, 26871 Papenburg
END:VEVENT
BEGIN:VEVENT
DTSTAMP:20260422T185818
DTSTART;TZID=Europe/Berlin:20260511T093000
DTEND;TZID=Europe/Berlin:20260511T104500
UID:261304050P-20260511T093000@VHSPAPENBURG
SUMMARY:Yoga 50+ - Am Vormittag - (261304050P) 
LOCATION:vhs, Raum S 1.05, Hauptkanal rechts 72, 26871 Papenburg
END:VEVENT
END:VCALENDAR