BEGIN:VCALENDAR
VERSION:2.0
PRODID:https://www.kufer.de/kuferweb / DE
METHOD:PUBLISH
CALSCALE:GREGORIAN
X-WR-TIMEZONE:Europe/Berlin
BEGIN:VTIMEZONE
TZID:Europe/Berlin
X-LIC-LOCATION:Europe/Berlin
BEGIN:DAYLIGHT
TZOFFSETFROM:+0100
TZOFFSETTO:+0200
TZNAME:CEST
DTSTART:19700329T020000
RRULE:FREQ=YEARLY;INTERVAL=1;BYDAY=-1SU;BYMONTH=3
END:DAYLIGHT
BEGIN:STANDARD
TZOFFSETFROM:+0200
TZOFFSETTO:+0100
TZNAME:CET
DTSTART:19701025T030000
RRULE:FREQ=YEARLY;INTERVAL=1;BYDAY=-1SU;BYMONTH=10
END:STANDARD
END:VTIMEZONE
BEGIN:VEVENT
DTSTAMP:20260422T173803
DTSTART;TZID=Europe/Berlin:20260413T083000
DTEND;TZID=Europe/Berlin:20260413T094500
UID:261304020P-20260413T083000@VHSPAPENBURG
SUMMARY:Hatha Yoga  - Am Vormittag - (261304020P) 
LOCATION:vhs, Raum S 1.04, Hauptkanal rechts 72, 26871 Papenburg
END:VEVENT
BEGIN:VEVENT
DTSTAMP:20260422T173803
DTSTART;TZID=Europe/Berlin:20260420T083000
DTEND;TZID=Europe/Berlin:20260420T094500
UID:261304020P-20260420T083000@VHSPAPENBURG
SUMMARY:Hatha Yoga  - Am Vormittag - (261304020P) 
LOCATION:vhs, Raum S 1.04, Hauptkanal rechts 72, 26871 Papenburg
END:VEVENT
BEGIN:VEVENT
DTSTAMP:20260422T173803
DTSTART;TZID=Europe/Berlin:20260427T083000
DTEND;TZID=Europe/Berlin:20260427T094500
UID:261304020P-20260427T083000@VHSPAPENBURG
SUMMARY:Hatha Yoga  - Am Vormittag - (261304020P) 
LOCATION:vhs, Raum S 1.04, Hauptkanal rechts 72, 26871 Papenburg
END:VEVENT
BEGIN:VEVENT
DTSTAMP:20260422T173803
DTSTART;TZID=Europe/Berlin:20260504T083000
DTEND;TZID=Europe/Berlin:20260504T094500
UID:261304020P-20260504T083000@VHSPAPENBURG
SUMMARY:Hatha Yoga  - Am Vormittag - (261304020P) 
LOCATION:vhs, Raum S 1.04, Hauptkanal rechts 72, 26871 Papenburg
END:VEVENT
BEGIN:VEVENT
DTSTAMP:20260422T173803
DTSTART;TZID=Europe/Berlin:20260511T083000
DTEND;TZID=Europe/Berlin:20260511T094500
UID:261304020P-20260511T083000@VHSPAPENBURG
SUMMARY:Hatha Yoga  - Am Vormittag - (261304020P) 
LOCATION:vhs, Raum S 1.04, Hauptkanal rechts 72, 26871 Papenburg
END:VEVENT
BEGIN:VEVENT
DTSTAMP:20260422T173803
DTSTART;TZID=Europe/Berlin:20260518T083000
DTEND;TZID=Europe/Berlin:20260518T094500
UID:261304020P-20260518T083000@VHSPAPENBURG
SUMMARY:Hatha Yoga  - Am Vormittag - (261304020P) 
LOCATION:vhs, Raum S 1.04, Hauptkanal rechts 72, 26871 Papenburg
END:VEVENT
END:VCALENDAR