BEGIN:VCALENDAR
VERSION:2.0
PRODID:https://www.kufer.de/kuferweb / DE
METHOD:PUBLISH
CALSCALE:GREGORIAN
X-WR-TIMEZONE:Europe/Berlin
BEGIN:VTIMEZONE
TZID:Europe/Berlin
X-LIC-LOCATION:Europe/Berlin
BEGIN:DAYLIGHT
TZOFFSETFROM:+0100
TZOFFSETTO:+0200
TZNAME:CEST
DTSTART:19700329T020000
RRULE:FREQ=YEARLY;INTERVAL=1;BYDAY=-1SU;BYMONTH=3
END:DAYLIGHT
BEGIN:STANDARD
TZOFFSETFROM:+0200
TZOFFSETTO:+0100
TZNAME:CET
DTSTART:19701025T030000
RRULE:FREQ=YEARLY;INTERVAL=1;BYDAY=-1SU;BYMONTH=10
END:STANDARD
END:VTIMEZONE
BEGIN:VEVENT
DTSTAMP:20260423T001119
DTSTART;TZID=Europe/Berlin:20260305T171500
DTEND;TZID=Europe/Berlin:20260305T180000
UID:261302090L-20260305T171500@VHSPAPENBURG
SUMMARY:Aquafitness am Nachmittag II (261302090L) 
LOCATION:Haus St. Marien, Bewegungsbad, Krankenhausweg 8, 49762 Lathen
END:VEVENT
BEGIN:VEVENT
DTSTAMP:20260423T001119
DTSTART;TZID=Europe/Berlin:20260312T171500
DTEND;TZID=Europe/Berlin:20260312T180000
UID:261302090L-20260312T171500@VHSPAPENBURG
SUMMARY:Aquafitness am Nachmittag II (261302090L) 
LOCATION:Haus St. Marien, Bewegungsbad, Krankenhausweg 8, 49762 Lathen
END:VEVENT
BEGIN:VEVENT
DTSTAMP:20260423T001119
DTSTART;TZID=Europe/Berlin:20260319T171500
DTEND;TZID=Europe/Berlin:20260319T180000
UID:261302090L-20260319T171500@VHSPAPENBURG
SUMMARY:Aquafitness am Nachmittag II (261302090L) 
LOCATION:Haus St. Marien, Bewegungsbad, Krankenhausweg 8, 49762 Lathen
END:VEVENT
BEGIN:VEVENT
DTSTAMP:20260423T001119
DTSTART;TZID=Europe/Berlin:20260409T171500
DTEND;TZID=Europe/Berlin:20260409T180000
UID:261302090L-20260409T171500@VHSPAPENBURG
SUMMARY:Aquafitness am Nachmittag II (261302090L) 
LOCATION:Haus St. Marien, Bewegungsbad, Krankenhausweg 8, 49762 Lathen
END:VEVENT
BEGIN:VEVENT
DTSTAMP:20260423T001119
DTSTART;TZID=Europe/Berlin:20260416T171500
DTEND;TZID=Europe/Berlin:20260416T180000
UID:261302090L-20260416T171500@VHSPAPENBURG
SUMMARY:Aquafitness am Nachmittag II (261302090L) 
LOCATION:Haus St. Marien, Bewegungsbad, Krankenhausweg 8, 49762 Lathen
END:VEVENT
BEGIN:VEVENT
DTSTAMP:20260423T001119
DTSTART;TZID=Europe/Berlin:20260423T171500
DTEND;TZID=Europe/Berlin:20260423T180000
UID:261302090L-20260423T171500@VHSPAPENBURG
SUMMARY:Aquafitness am Nachmittag II (261302090L) 
LOCATION:Haus St. Marien, Bewegungsbad, Krankenhausweg 8, 49762 Lathen
END:VEVENT
BEGIN:VEVENT
DTSTAMP:20260423T001119
DTSTART;TZID=Europe/Berlin:20260430T171500
DTEND;TZID=Europe/Berlin:20260430T180000
UID:261302090L-20260430T171500@VHSPAPENBURG
SUMMARY:Aquafitness am Nachmittag II (261302090L) 
LOCATION:Haus St. Marien, Bewegungsbad, Krankenhausweg 8, 49762 Lathen
END:VEVENT
END:VCALENDAR