BEGIN:VCALENDAR
VERSION:2.0
PRODID:https://www.kufer.de/kuferweb / DE
METHOD:PUBLISH
CALSCALE:GREGORIAN
X-WR-TIMEZONE:Europe/Berlin
BEGIN:VTIMEZONE
TZID:Europe/Berlin
X-LIC-LOCATION:Europe/Berlin
BEGIN:DAYLIGHT
TZOFFSETFROM:+0100
TZOFFSETTO:+0200
TZNAME:CEST
DTSTART:19700329T020000
RRULE:FREQ=YEARLY;INTERVAL=1;BYDAY=-1SU;BYMONTH=3
END:DAYLIGHT
BEGIN:STANDARD
TZOFFSETFROM:+0200
TZOFFSETTO:+0100
TZNAME:CET
DTSTART:19701025T030000
RRULE:FREQ=YEARLY;INTERVAL=1;BYDAY=-1SU;BYMONTH=10
END:STANDARD
END:VTIMEZONE
BEGIN:VEVENT
DTSTAMP:20260422T223456
DTSTART;TZID=Europe/Berlin:20260407T113000
DTEND;TZID=Europe/Berlin:20260407T121500
UID:261302061L-20260407T113000@VHSPAPENBURG
SUMMARY:Aquafitness am Vormittag II (261302061L) 
LOCATION:Haus St. Marien, Bewegungsbad, Krankenhausweg 8, 49762 Lathen
END:VEVENT
BEGIN:VEVENT
DTSTAMP:20260422T223456
DTSTART;TZID=Europe/Berlin:20260414T113000
DTEND;TZID=Europe/Berlin:20260414T121500
UID:261302061L-20260414T113000@VHSPAPENBURG
SUMMARY:Aquafitness am Vormittag II (261302061L) 
LOCATION:Haus St. Marien, Bewegungsbad, Krankenhausweg 8, 49762 Lathen
END:VEVENT
BEGIN:VEVENT
DTSTAMP:20260422T223456
DTSTART;TZID=Europe/Berlin:20260421T113000
DTEND;TZID=Europe/Berlin:20260421T121500
UID:261302061L-20260421T113000@VHSPAPENBURG
SUMMARY:Aquafitness am Vormittag II (261302061L) 
LOCATION:Haus St. Marien, Bewegungsbad, Krankenhausweg 8, 49762 Lathen
END:VEVENT
BEGIN:VEVENT
DTSTAMP:20260422T223456
DTSTART;TZID=Europe/Berlin:20260428T113000
DTEND;TZID=Europe/Berlin:20260428T121500
UID:261302061L-20260428T113000@VHSPAPENBURG
SUMMARY:Aquafitness am Vormittag II (261302061L) 
LOCATION:Haus St. Marien, Bewegungsbad, Krankenhausweg 8, 49762 Lathen
END:VEVENT
BEGIN:VEVENT
DTSTAMP:20260422T223456
DTSTART;TZID=Europe/Berlin:20260505T113000
DTEND;TZID=Europe/Berlin:20260505T121500
UID:261302061L-20260505T113000@VHSPAPENBURG
SUMMARY:Aquafitness am Vormittag II (261302061L) 
LOCATION:Haus St. Marien, Bewegungsbad, Krankenhausweg 8, 49762 Lathen
END:VEVENT
BEGIN:VEVENT
DTSTAMP:20260422T223456
DTSTART;TZID=Europe/Berlin:20260512T113000
DTEND;TZID=Europe/Berlin:20260512T121500
UID:261302061L-20260512T113000@VHSPAPENBURG
SUMMARY:Aquafitness am Vormittag II (261302061L) 
LOCATION:Haus St. Marien, Bewegungsbad, Krankenhausweg 8, 49762 Lathen
END:VEVENT
BEGIN:VEVENT
DTSTAMP:20260422T223456
DTSTART;TZID=Europe/Berlin:20260519T113000
DTEND;TZID=Europe/Berlin:20260519T121500
UID:261302061L-20260519T113000@VHSPAPENBURG
SUMMARY:Aquafitness am Vormittag II (261302061L) 
LOCATION:Haus St. Marien, Bewegungsbad, Krankenhausweg 8, 49762 Lathen
END:VEVENT
BEGIN:VEVENT
DTSTAMP:20260422T223456
DTSTART;TZID=Europe/Berlin:20260526T113000
DTEND;TZID=Europe/Berlin:20260526T121500
UID:261302061L-20260526T113000@VHSPAPENBURG
SUMMARY:Aquafitness am Vormittag II (261302061L) 
LOCATION:Haus St. Marien, Bewegungsbad, Krankenhausweg 8, 49762 Lathen
END:VEVENT
BEGIN:VEVENT
DTSTAMP:20260422T223456
DTSTART;TZID=Europe/Berlin:20260602T113000
DTEND;TZID=Europe/Berlin:20260602T121500
UID:261302061L-20260602T113000@VHSPAPENBURG
SUMMARY:Aquafitness am Vormittag II (261302061L) 
LOCATION:Haus St. Marien, Bewegungsbad, Krankenhausweg 8, 49762 Lathen
END:VEVENT
BEGIN:VEVENT
DTSTAMP:20260422T223456
DTSTART;TZID=Europe/Berlin:20260609T113000
DTEND;TZID=Europe/Berlin:20260609T121500
UID:261302061L-20260609T113000@VHSPAPENBURG
SUMMARY:Aquafitness am Vormittag II (261302061L) 
LOCATION:Haus St. Marien, Bewegungsbad, Krankenhausweg 8, 49762 Lathen
END:VEVENT
BEGIN:VEVENT
DTSTAMP:20260422T223456
DTSTART;TZID=Europe/Berlin:20260616T113000
DTEND;TZID=Europe/Berlin:20260616T121500
UID:261302061L-20260616T113000@VHSPAPENBURG
SUMMARY:Aquafitness am Vormittag II (261302061L) 
LOCATION:Haus St. Marien, Bewegungsbad, Krankenhausweg 8, 49762 Lathen
END:VEVENT
END:VCALENDAR