BEGIN:VCALENDAR
VERSION:2.0
PRODID:https://www.kufer.de/kuferweb / DE
METHOD:PUBLISH
CALSCALE:GREGORIAN
X-WR-TIMEZONE:Europe/Berlin
BEGIN:VTIMEZONE
TZID:Europe/Berlin
X-LIC-LOCATION:Europe/Berlin
BEGIN:DAYLIGHT
TZOFFSETFROM:+0100
TZOFFSETTO:+0200
TZNAME:CEST
DTSTART:19700329T020000
RRULE:FREQ=YEARLY;INTERVAL=1;BYDAY=-1SU;BYMONTH=3
END:DAYLIGHT
BEGIN:STANDARD
TZOFFSETFROM:+0200
TZOFFSETTO:+0100
TZNAME:CET
DTSTART:19701025T030000
RRULE:FREQ=YEARLY;INTERVAL=1;BYDAY=-1SU;BYMONTH=10
END:STANDARD
END:VTIMEZONE
BEGIN:VEVENT
DTSTAMP:20260422T204715
DTSTART;TZID=Europe/Berlin:20260420T200000
DTEND;TZID=Europe/Berlin:20260420T204500
UID:261302041L-20260420T200000@VHSPAPENBURG
SUMMARY:Aquafitness am Montag IV (261302041L) 
LOCATION:Haus St. Marien, Bewegungsbad, Krankenhausweg 8, 49762 Lathen
END:VEVENT
BEGIN:VEVENT
DTSTAMP:20260422T204715
DTSTART;TZID=Europe/Berlin:20260427T200000
DTEND;TZID=Europe/Berlin:20260427T204500
UID:261302041L-20260427T200000@VHSPAPENBURG
SUMMARY:Aquafitness am Montag IV (261302041L) 
LOCATION:Haus St. Marien, Bewegungsbad, Krankenhausweg 8, 49762 Lathen
END:VEVENT
BEGIN:VEVENT
DTSTAMP:20260422T204715
DTSTART;TZID=Europe/Berlin:20260504T200000
DTEND;TZID=Europe/Berlin:20260504T204500
UID:261302041L-20260504T200000@VHSPAPENBURG
SUMMARY:Aquafitness am Montag IV (261302041L) 
LOCATION:Haus St. Marien, Bewegungsbad, Krankenhausweg 8, 49762 Lathen
END:VEVENT
BEGIN:VEVENT
DTSTAMP:20260422T204715
DTSTART;TZID=Europe/Berlin:20260511T200000
DTEND;TZID=Europe/Berlin:20260511T204500
UID:261302041L-20260511T200000@VHSPAPENBURG
SUMMARY:Aquafitness am Montag IV (261302041L) 
LOCATION:Haus St. Marien, Bewegungsbad, Krankenhausweg 8, 49762 Lathen
END:VEVENT
BEGIN:VEVENT
DTSTAMP:20260422T204715
DTSTART;TZID=Europe/Berlin:20260518T200000
DTEND;TZID=Europe/Berlin:20260518T204500
UID:261302041L-20260518T200000@VHSPAPENBURG
SUMMARY:Aquafitness am Montag IV (261302041L) 
LOCATION:Haus St. Marien, Bewegungsbad, Krankenhausweg 8, 49762 Lathen
END:VEVENT
BEGIN:VEVENT
DTSTAMP:20260422T204715
DTSTART;TZID=Europe/Berlin:20260601T200000
DTEND;TZID=Europe/Berlin:20260601T204500
UID:261302041L-20260601T200000@VHSPAPENBURG
SUMMARY:Aquafitness am Montag IV (261302041L) 
LOCATION:Haus St. Marien, Bewegungsbad, Krankenhausweg 8, 49762 Lathen
END:VEVENT
BEGIN:VEVENT
DTSTAMP:20260422T204715
DTSTART;TZID=Europe/Berlin:20260608T200000
DTEND;TZID=Europe/Berlin:20260608T204500
UID:261302041L-20260608T200000@VHSPAPENBURG
SUMMARY:Aquafitness am Montag IV (261302041L) 
LOCATION:Haus St. Marien, Bewegungsbad, Krankenhausweg 8, 49762 Lathen
END:VEVENT
BEGIN:VEVENT
DTSTAMP:20260422T204715
DTSTART;TZID=Europe/Berlin:20260615T200000
DTEND;TZID=Europe/Berlin:20260615T204500
UID:261302041L-20260615T200000@VHSPAPENBURG
SUMMARY:Aquafitness am Montag IV (261302041L) 
LOCATION:Haus St. Marien, Bewegungsbad, Krankenhausweg 8, 49762 Lathen
END:VEVENT
BEGIN:VEVENT
DTSTAMP:20260422T204715
DTSTART;TZID=Europe/Berlin:20260622T200000
DTEND;TZID=Europe/Berlin:20260622T204500
UID:261302041L-20260622T200000@VHSPAPENBURG
SUMMARY:Aquafitness am Montag IV (261302041L) 
LOCATION:Haus St. Marien, Bewegungsbad, Krankenhausweg 8, 49762 Lathen
END:VEVENT
END:VCALENDAR