BEGIN:VCALENDAR
VERSION:2.0
PRODID:https://www.kufer.de/kuferweb / DE
METHOD:PUBLISH
CALSCALE:GREGORIAN
X-WR-TIMEZONE:Europe/Berlin
BEGIN:VTIMEZONE
TZID:Europe/Berlin
X-LIC-LOCATION:Europe/Berlin
BEGIN:DAYLIGHT
TZOFFSETFROM:+0100
TZOFFSETTO:+0200
TZNAME:CEST
DTSTART:19700329T020000
RRULE:FREQ=YEARLY;INTERVAL=1;BYDAY=-1SU;BYMONTH=3
END:DAYLIGHT
BEGIN:STANDARD
TZOFFSETFROM:+0200
TZOFFSETTO:+0100
TZNAME:CET
DTSTART:19701025T030000
RRULE:FREQ=YEARLY;INTERVAL=1;BYDAY=-1SU;BYMONTH=10
END:STANDARD
END:VTIMEZONE
BEGIN:VEVENT
DTSTAMP:20260422T190545
DTSTART;TZID=Europe/Berlin:20260814T140000
DTEND;TZID=Europe/Berlin:20260814T200000
UID:261301060P-20260814T140000@VHSPAPENBURG
SUMMARY:Entspannungstrainer:in (VHS) 2026 - Lehrgang in Kooperation mit VHS Leer - (261301060P) 
LOCATION:vhs, Raum S 2.07, Hauptkanal rechts 72, 26871 Papenburg
END:VEVENT
BEGIN:VEVENT
DTSTAMP:20260422T190545
DTSTART;TZID=Europe/Berlin:20260815T090000
DTEND;TZID=Europe/Berlin:20260815T170000
UID:261301060P-20260815T090000@VHSPAPENBURG
SUMMARY:Entspannungstrainer:in (VHS) 2026 - Lehrgang in Kooperation mit VHS Leer - (261301060P) 
LOCATION:vhs, Raum S 1.05, Hauptkanal rechts 72, 26871 Papenburg
END:VEVENT
BEGIN:VEVENT
DTSTAMP:20260422T190545
DTSTART;TZID=Europe/Berlin:20260904T140000
DTEND;TZID=Europe/Berlin:20260904T200000
UID:261301060P-20260904T140000@VHSPAPENBURG
SUMMARY:Entspannungstrainer:in (VHS) 2026 - Lehrgang in Kooperation mit VHS Leer - (261301060P) 
LOCATION:vhs, Raum S 2.07, Hauptkanal rechts 72, 26871 Papenburg
END:VEVENT
BEGIN:VEVENT
DTSTAMP:20260422T190545
DTSTART;TZID=Europe/Berlin:20260905T090000
DTEND;TZID=Europe/Berlin:20260905T170000
UID:261301060P-20260905T090000@VHSPAPENBURG
SUMMARY:Entspannungstrainer:in (VHS) 2026 - Lehrgang in Kooperation mit VHS Leer - (261301060P) 
LOCATION:vhs, Raum S 1.05, Hauptkanal rechts 72, 26871 Papenburg
END:VEVENT
BEGIN:VEVENT
DTSTAMP:20260422T190545
DTSTART;TZID=Europe/Berlin:20260918T140000
DTEND;TZID=Europe/Berlin:20260918T200000
UID:261301060P-20260918T140000@VHSPAPENBURG
SUMMARY:Entspannungstrainer:in (VHS) 2026 - Lehrgang in Kooperation mit VHS Leer - (261301060P) 
LOCATION:vhs, Raum S 2.07, Hauptkanal rechts 72, 26871 Papenburg
END:VEVENT
BEGIN:VEVENT
DTSTAMP:20260422T190545
DTSTART;TZID=Europe/Berlin:20260919T090000
DTEND;TZID=Europe/Berlin:20260919T170000
UID:261301060P-20260919T090000@VHSPAPENBURG
SUMMARY:Entspannungstrainer:in (VHS) 2026 - Lehrgang in Kooperation mit VHS Leer - (261301060P) 
LOCATION:vhs, Raum S 2.07, Hauptkanal rechts 72, 26871 Papenburg
END:VEVENT
BEGIN:VEVENT
DTSTAMP:20260422T190545
DTSTART;TZID=Europe/Berlin:20261009T140000
DTEND;TZID=Europe/Berlin:20261009T200000
UID:261301060P-20261009T140000@VHSPAPENBURG
SUMMARY:Entspannungstrainer:in (VHS) 2026 - Lehrgang in Kooperation mit VHS Leer - (261301060P) 
LOCATION:vhs, Raum S 2.07, Hauptkanal rechts 72, 26871 Papenburg
END:VEVENT
BEGIN:VEVENT
DTSTAMP:20260422T190545
DTSTART;TZID=Europe/Berlin:20261010T090000
DTEND;TZID=Europe/Berlin:20261010T170000
UID:261301060P-20261010T090000@VHSPAPENBURG
SUMMARY:Entspannungstrainer:in (VHS) 2026 - Lehrgang in Kooperation mit VHS Leer - (261301060P) 
LOCATION:vhs, Raum S 2.07, Hauptkanal rechts 72, 26871 Papenburg
END:VEVENT
BEGIN:VEVENT
DTSTAMP:20260422T190545
DTSTART;TZID=Europe/Berlin:20261030T140000
DTEND;TZID=Europe/Berlin:20261030T200000
UID:261301060P-20261030T140000@VHSPAPENBURG
SUMMARY:Entspannungstrainer:in (VHS) 2026 - Lehrgang in Kooperation mit VHS Leer - (261301060P) 
LOCATION:vhs, Raum S 2.07, Hauptkanal rechts 72, 26871 Papenburg
END:VEVENT
BEGIN:VEVENT
DTSTAMP:20260422T190545
DTSTART;TZID=Europe/Berlin:20261030T140000
DTEND;TZID=Europe/Berlin:20261030T200000
UID:261301060P-20261030T140000@VHSPAPENBURG
SUMMARY:Entspannungstrainer:in (VHS) 2026 - Lehrgang in Kooperation mit VHS Leer - (261301060P) 
LOCATION:vhs, Raum S 1.05, Hauptkanal rechts 72, 26871 Papenburg
END:VEVENT
BEGIN:VEVENT
DTSTAMP:20260422T190545
DTSTART;TZID=Europe/Berlin:20261031T090000
DTEND;TZID=Europe/Berlin:20261031T170000
UID:261301060P-20261031T090000@VHSPAPENBURG
SUMMARY:Entspannungstrainer:in (VHS) 2026 - Lehrgang in Kooperation mit VHS Leer - (261301060P) 
LOCATION:vhs, Raum S 2.08, Hauptkanal rechts 72, 26871 Papenburg
END:VEVENT
BEGIN:VEVENT
DTSTAMP:20260422T190545
DTSTART;TZID=Europe/Berlin:20261031T090000
DTEND;TZID=Europe/Berlin:20261031T170000
UID:261301060P-20261031T090000@VHSPAPENBURG
SUMMARY:Entspannungstrainer:in (VHS) 2026 - Lehrgang in Kooperation mit VHS Leer - (261301060P) 
LOCATION:vhs, Raum S 1.05, Hauptkanal rechts 72, 26871 Papenburg
END:VEVENT
BEGIN:VEVENT
DTSTAMP:20260422T190545
DTSTART;TZID=Europe/Berlin:20261120T140000
DTEND;TZID=Europe/Berlin:20261120T200000
UID:261301060P-20261120T140000@VHSPAPENBURG
SUMMARY:Entspannungstrainer:in (VHS) 2026 - Lehrgang in Kooperation mit VHS Leer - (261301060P) 
LOCATION:vhs, Raum S 1.05, Hauptkanal rechts 72, 26871 Papenburg
END:VEVENT
BEGIN:VEVENT
DTSTAMP:20260422T190545
DTSTART;TZID=Europe/Berlin:20261121T090000
DTEND;TZID=Europe/Berlin:20261121T170000
UID:261301060P-20261121T090000@VHSPAPENBURG
SUMMARY:Entspannungstrainer:in (VHS) 2026 - Lehrgang in Kooperation mit VHS Leer - (261301060P) 
LOCATION:vhs, Raum S 2.07, Hauptkanal rechts 72, 26871 Papenburg
END:VEVENT
BEGIN:VEVENT
DTSTAMP:20260422T190545
DTSTART;TZID=Europe/Berlin:20261205T100000
DTEND;TZID=Europe/Berlin:20261205T160000
UID:261301060P-20261205T100000@VHSPAPENBURG
SUMMARY:Entspannungstrainer:in (VHS) 2026 - Lehrgang in Kooperation mit VHS Leer - (261301060P) 
LOCATION:vhs, Raum S 1.04, Hauptkanal rechts 72, 26871 Papenburg
END:VEVENT
BEGIN:VEVENT
DTSTAMP:20260422T190545
DTSTART;TZID=Europe/Berlin:20261205T100000
DTEND;TZID=Europe/Berlin:20261205T160000
UID:261301060P-20261205T100000@VHSPAPENBURG
SUMMARY:Entspannungstrainer:in (VHS) 2026 - Lehrgang in Kooperation mit VHS Leer - (261301060P) 
LOCATION:vhs, Raum S 1.04, Hauptkanal rechts 72, 26871 Papenburg
END:VEVENT
END:VCALENDAR