BEGIN:VCALENDAR
VERSION:2.0
PRODID:https://www.kufer.de/kuferweb / DE
METHOD:PUBLISH
CALSCALE:GREGORIAN
X-WR-TIMEZONE:Europe/Berlin
BEGIN:VTIMEZONE
TZID:Europe/Berlin
X-LIC-LOCATION:Europe/Berlin
BEGIN:DAYLIGHT
TZOFFSETFROM:+0100
TZOFFSETTO:+0200
TZNAME:CEST
DTSTART:19700329T020000
RRULE:FREQ=YEARLY;INTERVAL=1;BYDAY=-1SU;BYMONTH=3
END:DAYLIGHT
BEGIN:STANDARD
TZOFFSETFROM:+0200
TZOFFSETTO:+0100
TZNAME:CET
DTSTART:19701025T030000
RRULE:FREQ=YEARLY;INTERVAL=1;BYDAY=-1SU;BYMONTH=10
END:STANDARD
END:VTIMEZONE
BEGIN:VEVENT
DTSTAMP:20260422T173819
DTSTART;TZID=Europe/Berlin:20260319T083000
DTEND;TZID=Europe/Berlin:20260319T100000
UID:261301011R-20260319T083000@VHSPAPENBURG
SUMMARY:Sanftes Yoga (261301011R) 
LOCATION:Anker Rhede, Kold´n Hauk 13, Kold´n Hauk 13, 26899 Rhede
END:VEVENT
BEGIN:VEVENT
DTSTAMP:20260422T173819
DTSTART;TZID=Europe/Berlin:20260409T083000
DTEND;TZID=Europe/Berlin:20260409T100000
UID:261301011R-20260409T083000@VHSPAPENBURG
SUMMARY:Sanftes Yoga (261301011R) 
LOCATION:Anker Rhede, Kold´n Hauk 13, Kold´n Hauk 13, 26899 Rhede
END:VEVENT
BEGIN:VEVENT
DTSTAMP:20260422T173819
DTSTART;TZID=Europe/Berlin:20260416T083000
DTEND;TZID=Europe/Berlin:20260416T100000
UID:261301011R-20260416T083000@VHSPAPENBURG
SUMMARY:Sanftes Yoga (261301011R) 
LOCATION:Anker Rhede, Kold´n Hauk 13, Kold´n Hauk 13, 26899 Rhede
END:VEVENT
BEGIN:VEVENT
DTSTAMP:20260422T173819
DTSTART;TZID=Europe/Berlin:20260423T083000
DTEND;TZID=Europe/Berlin:20260423T100000
UID:261301011R-20260423T083000@VHSPAPENBURG
SUMMARY:Sanftes Yoga (261301011R) 
LOCATION:Anker Rhede, Kold´n Hauk 13, Kold´n Hauk 13, 26899 Rhede
END:VEVENT
BEGIN:VEVENT
DTSTAMP:20260422T173819
DTSTART;TZID=Europe/Berlin:20260430T083000
DTEND;TZID=Europe/Berlin:20260430T100000
UID:261301011R-20260430T083000@VHSPAPENBURG
SUMMARY:Sanftes Yoga (261301011R) 
LOCATION:Anker Rhede, Kold´n Hauk 13, Kold´n Hauk 13, 26899 Rhede
END:VEVENT
BEGIN:VEVENT
DTSTAMP:20260422T173819
DTSTART;TZID=Europe/Berlin:20260507T083000
DTEND;TZID=Europe/Berlin:20260507T100000
UID:261301011R-20260507T083000@VHSPAPENBURG
SUMMARY:Sanftes Yoga (261301011R) 
LOCATION:Anker Rhede, Kold´n Hauk 13, Kold´n Hauk 13, 26899 Rhede
END:VEVENT
END:VCALENDAR