BEGIN:VCALENDAR
VERSION:2.0
PRODID:https://www.kufer.de/kuferweb / DE
METHOD:PUBLISH
CALSCALE:GREGORIAN
X-WR-TIMEZONE:Europe/Berlin
BEGIN:VTIMEZONE
TZID:Europe/Berlin
X-LIC-LOCATION:Europe/Berlin
BEGIN:DAYLIGHT
TZOFFSETFROM:+0100
TZOFFSETTO:+0200
TZNAME:CEST
DTSTART:19700329T020000
RRULE:FREQ=YEARLY;INTERVAL=1;BYDAY=-1SU;BYMONTH=3
END:DAYLIGHT
BEGIN:STANDARD
TZOFFSETFROM:+0200
TZOFFSETTO:+0100
TZNAME:CET
DTSTART:19701025T030000
RRULE:FREQ=YEARLY;INTERVAL=1;BYDAY=-1SU;BYMONTH=10
END:STANDARD
END:VTIMEZONE
BEGIN:VEVENT
DTSTAMP:20260422T174526
DTSTART;TZID=Europe/Berlin:20260505T190000
DTEND;TZID=Europe/Berlin:20260505T203000
UID:261213031S-20260505T190000@VHSPAPENBURG
SUMMARY:Gitarre lernen - ohne Vorkenntnisse I (261213031S) 
LOCATION:Projekthaus Sögel, Seminarraum, Wahner Str.20/Westring1, 49751 Sögel
END:VEVENT
BEGIN:VEVENT
DTSTAMP:20260422T174526
DTSTART;TZID=Europe/Berlin:20260512T190000
DTEND;TZID=Europe/Berlin:20260512T203000
UID:261213031S-20260512T190000@VHSPAPENBURG
SUMMARY:Gitarre lernen - ohne Vorkenntnisse I (261213031S) 
LOCATION:Projekthaus Sögel, Seminarraum, Wahner Str.20/Westring1, 49751 Sögel
END:VEVENT
BEGIN:VEVENT
DTSTAMP:20260422T174526
DTSTART;TZID=Europe/Berlin:20260519T190000
DTEND;TZID=Europe/Berlin:20260519T203000
UID:261213031S-20260519T190000@VHSPAPENBURG
SUMMARY:Gitarre lernen - ohne Vorkenntnisse I (261213031S) 
LOCATION:Projekthaus Sögel, Seminarraum, Wahner Str.20/Westring1, 49751 Sögel
END:VEVENT
BEGIN:VEVENT
DTSTAMP:20260422T174526
DTSTART;TZID=Europe/Berlin:20260526T190000
DTEND;TZID=Europe/Berlin:20260526T203000
UID:261213031S-20260526T190000@VHSPAPENBURG
SUMMARY:Gitarre lernen - ohne Vorkenntnisse I (261213031S) 
LOCATION:Projekthaus Sögel, Seminarraum, Wahner Str.20/Westring1, 49751 Sögel
END:VEVENT
BEGIN:VEVENT
DTSTAMP:20260422T174526
DTSTART;TZID=Europe/Berlin:20260602T190000
DTEND;TZID=Europe/Berlin:20260602T203000
UID:261213031S-20260602T190000@VHSPAPENBURG
SUMMARY:Gitarre lernen - ohne Vorkenntnisse I (261213031S) 
LOCATION:Projekthaus Sögel, Seminarraum, Wahner Str.20/Westring1, 49751 Sögel
END:VEVENT
BEGIN:VEVENT
DTSTAMP:20260422T174526
DTSTART;TZID=Europe/Berlin:20260609T190000
DTEND;TZID=Europe/Berlin:20260609T203000
UID:261213031S-20260609T190000@VHSPAPENBURG
SUMMARY:Gitarre lernen - ohne Vorkenntnisse I (261213031S) 
LOCATION:Projekthaus Sögel, Seminarraum, Wahner Str.20/Westring1, 49751 Sögel
END:VEVENT
BEGIN:VEVENT
DTSTAMP:20260422T174526
DTSTART;TZID=Europe/Berlin:20260616T190000
DTEND;TZID=Europe/Berlin:20260616T203000
UID:261213031S-20260616T190000@VHSPAPENBURG
SUMMARY:Gitarre lernen - ohne Vorkenntnisse I (261213031S) 
LOCATION:Projekthaus Sögel, Seminarraum, Wahner Str.20/Westring1, 49751 Sögel
END:VEVENT
BEGIN:VEVENT
DTSTAMP:20260422T174526
DTSTART;TZID=Europe/Berlin:20260630T180000
DTEND;TZID=Europe/Berlin:20260630T210000
UID:261213031S-20260630T180000@VHSPAPENBURG
SUMMARY:Gitarre lernen - ohne Vorkenntnisse I (261213031S) 
LOCATION:Projekthaus Sögel, Seminarraum, Wahner Str.20/Westring1, 49751 Sögel
END:VEVENT
END:VCALENDAR