BEGIN:VCALENDAR
VERSION:2.0
PRODID:https://www.kufer.de/kuferweb / DE
METHOD:PUBLISH
CALSCALE:GREGORIAN
X-WR-TIMEZONE:Europe/Berlin
BEGIN:VTIMEZONE
TZID:Europe/Berlin
X-LIC-LOCATION:Europe/Berlin
BEGIN:DAYLIGHT
TZOFFSETFROM:+0100
TZOFFSETTO:+0200
TZNAME:CEST
DTSTART:19700329T020000
RRULE:FREQ=YEARLY;INTERVAL=1;BYDAY=-1SU;BYMONTH=3
END:DAYLIGHT
BEGIN:STANDARD
TZOFFSETFROM:+0200
TZOFFSETTO:+0100
TZNAME:CET
DTSTART:19701025T030000
RRULE:FREQ=YEARLY;INTERVAL=1;BYDAY=-1SU;BYMONTH=10
END:STANDARD
END:VTIMEZONE
BEGIN:VEVENT
DTSTAMP:20260422T192652
DTSTART;TZID=Europe/Berlin:20260226T193000
DTEND;TZID=Europe/Berlin:20260226T220000
UID:261211010P-20260226T193000@VHSPAPENBURG
SUMMARY:papenburg.photo (261211010P) 
LOCATION:vhs, Raum S 2.07, Hauptkanal rechts 72, 26871 Papenburg
END:VEVENT
BEGIN:VEVENT
DTSTAMP:20260422T192652
DTSTART;TZID=Europe/Berlin:20260326T193000
DTEND;TZID=Europe/Berlin:20260326T220000
UID:261211010P-20260326T193000@VHSPAPENBURG
SUMMARY:papenburg.photo (261211010P) 
LOCATION:vhs, Raum S 2.08, Hauptkanal rechts 72, 26871 Papenburg
END:VEVENT
BEGIN:VEVENT
DTSTAMP:20260422T192652
DTSTART;TZID=Europe/Berlin:20260423T193000
DTEND;TZID=Europe/Berlin:20260423T220000
UID:261211010P-20260423T193000@VHSPAPENBURG
SUMMARY:papenburg.photo (261211010P) 
LOCATION:vhs, Raum S 2.07, Hauptkanal rechts 72, 26871 Papenburg
END:VEVENT
BEGIN:VEVENT
DTSTAMP:20260422T192652
DTSTART;TZID=Europe/Berlin:20260528T193000
DTEND;TZID=Europe/Berlin:20260528T220000
UID:261211010P-20260528T193000@VHSPAPENBURG
SUMMARY:papenburg.photo (261211010P) 
LOCATION:vhs, Raum S 2.07, Hauptkanal rechts 72, 26871 Papenburg
END:VEVENT
BEGIN:VEVENT
DTSTAMP:20260422T192652
DTSTART;TZID=Europe/Berlin:20260625T193000
DTEND;TZID=Europe/Berlin:20260625T220000
UID:261211010P-20260625T193000@VHSPAPENBURG
SUMMARY:papenburg.photo (261211010P) 
LOCATION:vhs, Raum S 2.07, Hauptkanal rechts 72, 26871 Papenburg
END:VEVENT
BEGIN:VEVENT
DTSTAMP:20260422T192652
DTSTART;TZID=Europe/Berlin:20260723T193000
DTEND;TZID=Europe/Berlin:20260723T220000
UID:261211010P-20260723T193000@VHSPAPENBURG
SUMMARY:papenburg.photo (261211010P) 
LOCATION:vhs, Raum S 2.07, Hauptkanal rechts 72, 26871 Papenburg
END:VEVENT
END:VCALENDAR