BEGIN:VCALENDAR
VERSION:2.0
PRODID:https://www.kufer.de/kuferweb / DE
METHOD:PUBLISH
CALSCALE:GREGORIAN
X-WR-TIMEZONE:Europe/Berlin
BEGIN:VTIMEZONE
TZID:Europe/Berlin
X-LIC-LOCATION:Europe/Berlin
BEGIN:DAYLIGHT
TZOFFSETFROM:+0100
TZOFFSETTO:+0200
TZNAME:CEST
DTSTART:19700329T020000
RRULE:FREQ=YEARLY;INTERVAL=1;BYDAY=-1SU;BYMONTH=3
END:DAYLIGHT
BEGIN:STANDARD
TZOFFSETFROM:+0200
TZOFFSETTO:+0100
TZNAME:CET
DTSTART:19701025T030000
RRULE:FREQ=YEARLY;INTERVAL=1;BYDAY=-1SU;BYMONTH=10
END:STANDARD
END:VTIMEZONE
BEGIN:VEVENT
DTSTAMP:20260422T193345
DTSTART;TZID=Europe/Berlin:20260414T190000
DTEND;TZID=Europe/Berlin:20260414T211500
UID:261209080P-20260414T190000@VHSPAPENBURG
SUMMARY:Nähen für Anfänger:innen und leicht Fortgeschrittene - Am Abend - (261209080P) 
LOCATION:vhs, Raum S 2.06, Hauptkanal rechts 72, 26871 Papenburg
END:VEVENT
BEGIN:VEVENT
DTSTAMP:20260422T193345
DTSTART;TZID=Europe/Berlin:20260421T190000
DTEND;TZID=Europe/Berlin:20260421T211500
UID:261209080P-20260421T190000@VHSPAPENBURG
SUMMARY:Nähen für Anfänger:innen und leicht Fortgeschrittene - Am Abend - (261209080P) 
LOCATION:vhs, Raum S 2.06, Hauptkanal rechts 72, 26871 Papenburg
END:VEVENT
BEGIN:VEVENT
DTSTAMP:20260422T193345
DTSTART;TZID=Europe/Berlin:20260428T190000
DTEND;TZID=Europe/Berlin:20260428T211500
UID:261209080P-20260428T190000@VHSPAPENBURG
SUMMARY:Nähen für Anfänger:innen und leicht Fortgeschrittene - Am Abend - (261209080P) 
LOCATION:vhs, Raum S 2.06, Hauptkanal rechts 72, 26871 Papenburg
END:VEVENT
BEGIN:VEVENT
DTSTAMP:20260422T193345
DTSTART;TZID=Europe/Berlin:20260505T190000
DTEND;TZID=Europe/Berlin:20260505T211500
UID:261209080P-20260505T190000@VHSPAPENBURG
SUMMARY:Nähen für Anfänger:innen und leicht Fortgeschrittene - Am Abend - (261209080P) 
LOCATION:vhs, Raum S 2.06, Hauptkanal rechts 72, 26871 Papenburg
END:VEVENT
END:VCALENDAR