BEGIN:VCALENDAR
VERSION:2.0
PRODID:https://www.kufer.de/kuferweb / DE
METHOD:PUBLISH
CALSCALE:GREGORIAN
X-WR-TIMEZONE:Europe/Berlin
BEGIN:VTIMEZONE
TZID:Europe/Berlin
X-LIC-LOCATION:Europe/Berlin
BEGIN:DAYLIGHT
TZOFFSETFROM:+0100
TZOFFSETTO:+0200
TZNAME:CEST
DTSTART:19700329T020000
RRULE:FREQ=YEARLY;INTERVAL=1;BYDAY=-1SU;BYMONTH=3
END:DAYLIGHT
BEGIN:STANDARD
TZOFFSETFROM:+0200
TZOFFSETTO:+0100
TZNAME:CET
DTSTART:19701025T030000
RRULE:FREQ=YEARLY;INTERVAL=1;BYDAY=-1SU;BYMONTH=10
END:STANDARD
END:VTIMEZONE
BEGIN:VEVENT
DTSTAMP:20260423T015802
DTSTART;TZID=Europe/Berlin:20260618T190000
DTEND;TZID=Europe/Berlin:20260618T210000
UID:261207010P-20260618T190000@VHSPAPENBURG
SUMMARY:Kleine Sommerakademie NEU - in Kooperation mit vhs Leer - (261207010P) 
LOCATION:Nortmoor, Atelier BlickWinkel am Wald, Birkenstr. 9, , 
END:VEVENT
BEGIN:VEVENT
DTSTAMP:20260423T015802
DTSTART;TZID=Europe/Berlin:20260619T190000
DTEND;TZID=Europe/Berlin:20260619T210000
UID:261207010P-20260619T190000@VHSPAPENBURG
SUMMARY:Kleine Sommerakademie NEU - in Kooperation mit vhs Leer - (261207010P) 
LOCATION:Nortmoor, Atelier BlickWinkel am Wald, Birkenstr. 9, , 
END:VEVENT
BEGIN:VEVENT
DTSTAMP:20260423T015802
DTSTART;TZID=Europe/Berlin:20260620T100000
DTEND;TZID=Europe/Berlin:20260620T170000
UID:261207010P-20260620T100000@VHSPAPENBURG
SUMMARY:Kleine Sommerakademie NEU - in Kooperation mit vhs Leer - (261207010P) 
LOCATION:Nortmoor, Atelier BlickWinkel am Wald, Birkenstr. 9, , 
END:VEVENT
END:VCALENDAR