BEGIN:VCALENDAR
VERSION:2.0
PRODID:https://www.kufer.de/kuferweb / DE
METHOD:PUBLISH
CALSCALE:GREGORIAN
X-WR-TIMEZONE:Europe/Berlin
BEGIN:VTIMEZONE
TZID:Europe/Berlin
X-LIC-LOCATION:Europe/Berlin
BEGIN:DAYLIGHT
TZOFFSETFROM:+0100
TZOFFSETTO:+0200
TZNAME:CEST
DTSTART:19700329T020000
RRULE:FREQ=YEARLY;INTERVAL=1;BYDAY=-1SU;BYMONTH=3
END:DAYLIGHT
BEGIN:STANDARD
TZOFFSETFROM:+0200
TZOFFSETTO:+0100
TZNAME:CET
DTSTART:19701025T030000
RRULE:FREQ=YEARLY;INTERVAL=1;BYDAY=-1SU;BYMONTH=10
END:STANDARD
END:VTIMEZONE
BEGIN:VEVENT
DTSTAMP:20260422T210108
DTSTART;TZID=Europe/Berlin:20260508T173000
DTEND;TZID=Europe/Berlin:20260508T190000
UID:261205030P-20260508T173000@VHSPAPENBURG
SUMMARY:Orientalischer Bauchtanz für Frauen mit und ohne Vorkenntnisse(n) (261205030P) 
LOCATION:Sporthotel Papenburg, Barenbergstr. 75, 26871 Papenburg
END:VEVENT
BEGIN:VEVENT
DTSTAMP:20260422T210108
DTSTART;TZID=Europe/Berlin:20260522T173000
DTEND;TZID=Europe/Berlin:20260522T190000
UID:261205030P-20260522T173000@VHSPAPENBURG
SUMMARY:Orientalischer Bauchtanz für Frauen mit und ohne Vorkenntnisse(n) (261205030P) 
LOCATION:Sporthotel Papenburg, Barenbergstr. 75, 26871 Papenburg
END:VEVENT
BEGIN:VEVENT
DTSTAMP:20260422T210108
DTSTART;TZID=Europe/Berlin:20260529T173000
DTEND;TZID=Europe/Berlin:20260529T190000
UID:261205030P-20260529T173000@VHSPAPENBURG
SUMMARY:Orientalischer Bauchtanz für Frauen mit und ohne Vorkenntnisse(n) (261205030P) 
LOCATION:Sporthotel Papenburg, Barenbergstr. 75, 26871 Papenburg
END:VEVENT
BEGIN:VEVENT
DTSTAMP:20260422T210108
DTSTART;TZID=Europe/Berlin:20260605T173000
DTEND;TZID=Europe/Berlin:20260605T190000
UID:261205030P-20260605T173000@VHSPAPENBURG
SUMMARY:Orientalischer Bauchtanz für Frauen mit und ohne Vorkenntnisse(n) (261205030P) 
LOCATION:Sporthotel Papenburg, Barenbergstr. 75, 26871 Papenburg
END:VEVENT
BEGIN:VEVENT
DTSTAMP:20260422T210108
DTSTART;TZID=Europe/Berlin:20260612T173000
DTEND;TZID=Europe/Berlin:20260612T190000
UID:261205030P-20260612T173000@VHSPAPENBURG
SUMMARY:Orientalischer Bauchtanz für Frauen mit und ohne Vorkenntnisse(n) (261205030P) 
LOCATION:Sporthotel Papenburg, Barenbergstr. 75, 26871 Papenburg
END:VEVENT
BEGIN:VEVENT
DTSTAMP:20260422T210108
DTSTART;TZID=Europe/Berlin:20260619T173000
DTEND;TZID=Europe/Berlin:20260619T190000
UID:261205030P-20260619T173000@VHSPAPENBURG
SUMMARY:Orientalischer Bauchtanz für Frauen mit und ohne Vorkenntnisse(n) (261205030P) 
LOCATION:Sporthotel Papenburg, Barenbergstr. 75, 26871 Papenburg
END:VEVENT
BEGIN:VEVENT
DTSTAMP:20260422T210108
DTSTART;TZID=Europe/Berlin:20260626T173000
DTEND;TZID=Europe/Berlin:20260626T190000
UID:261205030P-20260626T173000@VHSPAPENBURG
SUMMARY:Orientalischer Bauchtanz für Frauen mit und ohne Vorkenntnisse(n) (261205030P) 
LOCATION:Sporthotel Papenburg, Barenbergstr. 75, 26871 Papenburg
END:VEVENT
END:VCALENDAR