BEGIN:VCALENDAR
VERSION:2.0
PRODID:https://www.kufer.de/kuferweb / DE
METHOD:PUBLISH
CALSCALE:GREGORIAN
X-WR-TIMEZONE:Europe/Berlin
BEGIN:VTIMEZONE
TZID:Europe/Berlin
X-LIC-LOCATION:Europe/Berlin
BEGIN:DAYLIGHT
TZOFFSETFROM:+0100
TZOFFSETTO:+0200
TZNAME:CEST
DTSTART:19700329T020000
RRULE:FREQ=YEARLY;INTERVAL=1;BYDAY=-1SU;BYMONTH=3
END:DAYLIGHT
BEGIN:STANDARD
TZOFFSETFROM:+0200
TZOFFSETTO:+0100
TZNAME:CET
DTSTART:19701025T030000
RRULE:FREQ=YEARLY;INTERVAL=1;BYDAY=-1SU;BYMONTH=10
END:STANDARD
END:VTIMEZONE
BEGIN:VEVENT
DTSTAMP:20260422T210702
DTSTART;TZID=Europe/Berlin:20260303T143000
DTEND;TZID=Europe/Berlin:20260303T160000
UID:261205020L-20260303T143000@VHSPAPENBURG
SUMMARY:Erlebnistanz - Tanzen ist Lebensfreude - (261205020L) 
LOCATION:Haus des Gastes, Vortragssaal, Erna-de-Vries-Platz 5, 49762 Lathen
END:VEVENT
BEGIN:VEVENT
DTSTAMP:20260422T210702
DTSTART;TZID=Europe/Berlin:20260317T143000
DTEND;TZID=Europe/Berlin:20260317T160000
UID:261205020L-20260317T143000@VHSPAPENBURG
SUMMARY:Erlebnistanz - Tanzen ist Lebensfreude - (261205020L) 
LOCATION:Haus des Gastes, Vortragssaal, Erna-de-Vries-Platz 5, 49762 Lathen
END:VEVENT
BEGIN:VEVENT
DTSTAMP:20260422T210702
DTSTART;TZID=Europe/Berlin:20260421T143000
DTEND;TZID=Europe/Berlin:20260421T160000
UID:261205020L-20260421T143000@VHSPAPENBURG
SUMMARY:Erlebnistanz - Tanzen ist Lebensfreude - (261205020L) 
LOCATION:Haus des Gastes, Vortragssaal, Erna-de-Vries-Platz 5, 49762 Lathen
END:VEVENT
BEGIN:VEVENT
DTSTAMP:20260422T210702
DTSTART;TZID=Europe/Berlin:20260428T143000
DTEND;TZID=Europe/Berlin:20260428T160000
UID:261205020L-20260428T143000@VHSPAPENBURG
SUMMARY:Erlebnistanz - Tanzen ist Lebensfreude - (261205020L) 
LOCATION:Haus des Gastes, Vortragssaal, Erna-de-Vries-Platz 5, 49762 Lathen
END:VEVENT
BEGIN:VEVENT
DTSTAMP:20260422T210702
DTSTART;TZID=Europe/Berlin:20260505T143000
DTEND;TZID=Europe/Berlin:20260505T160000
UID:261205020L-20260505T143000@VHSPAPENBURG
SUMMARY:Erlebnistanz - Tanzen ist Lebensfreude - (261205020L) 
LOCATION:Haus des Gastes, Vortragssaal, Erna-de-Vries-Platz 5, 49762 Lathen
END:VEVENT
BEGIN:VEVENT
DTSTAMP:20260422T210702
DTSTART;TZID=Europe/Berlin:20260519T143000
DTEND;TZID=Europe/Berlin:20260519T160000
UID:261205020L-20260519T143000@VHSPAPENBURG
SUMMARY:Erlebnistanz - Tanzen ist Lebensfreude - (261205020L) 
LOCATION:Haus des Gastes, Vortragssaal, Erna-de-Vries-Platz 5, 49762 Lathen
END:VEVENT
BEGIN:VEVENT
DTSTAMP:20260422T210702
DTSTART;TZID=Europe/Berlin:20260602T143000
DTEND;TZID=Europe/Berlin:20260602T160000
UID:261205020L-20260602T143000@VHSPAPENBURG
SUMMARY:Erlebnistanz - Tanzen ist Lebensfreude - (261205020L) 
LOCATION:Haus des Gastes, Vortragssaal, Erna-de-Vries-Platz 5, 49762 Lathen
END:VEVENT
BEGIN:VEVENT
DTSTAMP:20260422T210702
DTSTART;TZID=Europe/Berlin:20260616T143000
DTEND;TZID=Europe/Berlin:20260616T160000
UID:261205020L-20260616T143000@VHSPAPENBURG
SUMMARY:Erlebnistanz - Tanzen ist Lebensfreude - (261205020L) 
LOCATION:Haus des Gastes, Vortragssaal, Erna-de-Vries-Platz 5, 49762 Lathen
END:VEVENT
BEGIN:VEVENT
DTSTAMP:20260422T210702
DTSTART;TZID=Europe/Berlin:20260623T143000
DTEND;TZID=Europe/Berlin:20260623T160000
UID:261205020L-20260623T143000@VHSPAPENBURG
SUMMARY:Erlebnistanz - Tanzen ist Lebensfreude - (261205020L) 
LOCATION:Haus des Gastes, Vortragssaal, Erna-de-Vries-Platz 5, 49762 Lathen
END:VEVENT
BEGIN:VEVENT
DTSTAMP:20260422T210702
DTSTART;TZID=Europe/Berlin:20260630T143000
DTEND;TZID=Europe/Berlin:20260630T160000
UID:261205020L-20260630T143000@VHSPAPENBURG
SUMMARY:Erlebnistanz - Tanzen ist Lebensfreude - (261205020L) 
LOCATION:Haus des Gastes, Vortragssaal, Erna-de-Vries-Platz 5, 49762 Lathen
END:VEVENT
END:VCALENDAR