BEGIN:VCALENDAR
VERSION:2.0
PRODID:https://www.kufer.de/kuferweb / DE
METHOD:PUBLISH
CALSCALE:GREGORIAN
X-WR-TIMEZONE:Europe/Berlin
BEGIN:VTIMEZONE
TZID:Europe/Berlin
X-LIC-LOCATION:Europe/Berlin
BEGIN:DAYLIGHT
TZOFFSETFROM:+0100
TZOFFSETTO:+0200
TZNAME:CEST
DTSTART:19700329T020000
RRULE:FREQ=YEARLY;INTERVAL=1;BYDAY=-1SU;BYMONTH=3
END:DAYLIGHT
BEGIN:STANDARD
TZOFFSETFROM:+0200
TZOFFSETTO:+0100
TZNAME:CET
DTSTART:19701025T030000
RRULE:FREQ=YEARLY;INTERVAL=1;BYDAY=-1SU;BYMONTH=10
END:STANDARD
END:VTIMEZONE
BEGIN:VEVENT
DTSTAMP:20260422T210717
DTSTART;TZID=Europe/Berlin:20260418T090000
DTEND;TZID=Europe/Berlin:20260418T163000
UID:261105530P-20260418T090000@VHSPAPENBURG
SUMMARY:vhsConcept: Qualifizierung zum/zur Schulbegleiter:in (261105530P) 
LOCATION:vhs, Raum S 3.02, Hauptkanal rechts 72, 26871 Papenburg
END:VEVENT
BEGIN:VEVENT
DTSTAMP:20260422T210717
DTSTART;TZID=Europe/Berlin:20260425T090000
DTEND;TZID=Europe/Berlin:20260425T153000
UID:261105530P-20260425T090000@VHSPAPENBURG
SUMMARY:vhsConcept: Qualifizierung zum/zur Schulbegleiter:in (261105530P) 
LOCATION:vhs, Raum S 3.02, Hauptkanal rechts 72, 26871 Papenburg
END:VEVENT
BEGIN:VEVENT
DTSTAMP:20260422T210717
DTSTART;TZID=Europe/Berlin:20260530T090000
DTEND;TZID=Europe/Berlin:20260530T153000
UID:261105530P-20260530T090000@VHSPAPENBURG
SUMMARY:vhsConcept: Qualifizierung zum/zur Schulbegleiter:in (261105530P) 
LOCATION:vhs, Raum S 3.03, Hauptkanal rechts 72, 26871 Papenburg
END:VEVENT
BEGIN:VEVENT
DTSTAMP:20260422T210717
DTSTART;TZID=Europe/Berlin:20260620T090000
DTEND;TZID=Europe/Berlin:20260620T153000
UID:261105530P-20260620T090000@VHSPAPENBURG
SUMMARY:vhsConcept: Qualifizierung zum/zur Schulbegleiter:in (261105530P) 
LOCATION:vhs, Raum S 3.03, Hauptkanal rechts 72, 26871 Papenburg
END:VEVENT
BEGIN:VEVENT
DTSTAMP:20260422T210717
DTSTART;TZID=Europe/Berlin:20260822T090000
DTEND;TZID=Europe/Berlin:20260822T163000
UID:261105530P-20260822T090000@VHSPAPENBURG
SUMMARY:vhsConcept: Qualifizierung zum/zur Schulbegleiter:in (261105530P) 
LOCATION:vhs, Raum S 3.03, Hauptkanal rechts 72, 26871 Papenburg
END:VEVENT
BEGIN:VEVENT
DTSTAMP:20260422T210717
DTSTART;TZID=Europe/Berlin:20260905T090000
DTEND;TZID=Europe/Berlin:20260905T153000
UID:261105530P-20260905T090000@VHSPAPENBURG
SUMMARY:vhsConcept: Qualifizierung zum/zur Schulbegleiter:in (261105530P) 
LOCATION:vhs, Raum S 3.03, Hauptkanal rechts 72, 26871 Papenburg
END:VEVENT
BEGIN:VEVENT
DTSTAMP:20260422T210717
DTSTART;TZID=Europe/Berlin:20260919T090000
DTEND;TZID=Europe/Berlin:20260919T153000
UID:261105530P-20260919T090000@VHSPAPENBURG
SUMMARY:vhsConcept: Qualifizierung zum/zur Schulbegleiter:in (261105530P) 
LOCATION:vhs, Raum S 3.03, Hauptkanal rechts 72, 26871 Papenburg
END:VEVENT
BEGIN:VEVENT
DTSTAMP:20260422T210717
DTSTART;TZID=Europe/Berlin:20261107T090000
DTEND;TZID=Europe/Berlin:20261107T153000
UID:261105530P-20261107T090000@VHSPAPENBURG
SUMMARY:vhsConcept: Qualifizierung zum/zur Schulbegleiter:in (261105530P) 
LOCATION:vhs, Raum S 3.03, Hauptkanal rechts 72, 26871 Papenburg
END:VEVENT
BEGIN:VEVENT
DTSTAMP:20260422T210717
DTSTART;TZID=Europe/Berlin:20261121T090000
DTEND;TZID=Europe/Berlin:20261121T153000
UID:261105530P-20261121T090000@VHSPAPENBURG
SUMMARY:vhsConcept: Qualifizierung zum/zur Schulbegleiter:in (261105530P) 
LOCATION:vhs, Raum S 3.03, Hauptkanal rechts 72, 26871 Papenburg
END:VEVENT
BEGIN:VEVENT
DTSTAMP:20260422T210717
DTSTART;TZID=Europe/Berlin:20261205T090000
DTEND;TZID=Europe/Berlin:20261205T153000
UID:261105530P-20261205T090000@VHSPAPENBURG
SUMMARY:vhsConcept: Qualifizierung zum/zur Schulbegleiter:in (261105530P) 
LOCATION:vhs, Raum S 3.03, Hauptkanal rechts 72, 26871 Papenburg
END:VEVENT
BEGIN:VEVENT
DTSTAMP:20260422T210717
DTSTART;TZID=Europe/Berlin:20261212T090000
DTEND;TZID=Europe/Berlin:20261212T153000
UID:261105530P-20261212T090000@VHSPAPENBURG
SUMMARY:vhsConcept: Qualifizierung zum/zur Schulbegleiter:in (261105530P) 
LOCATION:vhs, Raum S 3.03, Hauptkanal rechts 72, 26871 Papenburg
END:VEVENT
BEGIN:VEVENT
DTSTAMP:20260422T210717
DTSTART;TZID=Europe/Berlin:20270116T090000
DTEND;TZID=Europe/Berlin:20270116T153000
UID:261105530P-20270116T090000@VHSPAPENBURG
SUMMARY:vhsConcept: Qualifizierung zum/zur Schulbegleiter:in (261105530P) 
LOCATION:vhs, Raum S 3.03, Hauptkanal rechts 72, 26871 Papenburg
END:VEVENT
BEGIN:VEVENT
DTSTAMP:20260422T210717
DTSTART;TZID=Europe/Berlin:20270206T090000
DTEND;TZID=Europe/Berlin:20270206T153000
UID:261105530P-20270206T090000@VHSPAPENBURG
SUMMARY:vhsConcept: Qualifizierung zum/zur Schulbegleiter:in (261105530P) 
LOCATION:vhs, Raum S 3.03, Hauptkanal rechts 72, 26871 Papenburg
END:VEVENT
BEGIN:VEVENT
DTSTAMP:20260422T210717
DTSTART;TZID=Europe/Berlin:20270220T090000
DTEND;TZID=Europe/Berlin:20270220T163000
UID:261105530P-20270220T090000@VHSPAPENBURG
SUMMARY:vhsConcept: Qualifizierung zum/zur Schulbegleiter:in (261105530P) 
LOCATION:vhs, Raum S 3.03, Hauptkanal rechts 72, 26871 Papenburg
END:VEVENT
BEGIN:VEVENT
DTSTAMP:20260422T210717
DTSTART;TZID=Europe/Berlin:20270306T090000
DTEND;TZID=Europe/Berlin:20270306T153000
UID:261105530P-20270306T090000@VHSPAPENBURG
SUMMARY:vhsConcept: Qualifizierung zum/zur Schulbegleiter:in (261105530P) 
LOCATION:vhs, Raum S 3.03, Hauptkanal rechts 72, 26871 Papenburg
END:VEVENT
BEGIN:VEVENT
DTSTAMP:20260422T210717
DTSTART;TZID=Europe/Berlin:20270313T090000
DTEND;TZID=Europe/Berlin:20270313T160000
UID:261105530P-20270313T090000@VHSPAPENBURG
SUMMARY:vhsConcept: Qualifizierung zum/zur Schulbegleiter:in (261105530P) 
LOCATION:vhs, Raum S 3.03, Hauptkanal rechts 72, 26871 Papenburg
END:VEVENT
END:VCALENDAR