BEGIN:VCALENDAR
VERSION:2.0
PRODID:https://www.kufer.de/kuferweb / DE
METHOD:PUBLISH
CALSCALE:GREGORIAN
X-WR-TIMEZONE:Europe/Berlin
BEGIN:VTIMEZONE
TZID:Europe/Berlin
X-LIC-LOCATION:Europe/Berlin
BEGIN:DAYLIGHT
TZOFFSETFROM:+0100
TZOFFSETTO:+0200
TZNAME:CEST
DTSTART:19700329T020000
RRULE:FREQ=YEARLY;INTERVAL=1;BYDAY=-1SU;BYMONTH=3
END:DAYLIGHT
BEGIN:STANDARD
TZOFFSETFROM:+0200
TZOFFSETTO:+0100
TZNAME:CET
DTSTART:19701025T030000
RRULE:FREQ=YEARLY;INTERVAL=1;BYDAY=-1SU;BYMONTH=10
END:STANDARD
END:VTIMEZONE
BEGIN:VEVENT
DTSTAMP:20260422T212849
DTSTART;TZID=Europe/Berlin:20260423T170000
DTEND;TZID=Europe/Berlin:20260423T193000
UID:261105189P-20260423T170000@VHSPAPENBURG
SUMMARY:Praxismentoring - Gefördert vom Niedersächsischen Kultusministerium - (261105189P) 
LOCATION:vhs, Raum S 3.01, Hauptkanal rechts 72, 26871 Papenburg
END:VEVENT
BEGIN:VEVENT
DTSTAMP:20260422T212849
DTSTART;TZID=Europe/Berlin:20260429T090000
DTEND;TZID=Europe/Berlin:20260429T163000
UID:261105189P-20260429T090000@VHSPAPENBURG
SUMMARY:Praxismentoring - Gefördert vom Niedersächsischen Kultusministerium - (261105189P) 
LOCATION:vhs, Raum S 3.01, Hauptkanal rechts 72, 26871 Papenburg
END:VEVENT
BEGIN:VEVENT
DTSTAMP:20260422T212849
DTSTART;TZID=Europe/Berlin:20260507T170000
DTEND;TZID=Europe/Berlin:20260507T193000
UID:261105189P-20260507T170000@VHSPAPENBURG
SUMMARY:Praxismentoring - Gefördert vom Niedersächsischen Kultusministerium - (261105189P) 
LOCATION:vhs, Raum S 3.01, Hauptkanal rechts 72, 26871 Papenburg
END:VEVENT
BEGIN:VEVENT
DTSTAMP:20260422T212849
DTSTART;TZID=Europe/Berlin:20260521T170000
DTEND;TZID=Europe/Berlin:20260521T190000
UID:261105189P-20260521T170000@VHSPAPENBURG
SUMMARY:Praxismentoring - Gefördert vom Niedersächsischen Kultusministerium - (261105189P) 
LOCATION:vhs, Raum S 3.01, Hauptkanal rechts 72, 26871 Papenburg
END:VEVENT
BEGIN:VEVENT
DTSTAMP:20260422T212849
DTSTART;TZID=Europe/Berlin:20260528T170000
DTEND;TZID=Europe/Berlin:20260528T193000
UID:261105189P-20260528T170000@VHSPAPENBURG
SUMMARY:Praxismentoring - Gefördert vom Niedersächsischen Kultusministerium - (261105189P) 
LOCATION:vhs, Raum S 3.01, Hauptkanal rechts 72, 26871 Papenburg
END:VEVENT
BEGIN:VEVENT
DTSTAMP:20260422T212849
DTSTART;TZID=Europe/Berlin:20260603T090000
DTEND;TZID=Europe/Berlin:20260603T130000
UID:261105189P-20260603T090000@VHSPAPENBURG
SUMMARY:Praxismentoring - Gefördert vom Niedersächsischen Kultusministerium - (261105189P) 
LOCATION:vhs, Raum S 3.01, Hauptkanal rechts 72, 26871 Papenburg
END:VEVENT
BEGIN:VEVENT
DTSTAMP:20260422T212849
DTSTART;TZID=Europe/Berlin:20260611T160000
DTEND;TZID=Europe/Berlin:20260611T193000
UID:261105189P-20260611T160000@VHSPAPENBURG
SUMMARY:Praxismentoring - Gefördert vom Niedersächsischen Kultusministerium - (261105189P) 
LOCATION:vhs, Raum S 3.01, Hauptkanal rechts 72, 26871 Papenburg
END:VEVENT
BEGIN:VEVENT
DTSTAMP:20260422T212849
DTSTART;TZID=Europe/Berlin:20260624T090000
DTEND;TZID=Europe/Berlin:20260624T160000
UID:261105189P-20260624T090000@VHSPAPENBURG
SUMMARY:Praxismentoring - Gefördert vom Niedersächsischen Kultusministerium - (261105189P) 
LOCATION:vhs, Raum S 3.01, Hauptkanal rechts 72, 26871 Papenburg
END:VEVENT
BEGIN:VEVENT
DTSTAMP:20260422T212849
DTSTART;TZID=Europe/Berlin:20260916T090000
DTEND;TZID=Europe/Berlin:20260916T163000
UID:261105189P-20260916T090000@VHSPAPENBURG
SUMMARY:Praxismentoring - Gefördert vom Niedersächsischen Kultusministerium - (261105189P) 
LOCATION:vhs, Raum S 3.01, Hauptkanal rechts 72, 26871 Papenburg
END:VEVENT
BEGIN:VEVENT
DTSTAMP:20260422T212849
DTSTART;TZID=Europe/Berlin:20261029T160000
DTEND;TZID=Europe/Berlin:20261029T193000
UID:261105189P-20261029T160000@VHSPAPENBURG
SUMMARY:Praxismentoring - Gefördert vom Niedersächsischen Kultusministerium - (261105189P) 
LOCATION:vhs, Raum S 3.01, Hauptkanal rechts 72, 26871 Papenburg
END:VEVENT
END:VCALENDAR