BEGIN:VCALENDAR
VERSION:2.0
PRODID:https://www.kufer.de/kuferweb / DE
METHOD:PUBLISH
CALSCALE:GREGORIAN
X-WR-TIMEZONE:Europe/Berlin
BEGIN:VTIMEZONE
TZID:Europe/Berlin
X-LIC-LOCATION:Europe/Berlin
BEGIN:DAYLIGHT
TZOFFSETFROM:+0100
TZOFFSETTO:+0200
TZNAME:CEST
DTSTART:19700329T020000
RRULE:FREQ=YEARLY;INTERVAL=1;BYDAY=-1SU;BYMONTH=3
END:DAYLIGHT
BEGIN:STANDARD
TZOFFSETFROM:+0200
TZOFFSETTO:+0100
TZNAME:CET
DTSTART:19701025T030000
RRULE:FREQ=YEARLY;INTERVAL=1;BYDAY=-1SU;BYMONTH=10
END:STANDARD
END:VTIMEZONE
BEGIN:VEVENT
DTSTAMP:20260423T001222
DTSTART;TZID=Europe/Berlin:20260610T140000
DTEND;TZID=Europe/Berlin:20260610T193000
UID:261105180P-20260610T140000@VHSPAPENBURG
SUMMARY:Vernetzungstagung Praxismentoring NEU - für Praxismentor:innen in der Kita - (261105180P) 
LOCATION:vhs, Raum V 1.06, Saal, Hauptkanal rechts 72, 26871 Papenburg
END:VEVENT
BEGIN:VEVENT
DTSTAMP:20260423T001222
DTSTART;TZID=Europe/Berlin:20260610T140000
DTEND;TZID=Europe/Berlin:20260610T193000
UID:261105180P-20260610T140000@VHSPAPENBURG
SUMMARY:Vernetzungstagung Praxismentoring NEU - für Praxismentor:innen in der Kita - (261105180P) 
LOCATION:vhs, Raum V 1.06, Saal, Hauptkanal rechts 72, 26871 Papenburg
END:VEVENT
BEGIN:VEVENT
DTSTAMP:20260423T001222
DTSTART;TZID=Europe/Berlin:20260610T140000
DTEND;TZID=Europe/Berlin:20260610T193000
UID:261105180P-20260610T140000@VHSPAPENBURG
SUMMARY:Vernetzungstagung Praxismentoring NEU - für Praxismentor:innen in der Kita - (261105180P) 
LOCATION:vhs, Raum V 1.06, Saal, Hauptkanal rechts 72, 26871 Papenburg
END:VEVENT
END:VCALENDAR