BEGIN:VCALENDAR
VERSION:2.0
PRODID:https://www.kufer.de/kuferweb / DE
METHOD:PUBLISH
CALSCALE:GREGORIAN
X-WR-TIMEZONE:Europe/Berlin
BEGIN:VTIMEZONE
TZID:Europe/Berlin
X-LIC-LOCATION:Europe/Berlin
BEGIN:DAYLIGHT
TZOFFSETFROM:+0100
TZOFFSETTO:+0200
TZNAME:CEST
DTSTART:19700329T020000
RRULE:FREQ=YEARLY;INTERVAL=1;BYDAY=-1SU;BYMONTH=3
END:DAYLIGHT
BEGIN:STANDARD
TZOFFSETFROM:+0200
TZOFFSETTO:+0100
TZNAME:CET
DTSTART:19701025T030000
RRULE:FREQ=YEARLY;INTERVAL=1;BYDAY=-1SU;BYMONTH=10
END:STANDARD
END:VTIMEZONE
BEGIN:VEVENT
DTSTAMP:20260422T194506
DTSTART;TZID=Europe/Berlin:20260623T190000
DTEND;TZID=Europe/Berlin:20260623T211500
UID:261104024P-20260623T190000@VHSPAPENBURG
SUMMARY:Konservieren der ersten Ernte - Kräuter, Blüten, Beeren - (261104024P) 
LOCATION:vhs, Raum K 1.02, Kochstudio, Hauptkanal rechts 72, 26871 Papenburg
END:VEVENT
BEGIN:VEVENT
DTSTAMP:20260422T194506
DTSTART;TZID=Europe/Berlin:20260630T190000
DTEND;TZID=Europe/Berlin:20260630T211500
UID:261104024P-20260630T190000@VHSPAPENBURG
SUMMARY:Konservieren der ersten Ernte - Kräuter, Blüten, Beeren - (261104024P) 
LOCATION:vhs, Raum K 1.02, Kochstudio, Hauptkanal rechts 72, 26871 Papenburg
END:VEVENT
BEGIN:VEVENT
DTSTAMP:20260422T194506
DTSTART;TZID=Europe/Berlin:20260707T190000
DTEND;TZID=Europe/Berlin:20260707T211500
UID:261104024P-20260707T190000@VHSPAPENBURG
SUMMARY:Konservieren der ersten Ernte - Kräuter, Blüten, Beeren - (261104024P) 
LOCATION:vhs, Raum K 1.02, Kochstudio, Hauptkanal rechts 72, 26871 Papenburg
END:VEVENT
END:VCALENDAR